Workbook

Sheet Overview Dashboard
A1: AFTERCARE BEATS — OVERVIEW DASHBOARD · 341 active youth · 15 chapters · Pulse 2026 · All numbers AUTO-UPDATE when chapter tabs are edited
A3: YOUTH PULSE 2026 — Auto-updating from chapter tabs (edit any tab → dashboard updates)
A4: Total youth | B4: Male | C4: Female | D4: Studying | E4: Working | F4: Study + Work | G4: Looking for job | H4: Not engaged
A5: =COUNTIF('Ahmedabad'!A:A,"B-1*")+COUNTIF('Bangalore'!A:A,"B-1*")+COUNTIF('Chandigarh'!A:A,"B-1*")+COUNTIF('Chennai'!A:A,"B-1*")+COUNTIF('Cochin'!A:A,"B-1*")+COUNTIF('Coimbatore'!A:A,"B-1*")+COUNTIF('Delhi'!A:A,"B-1*")+COUNTIF('Hyderabad'!A:A,"B-1*")+COUNTIF('Lucknow'!A:A,"B-1*")+COUNTIF('Mumbai'!A:A,"B-1*")+COUNTIF('Mysore'!A:A,"B-1*")+COUNTIF('Nagpur'!A:A,"B-1*")+COUNTIF('Pune'!A:A,"B-1*")+COUNTIF('Trivandrum'!A:A,"B-1*")+COUNTIF('Vijayawada'!A:A,"B-1*") | B5: =COUNTIF('Ahmedabad'!C:C,"Male")+COUNTIF('Bangalore'!C:C,"Male")+COUNTIF('Chandigarh'!C:C,"Male")+COUNTIF('Chennai'!C:C,"Male")+COUNTIF('Cochin'!C:C,"Male")+COUNTIF('Coimbatore'!C:C,"Male")+COUNTIF('Delhi'!C:C,"Male")+COUNTIF('Hyderabad'!C:C,"Male")+COUNTIF('Lucknow'!C:C,"Male")+COUNTIF('Mumbai'!C:C,"Male")+COUNTIF('Mysore'!C:C,"Male")+COUNTIF('Nagpur'!C:C,"Male")+COUNTIF('Pune'!C:C,"Male")+COUNTIF('Trivandrum'!C:C,"Male")+COUNTIF('Vijayawada'!C:C,"Male") | C5: =COUNTIF('Ahmedabad'!C:C,"Female")+COUNTIF('Bangalore'!C:C,"Female")+COUNTIF('Chandigarh'!C:C,"Female")+COUNTIF('Chennai'!C:C,"Female")+COUNTIF('Cochin'!C:C,"Female")+COUNTIF('Coimbatore'!C:C,"Female")+COUNTIF('Delhi'!C:C,"Female")+COUNTIF('Hyderabad'!C:C,"Female")+COUNTIF('Lucknow'!C:C,"Female")+COUNTIF('Mumbai'!C:C,"Female")+COUNTIF('Mysore'!C:C,"Female")+COUNTIF('Nagpur'!C:C,"Female")+COUNTIF('Pune'!C:C,"Female")+COUNTIF('Trivandrum'!C:C,"Female")+COUNTIF('Vijayawada'!C:C,"Female") | D5: =COUNTIF('Ahmedabad'!G:G,"Studying")+COUNTIF('Bangalore'!G:G,"Studying")+COUNTIF('Chandigarh'!G:G,"Studying")+COUNTIF('Chennai'!G:G,"Studying")+COUNTIF('Cochin'!G:G,"Studying")+COUNTIF('Coimbatore'!G:G,"Studying")+COUNTIF('Delhi'!G:G,"Studying")+COUNTIF('Hyderabad'!G:G,"Studying")+COUNTIF('Lucknow'!G:G,"Studying")+COUNTIF('Mumbai'!G:G,"Studying")+COUNTIF('Mysore'!G:G,"Studying")+COUNTIF('Nagpur'!G:G,"Studying")+COUNTIF('Pune'!G:G,"Studying")+COUNTIF('Trivandrum'!G:G,"Studying")+COUNTIF('Vijayawada'!G:G,"Studying") | E5: =COUNTIF('Ahmedabad'!G:G,"Working")+COUNTIF('Bangalore'!G:G,"Working")+COUNTIF('Chandigarh'!G:G,"Working")+COUNTIF('Chennai'!G:G,"Working")+COUNTIF('Cochin'!G:G,"Working")+COUNTIF('Coimbatore'!G:G,"Working")+COUNTIF('Delhi'!G:G,"Working")+COUNTIF('Hyderabad'!G:G,"Working")+COUNTIF('Lucknow'!G:G,"Working")+COUNTIF('Mumbai'!G:G,"Working")+COUNTIF('Mysore'!G:G,"Working")+COUNTIF('Nagpur'!G:G,"Working")+COUNTIF('Pune'!G:G,"Working")+COUNTIF('Trivandrum'!G:G,"Working")+COUNTIF('Vijayawada'!G:G,"Working") | F5: =COUNTIF('Ahmedabad'!G:G,"Studying and working")+COUNTIF('Bangalore'!G:G,"Studying and working")+COUNTIF('Chandigarh'!G:G,"Studying and working")+COUNTIF('Chennai'!G:G,"Studying and working")+COUNTIF('Cochin'!G:G,"Studying and working")+COUNTIF('Coimbatore'!G:G,"Studying and working")+COUNTIF('Delhi'!G:G,"Studying and working")+COUNTIF('Hyderabad'!G:G,"Studying and working")+COUNTIF('Lucknow'!G:G,"Studying and working")+COUNTIF('Mumbai'!G:G,"Studying and working")+COUNTIF('Mysore'!G:G,"Studying and working")+COUNTIF('Nagpur'!G:G,"Studying and working")+COUNTIF('Pune'!G:G,"Studying and working")+COUNTIF('Trivandrum'!G:G,"Studying and working")+COUNTIF('Vijayawada'!G:G,"Studying and working") | G5: =COUNTIF('Ahmedabad'!G:G,"Looking for a job")+COUNTIF('Bangalore'!G:G,"Looking for a job")+COUNTIF('Chandigarh'!G:G,"Looking for a job")+COUNTIF('Chennai'!G:G,"Looking for a job")+COUNTIF('Cochin'!G:G,"Looking for a job")+COUNTIF('Coimbatore'!G:G,"Looking for a job")+COUNTIF('Delhi'!G:G,"Looking for a job")+COUNTIF('Hyderabad'!G:G,"Looking for a job")+COUNTIF('Lucknow'!G:G,"Looking for a job")+COUNTIF('Mumbai'!G:G,"Looking for a job")+COUNTIF('Mysore'!G:G,"Looking for a job")+COUNTIF('Nagpur'!G:G,"Looking for a job")+COUNTIF('Pune'!G:G,"Looking for a job")+COUNTIF('Trivandrum'!G:G,"Looking for a job")+COUNTIF('Vijayawada'!G:G,"Looking for a job") | H5: =COUNTIF('Ahmedabad'!G:G,"Not engaged")+COUNTIF('Bangalore'!G:G,"Not engaged")+COUNTIF('Chandigarh'!G:G,"Not engaged")+COUNTIF('Chennai'!G:G,"Not engaged")+COUNTIF('Cochin'!G:G,"Not engaged")+COUNTIF('Coimbatore'!G:G,"Not engaged")+COUNTIF('Delhi'!G:G,"Not engaged")+COUNTIF('Hyderabad'!G:G,"Not engaged")+COUNTIF('Lucknow'!G:G,"Not engaged")+COUNTIF('Mumbai'!G:G,"Not engaged")+COUNTIF('Mysore'!G:G,"Not engaged")+COUNTIF('Nagpur'!G:G,"Not engaged")+COUNTIF('Pune'!G:G,"Not engaged")+COUNTIF('Trivandrum'!G:G,"Not engaged")+COUNTIF('Vijayawada'!G:G,"Not engaged")
A6: Auto-count from all tabs | B6: Auto from Gender col | C6: Auto from Gender col | D6: Auto from Status col | E6: Auto from Status col | F6: Auto | G6: Auto | H6: Auto
A8: CHAPTER-WISE DATA — All numbers pull LIVE from chapter tabs · Edit gender or status in any tab → this updates · A→Z
A9: Chapter | B9: Gender | D9: Current status — auto from chapter tabs | J9: Annual budget FY 26-27 — auto from chapter tabs | Q9: Wingman mapping | S9: Age breakdown (26+ = 26-28 & 28+)
A10: Chapter | B10: Male | C10: Female | D10: n | E10: Studying | F10: Working | G10: Both | H10: Looking | I10: Not eng. | J10: Sch (n) | K10: Scholarship (Rs) | L10: Hous (n) | M10: Housing (Rs) | N10: Stip (n) | O10: Stipend (Rs) | P10: Total budget (Rs) | Q10: Wingman mapped | R10: % mapped | S10: 18–21 | T10: 22–25 | U10: 26+
A11: Ahmedabad | B11: =COUNTIF('Ahmedabad'!C:C,"Male") | C11: =COUNTIF('Ahmedabad'!C:C,"Female") | D11: =COUNTIF('Ahmedabad'!A:A,"B-1*") | E11: =COUNTIF('Ahmedabad'!G:G,"Studying") | F11: =COUNTIF('Ahmedabad'!G:G,"Working") | G11: =COUNTIF('Ahmedabad'!G:G,"Studying and working") | H11: =COUNTIF('Ahmedabad'!G:G,"Looking for a job") | I11: =COUNTIF('Ahmedabad'!G:G,"Not engaged") | J11: =COUNTIF('Ahmedabad'!N:N,">0") | K11: =SUMIF('Ahmedabad'!N:N,">0") | L11: =COUNTIF('Ahmedabad'!O:O,">0") | M11: =SUMIF('Ahmedabad'!O:O,">0") | N11: =COUNTIF('Ahmedabad'!P:P,">0") | O11: =SUMIF('Ahmedabad'!P:P,">0") | P11: =SUMIF('Ahmedabad'!N:N,">0")+SUMIF('Ahmedabad'!O:O,">0")+SUMIF('Ahmedabad'!P:P,">0") | Q11: =COUNTIFS('Ahmedabad'!A:A,"B-1*",'Ahmedabad'!S:S,"<>") | R11: =IFERROR(Q11/D11,0) | S11: 1 | T11: 6 | U11: 6
A12: Bangalore | B12: =COUNTIF('Bangalore'!C:C,"Male") | C12: =COUNTIF('Bangalore'!C:C,"Female") | D12: =COUNTIF('Bangalore'!A:A,"B-1*") | E12: =COUNTIF('Bangalore'!G:G,"Studying") | F12: =COUNTIF('Bangalore'!G:G,"Working") | G12: =COUNTIF('Bangalore'!G:G,"Studying and working") | H12: =COUNTIF('Bangalore'!G:G,"Looking for a job") | I12: =COUNTIF('Bangalore'!G:G,"Not engaged") | J12: =COUNTIF('Bangalore'!N:N,">0") | K12: =SUMIF('Bangalore'!N:N,">0") | L12: =COUNTIF('Bangalore'!O:O,">0") | M12: =SUMIF('Bangalore'!O:O,">0") | N12: =COUNTIF('Bangalore'!P:P,">0") | O12: =SUMIF('Bangalore'!P:P,">0") | P12: =SUMIF('Bangalore'!N:N,">0")+SUMIF('Bangalore'!O:O,">0")+SUMIF('Bangalore'!P:P,">0") | Q12: =COUNTIFS('Bangalore'!A:A,"B-1*",'Bangalore'!S:S,"<>") | R12: =IFERROR(Q12/D12,0) | S12: 7 | T12: 30 | U12: 28
A13: Chandigarh | B13: =COUNTIF('Chandigarh'!C:C,"Male") | C13: =COUNTIF('Chandigarh'!C:C,"Female") | D13: =COUNTIF('Chandigarh'!A:A,"B-1*") | E13: =COUNTIF('Chandigarh'!G:G,"Studying") | F13: =COUNTIF('Chandigarh'!G:G,"Working") | G13: =COUNTIF('Chandigarh'!G:G,"Studying and working") | H13: =COUNTIF('Chandigarh'!G:G,"Looking for a job") | I13: =COUNTIF('Chandigarh'!G:G,"Not engaged") | J13: =COUNTIF('Chandigarh'!N:N,">0") | K13: =SUMIF('Chandigarh'!N:N,">0") | L13: =COUNTIF('Chandigarh'!O:O,">0") | M13: =SUMIF('Chandigarh'!O:O,">0") | N13: =COUNTIF('Chandigarh'!P:P,">0") | O13: =SUMIF('Chandigarh'!P:P,">0") | P13: =SUMIF('Chandigarh'!N:N,">0")+SUMIF('Chandigarh'!O:O,">0")+SUMIF('Chandigarh'!P:P,">0") | Q13: =COUNTIFS('Chandigarh'!A:A,"B-1*",'Chandigarh'!S:S,"<>") | R13: =IFERROR(Q13/D13,0) | S13: 0 | T13: 4 | U13: 4
A14: Chennai | B14: =COUNTIF('Chennai'!C:C,"Male") | C14: =COUNTIF('Chennai'!C:C,"Female") | D14: =COUNTIF('Chennai'!A:A,"B-1*") | E14: =COUNTIF('Chennai'!G:G,"Studying") | F14: =COUNTIF('Chennai'!G:G,"Working") | G14: =COUNTIF('Chennai'!G:G,"Studying and working") | H14: =COUNTIF('Chennai'!G:G,"Looking for a job") | I14: =COUNTIF('Chennai'!G:G,"Not engaged") | J14: =COUNTIF('Chennai'!N:N,">0") | K14: =SUMIF('Chennai'!N:N,">0") | L14: =COUNTIF('Chennai'!O:O,">0") | M14: =SUMIF('Chennai'!O:O,">0") | N14: =COUNTIF('Chennai'!P:P,">0") | O14: =SUMIF('Chennai'!P:P,">0") | P14: =SUMIF('Chennai'!N:N,">0")+SUMIF('Chennai'!O:O,">0")+SUMIF('Chennai'!P:P,">0") | Q14: =COUNTIFS('Chennai'!A:A,"B-1*",'Chennai'!S:S,"<>") | R14: =IFERROR(Q14/D14,0) | S14: 2 | T14: 20 | U14: 16
A15: Cochin | B15: =COUNTIF('Cochin'!C:C,"Male") | C15: =COUNTIF('Cochin'!C:C,"Female") | D15: =COUNTIF('Cochin'!A:A,"B-1*") | E15: =COUNTIF('Cochin'!G:G,"Studying") | F15: =COUNTIF('Cochin'!G:G,"Working") | G15: =COUNTIF('Cochin'!G:G,"Studying and working") | H15: =COUNTIF('Cochin'!G:G,"Looking for a job") | I15: =COUNTIF('Cochin'!G:G,"Not engaged") | J15: =COUNTIF('Cochin'!N:N,">0") | K15: =SUMIF('Cochin'!N:N,">0") | L15: =COUNTIF('Cochin'!O:O,">0") | M15: =SUMIF('Cochin'!O:O,">0") | N15: =COUNTIF('Cochin'!P:P,">0") | O15: =SUMIF('Cochin'!P:P,">0") | P15: =SUMIF('Cochin'!N:N,">0")+SUMIF('Cochin'!O:O,">0")+SUMIF('Cochin'!P:P,">0") | Q15: =COUNTIFS('Cochin'!A:A,"B-1*",'Cochin'!S:S,"<>") | R15: =IFERROR(Q15/D15,0) | S15: 6 | T15: 22 | U15: 9
A16: Coimbatore | B16: =COUNTIF('Coimbatore'!C:C,"Male") | C16: =COUNTIF('Coimbatore'!C:C,"Female") | D16: =COUNTIF('Coimbatore'!A:A,"B-1*") | E16: =COUNTIF('Coimbatore'!G:G,"Studying") | F16: =COUNTIF('Coimbatore'!G:G,"Working") | G16: =COUNTIF('Coimbatore'!G:G,"Studying and working") | H16: =COUNTIF('Coimbatore'!G:G,"Looking for a job") | I16: =COUNTIF('Coimbatore'!G:G,"Not engaged") | J16: =COUNTIF('Coimbatore'!N:N,">0") | K16: =SUMIF('Coimbatore'!N:N,">0") | L16: =COUNTIF('Coimbatore'!O:O,">0") | M16: =SUMIF('Coimbatore'!O:O,">0") | N16: =COUNTIF('Coimbatore'!P:P,">0") | O16: =SUMIF('Coimbatore'!P:P,">0") | P16: =SUMIF('Coimbatore'!N:N,">0")+SUMIF('Coimbatore'!O:O,">0")+SUMIF('Coimbatore'!P:P,">0") | Q16: =COUNTIFS('Coimbatore'!A:A,"B-1*",'Coimbatore'!S:S,"<>") | R16: =IFERROR(Q16/D16,0) | S16: 3 | T16: 8 | U16: 1
A17: Delhi | B17: =COUNTIF('Delhi'!C:C,"Male") | C17: =COUNTIF('Delhi'!C:C,"Female") | D17: =COUNTIF('Delhi'!A:A,"B-1*") | E17: =COUNTIF('Delhi'!G:G,"Studying") | F17: =COUNTIF('Delhi'!G:G,"Working") | G17: =COUNTIF('Delhi'!G:G,"Studying and working") | H17: =COUNTIF('Delhi'!G:G,"Looking for a job") | I17: =COUNTIF('Delhi'!G:G,"Not engaged") | J17: =COUNTIF('Delhi'!N:N,">0") | K17: =SUMIF('Delhi'!N:N,">0") | L17: =COUNTIF('Delhi'!O:O,">0") | M17: =SUMIF('Delhi'!O:O,">0") | N17: =COUNTIF('Delhi'!P:P,">0") | O17: =SUMIF('Delhi'!P:P,">0") | P17: =SUMIF('Delhi'!N:N,">0")+SUMIF('Delhi'!O:O,">0")+SUMIF('Delhi'!P:P,">0") | Q17: =COUNTIFS('Delhi'!A:A,"B-1*",'Delhi'!S:S,"<>") | R17: =IFERROR(Q17/D17,0) | S17: 8 | T17: 23 | U17: 30
A18: Hyderabad | B18: =COUNTIF('Hyderabad'!C:C,"Male") | C18: =COUNTIF('Hyderabad'!C:C,"Female") | D18: =COUNTIF('Hyderabad'!A:A,"B-1*") | E18: =COUNTIF('Hyderabad'!G:G,"Studying") | F18: =COUNTIF('Hyderabad'!G:G,"Working") | G18: =COUNTIF('Hyderabad'!G:G,"Studying and working") | H18: =COUNTIF('Hyderabad'!G:G,"Looking for a job") | I18: =COUNTIF('Hyderabad'!G:G,"Not engaged") | J18: =COUNTIF('Hyderabad'!N:N,">0") | K18: =SUMIF('Hyderabad'!N:N,">0") | L18: =COUNTIF('Hyderabad'!O:O,">0") | M18: =SUMIF('Hyderabad'!O:O,">0") | N18: =COUNTIF('Hyderabad'!P:P,">0") | O18: =SUMIF('Hyderabad'!P:P,">0") | P18: =SUMIF('Hyderabad'!N:N,">0")+SUMIF('Hyderabad'!O:O,">0")+SUMIF('Hyderabad'!P:P,">0") | Q18: =COUNTIFS('Hyderabad'!A:A,"B-1*",'Hyderabad'!S:S,"<>") | R18: =IFERROR(Q18/D18,0) | S18: 1 | T18: 4 | U18: 0
A19: Lucknow | B19: =COUNTIF('Lucknow'!C:C,"Male") | C19: =COUNTIF('Lucknow'!C:C,"Female") | D19: =COUNTIF('Lucknow'!A:A,"B-1*") | E19: =COUNTIF('Lucknow'!G:G,"Studying") | F19: =COUNTIF('Lucknow'!G:G,"Working") | G19: =COUNTIF('Lucknow'!G:G,"Studying and working") | H19: =COUNTIF('Lucknow'!G:G,"Looking for a job") | I19: =COUNTIF('Lucknow'!G:G,"Not engaged") | J19: =COUNTIF('Lucknow'!N:N,">0") | K19: =SUMIF('Lucknow'!N:N,">0") | L19: =COUNTIF('Lucknow'!O:O,">0") | M19: =SUMIF('Lucknow'!O:O,">0") | N19: =COUNTIF('Lucknow'!P:P,">0") | O19: =SUMIF('Lucknow'!P:P,">0") | P19: =SUMIF('Lucknow'!N:N,">0")+SUMIF('Lucknow'!O:O,">0")+SUMIF('Lucknow'!P:P,">0") | Q19: =COUNTIFS('Lucknow'!A:A,"B-1*",'Lucknow'!S:S,"<>") | R19: =IFERROR(Q19/D19,0) | S19: 5 | T19: 15 | U19: 9
A20: Mumbai | B20: =COUNTIF('Mumbai'!C:C,"Male") | C20: =COUNTIF('Mumbai'!C:C,"Female") | D20: =COUNTIF('Mumbai'!A:A,"B-1*") | E20: =COUNTIF('Mumbai'!G:G,"Studying") | F20: =COUNTIF('Mumbai'!G:G,"Working") | G20: =COUNTIF('Mumbai'!G:G,"Studying and working") | H20: =COUNTIF('Mumbai'!G:G,"Looking for a job") | I20: =COUNTIF('Mumbai'!G:G,"Not engaged") | J20: =COUNTIF('Mumbai'!N:N,">0") | K20: =SUMIF('Mumbai'!N:N,">0") | L20: =COUNTIF('Mumbai'!O:O,">0") | M20: =SUMIF('Mumbai'!O:O,">0") | N20: =COUNTIF('Mumbai'!P:P,">0") | O20: =SUMIF('Mumbai'!P:P,">0") | P20: =SUMIF('Mumbai'!N:N,">0")+SUMIF('Mumbai'!O:O,">0")+SUMIF('Mumbai'!P:P,">0") | Q20: =COUNTIFS('Mumbai'!A:A,"B-1*",'Mumbai'!S:S,"<>") | R20: =IFERROR(Q20/D20,0) | S20: 4 | T20: 12 | U20: 4
A21: Mysore | B21: =COUNTIF('Mysore'!C:C,"Male") | C21: =COUNTIF('Mysore'!C:C,"Female") | D21: =COUNTIF('Mysore'!A:A,"B-1*") | E21: =COUNTIF('Mysore'!G:G,"Studying") | F21: =COUNTIF('Mysore'!G:G,"Working") | G21: =COUNTIF('Mysore'!G:G,"Studying and working") | H21: =COUNTIF('Mysore'!G:G,"Looking for a job") | I21: =COUNTIF('Mysore'!G:G,"Not engaged") | J21: =COUNTIF('Mysore'!N:N,">0") | K21: =SUMIF('Mysore'!N:N,">0") | L21: =COUNTIF('Mysore'!O:O,">0") | M21: =SUMIF('Mysore'!O:O,">0") | N21: =COUNTIF('Mysore'!P:P,">0") | O21: =SUMIF('Mysore'!P:P,">0") | P21: =SUMIF('Mysore'!N:N,">0")+SUMIF('Mysore'!O:O,">0")+SUMIF('Mysore'!P:P,">0") | Q21: =COUNTIFS('Mysore'!A:A,"B-1*",'Mysore'!S:S,"<>") | R21: =IFERROR(Q21/D21,0) | S21: 1 | T21: 9 | U21: 0
A22: Nagpur | B22: =COUNTIF('Nagpur'!C:C,"Male") | C22: =COUNTIF('Nagpur'!C:C,"Female") | D22: =COUNTIF('Nagpur'!A:A,"B-1*") | E22: =COUNTIF('Nagpur'!G:G,"Studying") | F22: =COUNTIF('Nagpur'!G:G,"Working") | G22: =COUNTIF('Nagpur'!G:G,"Studying and working") | H22: =COUNTIF('Nagpur'!G:G,"Looking for a job") | I22: =COUNTIF('Nagpur'!G:G,"Not engaged") | J22: =COUNTIF('Nagpur'!N:N,">0") | K22: =SUMIF('Nagpur'!N:N,">0") | L22: =COUNTIF('Nagpur'!O:O,">0") | M22: =SUMIF('Nagpur'!O:O,">0") | N22: =COUNTIF('Nagpur'!P:P,">0") | O22: =SUMIF('Nagpur'!P:P,">0") | P22: =SUMIF('Nagpur'!N:N,">0")+SUMIF('Nagpur'!O:O,">0")+SUMIF('Nagpur'!P:P,">0") | Q22: =COUNTIFS('Nagpur'!A:A,"B-1*",'Nagpur'!S:S,"<>") | R22: =IFERROR(Q22/D22,0) | S22: 1 | T22: 3 | U22: 2
A23: Pune | B23: =COUNTIF('Pune'!C:C,"Male") | C23: =COUNTIF('Pune'!C:C,"Female") | D23: =COUNTIF('Pune'!A:A,"B-1*") | E23: =COUNTIF('Pune'!G:G,"Studying") | F23: =COUNTIF('Pune'!G:G,"Working") | G23: =COUNTIF('Pune'!G:G,"Studying and working") | H23: =COUNTIF('Pune'!G:G,"Looking for a job") | I23: =COUNTIF('Pune'!G:G,"Not engaged") | J23: =COUNTIF('Pune'!N:N,">0") | K23: =SUMIF('Pune'!N:N,">0") | L23: =COUNTIF('Pune'!O:O,">0") | M23: =SUMIF('Pune'!O:O,">0") | N23: =COUNTIF('Pune'!P:P,">0") | O23: =SUMIF('Pune'!P:P,">0") | P23: =SUMIF('Pune'!N:N,">0")+SUMIF('Pune'!O:O,">0")+SUMIF('Pune'!P:P,">0") | Q23: =COUNTIFS('Pune'!A:A,"B-1*",'Pune'!S:S,"<>") | R23: =IFERROR(Q23/D23,0) | S23: 0 | T23: 3 | U23: 4
A24: Trivandrum | B24: =COUNTIF('Trivandrum'!C:C,"Male") | C24: =COUNTIF('Trivandrum'!C:C,"Female") | D24: =COUNTIF('Trivandrum'!A:A,"B-1*") | E24: =COUNTIF('Trivandrum'!G:G,"Studying") | F24: =COUNTIF('Trivandrum'!G:G,"Working") | G24: =COUNTIF('Trivandrum'!G:G,"Studying and working") | H24: =COUNTIF('Trivandrum'!G:G,"Looking for a job") | I24: =COUNTIF('Trivandrum'!G:G,"Not engaged") | J24: =COUNTIF('Trivandrum'!N:N,">0") | K24: =SUMIF('Trivandrum'!N:N,">0") | L24: =COUNTIF('Trivandrum'!O:O,">0") | M24: =SUMIF('Trivandrum'!O:O,">0") | N24: =COUNTIF('Trivandrum'!P:P,">0") | O24: =SUMIF('Trivandrum'!P:P,">0") | P24: =SUMIF('Trivandrum'!N:N,">0")+SUMIF('Trivandrum'!O:O,">0")+SUMIF('Trivandrum'!P:P,">0") | Q24: =COUNTIFS('Trivandrum'!A:A,"B-1*",'Trivandrum'!S:S,"<>") | R24: =IFERROR(Q24/D24,0) | S24: 5 | T24: 14 | U24: 1
A25: Vijayawada | B25: =COUNTIF('Vijayawada'!C:C,"Male") | C25: =COUNTIF('Vijayawada'!C:C,"Female") | D25: =COUNTIF('Vijayawada'!A:A,"B-1*") | E25: =COUNTIF('Vijayawada'!G:G,"Studying") | F25: =COUNTIF('Vijayawada'!G:G,"Working") | G25: =COUNTIF('Vijayawada'!G:G,"Studying and working") | H25: =COUNTIF('Vijayawada'!G:G,"Looking for a job") | I25: =COUNTIF('Vijayawada'!G:G,"Not engaged") | J25: =COUNTIF('Vijayawada'!N:N,">0") | K25: =SUMIF('Vijayawada'!N:N,">0") | L25: =COUNTIF('Vijayawada'!O:O,">0") | M25: =SUMIF('Vijayawada'!O:O,">0") | N25: =COUNTIF('Vijayawada'!P:P,">0") | O25: =SUMIF('Vijayawada'!P:P,">0") | P25: =SUMIF('Vijayawada'!N:N,">0")+SUMIF('Vijayawada'!O:O,">0")+SUMIF('Vijayawada'!P:P,">0") | Q25: =COUNTIFS('Vijayawada'!A:A,"B-1*",'Vijayawada'!S:S,"<>") | R25: =IFERROR(Q25/D25,0) | S25: 2 | T25: 6 | U25: 2
A26: GRAND TOTAL | B26: =SUM(B11:B25) | C26: =SUM(C11:C25) | D26: =SUM(D11:D25) | E26: =SUM(E11:E25) | F26: =SUM(F11:F25) | G26: =SUM(G11:G25) | H26: =SUM(H11:H25) | I26: =SUM(I11:I25) | ... Q26: =SUM(Q11:Q25) | R26: =IFERROR(Q26/D26,0) | S26: 46 | T26: 179 | U26: 116
A28: BUDGET BREAKDOWN — Annual FY 26-27 · Housing & Stipend annualised from Pulse 'till when' field
A29: Type | B29: How calculated | C29: Youth with amount | D29: Annual Rs | E29: % of total | F29: Per-youth avg
A30: Scholarship | B30: Academic fees — actual total, not monthly | C30: =COUNTIFS('Ahmedabad'!A:A,"B-1*",'Ahmedabad'!N:N,">0")+COUNTIFS('Bangalore'!A:A,"B-1*",'Bangalore'!N:N,">0")+COUNTIFS('Chandigarh'!A:A,"B-1*",'Chandigarh'!N:N,">0")+COUNTIFS('Chennai'!A:A,"B-1*",'Chennai'!N:N,">0")+COUNTIFS('Cochin'!A:A,"B-1*",'Cochin'!N:N,">0")+COUNTIFS('Coimbatore'!A:A,"B-1*",'Coimbatore'!N:N,">0")+COUNTIFS('Delhi'!A:A,"B-1*",'Delhi'!N:N,">0")+COUNTIFS('Hyderabad'!A:A,"B-1*",'Hyderabad'!N:N,">0")+COUNTIFS('Lucknow'!A:A,"B-1*",'Lucknow'!N:N,">0")+COUNTIFS('Mumbai'!A:A,"B-1*",'Mumbai'!N:N,">0")+COUNTIFS('Mysore'!A:A,"B-1*",'Mysore'!N:N,">0")+COUNTIFS('Nagpur'!A:A,"B-1*",'Nagpur'!N:N,">0")+COUNTIFS('Pune'!A:A,"B-1*",'Pune'!N:N,">0")+COUNTIFS('Trivandrum'!A:A,"B-1*",'Trivandrum'!N:N,">0")+COUNTIFS('Vijayawada'!A:A,"B-1*",'Vijayawada'!N:N,">0") | D30: =SUMIF('Ahmedabad'!A:A,"B-1*",'Ahmedabad'!N:N)+SUMIF('Bangalore'!A:A,"B-1*",'Bangalore'!N:N)+SUMIF('Chandigarh'!A:A,"B-1*",'Chandigarh'!N:N)+SUMIF('Chennai'!A:A,"B-1*",'Chennai'!N:N)+SUMIF('Cochin'!A:A,"B-1*",'Cochin'!N:N)+SUMIF('Coimbatore'!A:A,"B-1*",'Coimbatore'!N:N)+SUMIF('Delhi'!A:A,"B-1*",'Delhi'!N:N)+SUMIF('Hyderabad'!A:A,"B-1*",'Hyderabad'!N:N)+SUMIF('Lucknow'!A:A,"B-1*",'Lucknow'!N:N)+SUMIF('Mumbai'!A:A,"B-1*",'Mumbai'!N:N)+SUMIF('Mysore'!A:A,"B-1*",'Mysore'!N:N)+SUMIF('Nagpur'!A:A,"B-1*",'Nagpur'!N:N)+SUMIF('Pune'!A:A,"B-1*",'Pune'!N:N)+SUMIF('Trivandrum'!A:A,"B-1*",'Trivandrum'!N:N)+SUMIF('Vijayawada'!A:A,"B-1*",'Vijayawada'!N:N) | E30: =IFERROR(D30/D33,0) | F30: =IFERROR(D30/D11,0)
A31: Housing (annualised) | B31: Monthly × months remaining to May 2027 | C31: =COUNTIFS('Ahmedabad'!A:A,"B-1*",'Ahmedabad'!O:O,">0")+COUNTIFS('Bangalore'!A:A,"B-1*",'Bangalore'!O:O,">0")+COUNTIFS('Chandigarh'!A:A,"B-1*",'Chandigarh'!O:O,">0")+COUNTIFS('Chennai'!A:A,"B-1*",'Chennai'!O:O,">0")+COUNTIFS('Cochin'!A:A,"B-1*",'Cochin'!O:O,">0")+COUNTIFS('Coimbatore'!A:A,"B-1*",'Coimbatore'!O:O,">0")+COUNTIFS('Delhi'!A:A,"B-1*",'Delhi'!O:O,">0")+COUNTIFS('Hyderabad'!A:A,"B-1*",'Hyderabad'!O:O,">0")+COUNTIFS('Lucknow'!A:A,"B-1*",'Lucknow'!O:O,">0")+COUNTIFS('Mumbai'!A:A,"B-1*",'Mumbai'!O:O,">0")+COUNTIFS('Mysore'!A:A,"B-1*",'Mysore'!O:O,">0")+COUNTIFS('Nagpur'!A:A,"B-1*",'Nagpur'!O:O,">0")+COUNTIFS('Pune'!A:A,"B-1*",'Pune'!O:O,">0")+COUNTIFS('Trivandrum'!A:A,"B-1*",'Trivandrum'!O:O,">0")+COUNTIFS('Vijayawada'!A:A,"B-1*",'Vijayawada'!O:O,">0") | D31: =SUMIF('Ahmedabad'!A:A,"B-1*",'Ahmedabad'!O:O)+SUMIF('Bangalore'!A:A,"B-1*",'Bangalore'!O:O)+SUMIF('Chandigarh'!A:A,"B-1*",'Chandigarh'!O:O)+SUMIF('Chennai'!A:A,"B-1*",'Chennai'!O:O)+SUMIF('Cochin'!A:A,"B-1*",'Cochin'!O:O)+SUMIF('Coimbatore'!A:A,"B-1*",'Coimbatore'!O:O)+SUMIF('Delhi'!A:A,"B-1*",'Delhi'!O:O)+SUMIF('Hyderabad'!A:A,"B-1*",'Hyderabad'!O:O)+SUMIF('Lucknow'!A:A,"B-1*",'Lucknow'!O:O)+SUMIF('Mumbai'!A:A,"B-1*",'Mumbai'!O:O)+SUMIF('Mysore'!A:A,"B-1*",'Mysore'!O:O)+SUMIF('Nagpur'!A:A,"B-1*",'Nagpur'!O:O)+SUMIF('Pune'!A:A,"B-1*",'Pune'!O:O)+SUMIF('Trivandrum'!A:A,"B-1*",'Trivandrum'!O:O)+SUMIF('Vijayawada'!A:A,"B-1*",'Vijayawada'!O:O) | E31: =IFERROR(D31/D33,0) | F31: =IFERROR(D31/D11,0)
A32: Stipend (annualised) | B32: Monthly × months remaining to May 2027 | C32: =COUNTIFS('Ahmedabad'!A:A,"B-1*",'Ahmedabad'!P:P,">0")+COUNTIFS('Bangalore'!A:A,"B-1*",'Bangalore'!P:P,">0")+COUNTIFS('Chandigarh'!A:A,"B-1*",'Chandigarh'!P:P,">0")+COUNTIFS('Chennai'!A:A,"B-1*",'Chennai'!P:P,">0")+COUNTIFS('Cochin'!A:A,"B-1*",'Cochin'!P:P,">0")+COUNTIFS('Coimbatore'!A:A,"B-1*",'Coimbatore'!P:P,">0")+COUNTIFS('Delhi'!A:A,"B-1*",'Delhi'!P:P,">0")+COUNTIFS('Hyderabad'!A:A,"B-1*",'Hyderabad'!P:P,">0")+COUNTIFS('Lucknow'!A:A,"B-1*",'Lucknow'!P:P,">0")+COUNTIFS('Mumbai'!A:A,"B-1*",'Mumbai'!P:P,">0")+COUNTIFS('Mysore'!A:A,"B-1*",'Mysore'!P:P,">0")+COUNTIFS('Nagpur'!A:A,"B-1*",'Nagpur'!P:P,">0")+COUNTIFS('Pune'!A:A,"B-1*",'Pune'!P:P,">0")+COUNTIFS('Trivandrum'!A:A,"B-1*",'Trivandrum'!P:P,">0")+COUNTIFS('Vijayawada'!A:A,"B-1*",'Vijayawada'!P:P,">0") | D32: =SUMIF('Ahmedabad'!A:A,"B-1*",'Ahmedabad'!P:P)+SUMIF('Bangalore'!A:A,"B-1*",'Bangalore'!P:P)+SUMIF('Chandigarh'!A:A,"B-1*",'Chandigarh'!P:P)+SUMIF('Chennai'!A:A,"B-1*",'Chennai'!P:P)+SUMIF('Cochin'!A:A,"B-1*",'Cochin'!P:P)+SUMIF('Coimbatore'!A:A,"B-1*",'Coimbatore'!P:P)+SUMIF('Delhi'!A:A,"B-1*",'Delhi'!P:P)+SUMIF('Hyderabad'!A:A,"B-1*",'Hyderabad'!P:P)+SUMIF('Lucknow'!A:A,"B-1*",'Lucknow'!P:P)+SUMIF('Mumbai'!A:A,"B-1*",'Mumbai'!P:P)+SUMIF('Mysore'!A:A,"B-1*",'Mysore'!P:P)+SUMIF('Nagpur'!A:A,"B-1*",'Nagpur'!P:P)+SUMIF('Pune'!A:A,"B-1*",'Pune'!P:P)+SUMIF('Trivandrum'!A:A,"B-1*",'Trivandrum'!P:P)+SUMIF('Vijayawada'!A:A,"B-1*",'Vijayawada'!P:P) | E32: =IFERROR(D32/D33,0) | F32: =IFERROR(D32/D11,0)
A33: TOTAL BUDGET FY 26-27 | C33: =C30+C31+C32 | D33: =D30+D31+D32 | E33: 100% | F33: =IFERROR(D33/D11,0)
A35: HOW TO UPDATE: Edit gender in any chapter tab col C → Male/Female count updates here instantly. Edit status in col G → status counts update. Edit financial amounts in cols N/O/P → budget updates. No manual entry needed in this dashboard.
A40: HOW TO UPDATE: Edit Gender/Status in chapter tab → dashboard auto-updates. Fill Wingman Name in chapter col S → Wingman count updates. Age: 330 matched from Profile 2025 DOB; 11 unmatched extrapolated by status+chapter. 26+ = 26-28 and 28+. Total = 341.

Sheet Interaction Log
A1: INTERACTION LOG · One row per entry · MAD Code links auto-update chapter tabs
A2: Fill MAD Code exactly as shown in chapter tab. Formulas in chapter tabs count rows matching that code automatically.
A3: MAD Code | B3: Youth Name | C3: Chapter | D3: Date | E3: Month | F3: Type | G3: How Doing | H3: Support Needed | I3: Discussion / Notes | J3: Rating
A4: B-100446 | B4: Gulafsha | C4: Delhi | D4: 14-Sep-2026 | E4: Sep | F4: Phone call | G4: Doing well | H4: None | I4: Job search check-in. 3 applications sent. | J4: 4

Sheet SSG Attendance Log
A1: SSG ATTENDANCE LOG · One row per entry · MAD Code links auto-update chapter tabs
A2: Fill MAD Code exactly as shown in chapter tab. Formulas in chapter tabs count rows matching that code automatically.
A3: MAD Code | B3: Youth Name | C3: Chapter | D3: SSG Name | E3: Date | F3: Month | G3: Session No. | H3: Attended?
A4: B-100446 | B4: Gulafsha | C4: Delhi | D4: SSG 1 | E4: 06-Sep-2026 | F4: Sep | G4: 1 | H4: Yes

Sheet Crisis Log
A1: CRISIS LOG · One row per entry · MAD Code links auto-update chapter tabs
A2: Fill MAD Code exactly as shown in chapter tab. Formulas in chapter tabs count rows matching that code automatically.
A3: MAD Code | B3: Youth Name | C3: Chapter | D3: Level | E3: Date Raised | F3: Description | G3: Action Taken | H3: Resolved?
A4: B-100482 | B4: Sanjay kumar | C4: Delhi | D4: L1 | E4: 15-Aug-2026 | F4: Missed 2 SSG sessions | G4: YPC called directly. Re-engaged. | H4: Yes

Sheet Ahmedabad
A1: AHMEDABAD · 13 youth · 5M 8F · Budget: Rs 439,000
A2: Studying: 3 Working: 2 · Sch: Rs 19,000 Hous: Rs 331,500 Stip: Rs 88,500 · Col C = Gender (Male/Female) — update here → dashboard auto-updates
A3: GREEN = pre-filled from Pulse 2026 · YELLOW = chapter YPC fills · Edit Gender (col C) or Status (col G) here — Overview Dashboard updates automatically
A4: IDENTITY | E4: CONTACT | G4: CURRENT STATUS | M4: PLAN 2026-27 | N4: FINANCIAL SUPPORT | S4: WINGMAN & SSG | U4: PROGRAMME | Y4: INTERACTIONS | AA4: SSG ATTENDANCE | AB4: CRISIS
A5: MAD Code | B5: Full Name | C5: Gender | D5: Year Joined | E5: Phone | F5: Email | G5: Current Status | H5: Course | I5: Year / Stage | J5: Role / Employer | K5: Industry | L5: Current Income | M5: Plan for 2026-27 | N5: Scholarship (Rs) | O5: Housing (Rs) | P5: Stipend/mo (Rs) | Q5: Support Until | R5: Total Support (Rs) | S5: Wingman Name | T5: SSG Name | U5: Plan 2026-27 (YPC) | V5: Current Activity | W5: Next Review Date | X5: Flag / Action | Y5: Interactions (auto) | Z5: Last Interaction | AA5: SSG Sessions (auto) | AB5: Crisis Count (auto) | AC5: Last Crisis Level
A6: B-100210 | B6: Dilip kumar darji | C6: Male | D6: 2022 | E6: 8859543528 | F6: dilip2102023@gmail.com | G6: Looking for a job | K6: Freelance or Gig work | L6: No Income | M6: Still exploring | N6: 0 | O6: 84000 | P6: 24000 | R6: =IFERROR(N6+O6+P6,0) | Y6: =COUNTIF('Interaction Log'!A:A,A6) | Z6: =IFERROR(TEXT(MAXIFS('Interaction Log'!D:D,'Interaction Log'!A:A,A6),"dd-mmm-yy"),"") | AA6: =COUNTIFS('SSG Attendance Log'!A:A,A6,'SSG Attendance Log'!H:H,"Yes") | AB6: =COUNTIF('Crisis Log'!A:A,A6) | AC6: =IFERROR(INDEX('Crisis Log'!D:D,MATCH(1,('Crisis Log'!A:A=A6)*('Crisis Log'!H:H<>"Yes"),0)),"")
A7: B-100206 | B7: Ankita Babubhai Gameti | C7: Female | D7: 2017 | E7: 9157916221 | F7: gametiankita60@gmail.com | G7: Studying and working | H7: CA - Inter | K7: Other | L7: ₹10,000 – ₹20,000 | M7: Job change or transition | N7: 0 | O7: 45000 | P7: 9000 | R7: =IFERROR(N7+O7+P7,0) | Y7: =COUNTIF('Interaction Log'!A:A,A7) | Z7: =IFERROR(TEXT(MAXIFS('Interaction Log'!D:D,'Interaction Log'!A:A,A7),"dd-mmm-yy"),"") | AA7: =COUNTIFS('SSG Attendance Log'!A:A,A7,'SSG Attendance Log'!H:H,"Yes") | AB7: =COUNTIF('Crisis Log'!A:A,A7) | AC7: =IFERROR(INDEX('Crisis Log'!D:D,MATCH(1,('Crisis Log'!A:A=A7)*('Crisis Log'!H:H<>"Yes"),0)),"")
A8: B-100200 | B8: Parmar Mehulkumar | C8: Male | D8: 2023 | E8: 7990347389 | F8: parmar.mehul3000@gmail.com | G8: Studying | H8: BA in sociology, 2nd year | I8: 2nd year | L8: No Income | M8: Complete course and transition to work | N8: 8000 | O8: 58500 | P8: 9000 | R8: =IFERROR(N8+O8+P8,0) | Y8: =COUNTIF('Interaction Log'!A:A,A8) | Z8: =IFERROR(TEXT(MAXIFS('Interaction Log'!D:D,'Interaction Log'!A:A,A8),"dd-mmm-yy"),"") | AA8: =COUNTIFS('SSG Attendance Log'!A:A,A8,'SSG Attendance Log'!H:H,"Yes") | AB8: =COUNTIF('Crisis Log'!A:A,A8) | AC8: =IFERROR(INDEX('Crisis Log'!D:D,MATCH(1,('Crisis Log'!A:A=A8)*('Crisis Log'!H:H<>"Yes"),0)),"")
A9: B-100202 | B9: Bhartiya maya rajubhai | C9: Female | D9: 2013 | E9: 9173374850 | F9: mayamaya04676@gmail.com | G9: Not engaged | L9: No Income | M9: Start working | N9: 0 | O9: 0 | P9: 0 | R9: =IFERROR(N9+O9+P9,0) | Y9: =COUNTIF('Interaction Log'!A:A,A9) | Z9: =IFERROR(TEXT(MAXIFS('Interaction Log'!D:D,'Interaction Log'!A:A,A9),"dd-mmm-yy"),"") | AA9: =COUNTIFS('SSG Attendance Log'!A:A,A9,'SSG Attendance Log'!H:H,"Yes") | AB9: =COUNTIF('Crisis Log'!A:A,A9) | AC9: =IFERROR(INDEX('Crisis Log'!D:D,MATCH(1,('Crisis Log'!A:A=A9)*('Crisis Log'!H:H<>"Yes"),0)),"")
A10: B-100203 | B10: Solanki Dhara | C10: Female | D10: 2014 | E10: 9519614682 | F10: dharasolankiparvinbhai@gmail.com | G10: Working | K10: Other | L10: ₹20,000 – ₹35,000 | M10: Continue working | N10: 0 | O10: 0 | P10: 9000 | R10: =IFERROR(N10+O10+P10,0) | Y10: =COUNTIF('Interaction Log'!A:A,A10) | Z10: =IFERROR(TEXT(MAXIFS('Interaction Log'!D:D,'Interaction Log'!A:A,A10),"dd-mmm-yy"),"") | AA10: =COUNTIFS('SSG Attendance Log'!A:A,A10,'SSG Attendance Log'!H:H,"Yes") | AB10: =COUNTIF('Crisis Log'!A:A,A10) | AC10: =IFERROR(INDEX('Crisis Log'!D:D,MATCH(1,('Crisis Log'!A:A=A10)*('Crisis Log'!H:H<>"Yes"),0)),"")
A11: B-100201 | B11: Dantani Anjal Rajubhai | C11: Female | D11: 2020 | E11: 9773483079 | F11: angaldantani@gmail.com | G11: Studying and working | H11: MA in psychology | K11: Education or Training | L11: ₹10,000 – ₹20,000 | M11: Complete course and transition to work | N11: 0 | O11: 15000 | P11: 4500 | R11: =IFERROR(N11+O11+P11,0) | Y11: =COUNTIF('Interaction Log'!A:A,A11) | Z11: =IFERROR(TEXT(MAXIFS('Interaction Log'!D:D,'Interaction Log'!A:A,A11),"dd-mmm-yy"),"") | AA11: =COUNTIFS('SSG Attendance Log'!A:A,A11,'SSG Attendance Log'!H:H,"Yes") | AB11: =COUNTIF('Crisis Log'!A:A,A11) | AC11: =IFERROR(INDEX('Crisis Log'!D:D,MATCH(1,('Crisis Log'!A:A=A11)*('Crisis Log'!H:H<>"Yes"),0)),"")
A12: B-100212 | B12: Divyeshgiri Aparnathi | C12: Male | D12: 2021 | E12: 9512587107 | F12: aparnathudivyesh@gmail.com | G12: Studying | L12: No Income | M12: Complete course and transition to work | N12: 6000 | O12: 0 | P12: 12000 | R12: =IFERROR(N12+O12+P12,0) | Y12: =COUNTIF('Interaction Log'!A:A,A12) | Z12: =IFERROR(TEXT(MAXIFS('Interaction Log'!D:D,'Interaction Log'!A:A,A12),"dd-mmm-yy"),"") | AA12: =COUNTIFS('SSG Attendance Log'!A:A,A12,'SSG Attendance Log'!H:H,"Yes") | AB12: =COUNTIF('Crisis Log'!A:A,A12) | AC12: =IFERROR(INDEX('Crisis Log'!D:D,MATCH(1,('Crisis Log'!A:A=A12)*('Crisis Log'!H:H<>"Yes"),0)),"")
A13: B-100207 | B13: Kajal shah bansilal | C13: Female | D13: 2021 | E13: 9104911392 | F13: kajalshah6355@gmail.com | G13: Not engaged | L13: No Income | M13: Still exploring | N13: 0 | O13: 0 | P13: 0 | R13: =IFERROR(N13+O13+P13,0) | Y13: =COUNTIF('Interaction Log'!A:A,A13) | Z13: =IFERROR(TEXT(MAXIFS('Interaction Log'!D:D,'Interaction Log'!A:A,A13),"dd-mmm-yy"),"") | AA13: =COUNTIFS('SSG Attendance Log'!A:A,A13,'SSG Attendance Log'!H:H,"Yes") | AB13: =COUNTIF('Crisis Log'!A:A,A13) | AC13: =IFERROR(INDEX('Crisis Log'!D:D,MATCH(1,('Crisis Log'!A:A=A13)*('Crisis Log'!H:H<>"Yes"),0)),"")
A14: B-100208 | B14: Patel Sugna Sureshbai | C14: Female | D14: 2013 | E14: 7383510238 | F14: sugnap463@gmail.com | G14: Not engaged | L14: No Income | M14: Still exploring | N14: 0 | O14: 0 | P14: 0 | R14: =IFERROR(N14+O14+P14,0) | Y14: =COUNTIF('Interaction Log'!A:A,A14) | Z14: =IFERROR(TEXT(MAXIFS('Interaction Log'!D:D,'Interaction Log'!A:A,A14),"dd-mmm-yy"),"") | AA14: =COUNTIFS('SSG Attendance Log'!A:A,A14,'SSG Attendance Log'!H:H,"Yes") | AB14: =COUNTIF('Crisis Log'!A:A,A14) | AC14: =IFERROR(INDEX('Crisis Log'!D:D,MATCH(1,('Crisis Log'!A:A=A14)*('Crisis Log'!H:H<>"Yes"),0)),"")
A15: B-100213 | B15: Kishankumar Chagani | C15: Male | D15: 2012 | E15: 9106844853 | F15: Kishankrishna2253@gmail.com | G15: Studying and working | H15: BA, 3RD YEAR | I15: 3RD YEAR | K15: Retail or Sales | L15: ₹10,000 – ₹20,000 | M15: Continue working | N15: 0 | O15: 0 | P15: 0 | R15: =IFERROR(N15+O15+P15,0) | Y15: =COUNTIF('Interaction Log'!A:A,A15) | Z15: =IFERROR(TEXT(MAXIFS('Interaction Log'!D:D,'Interaction Log'!A:A,A15),"dd-mmm-yy"),"") | AA15: =COUNTIFS('SSG Attendance Log'!A:A,A15,'SSG Attendance Log'!H:H,"Yes") | AB15: =COUNTIF('Crisis Log'!A:A,A15) | AC15: =IFERROR(INDEX('Crisis Log'!D:D,MATCH(1,('Crisis Log'!A:A=A15)*('Crisis Log'!H:H<>"Yes"),0)),"")
A16: B-100204 | B16: Raksha Thakor prabhudas | C16: Female | D16: 2011 | E16: 8140936984 | F16: rakshathakor2@gmail.com | G16: Not engaged | K16: Retail or Sales | L16: No Income | M16: Continue working | N16: 0 | O16: 84000 | P16: 12000 | R16: =IFERROR(N16+O16+P16,0) | Y16: =COUNTIF('Interaction Log'!A:A,A16) | Z16: =IFERROR(TEXT(MAXIFS('Interaction Log'!D:D,'Interaction Log'!A:A,A16),"dd-mmm-yy"),"") | AA16: =COUNTIFS('SSG Attendance Log'!A:A,A16,'SSG Attendance Log'!H:H,"Yes") | AB16: =COUNTIF('Crisis Log'!A:A,A16) | AC16: =IFERROR(INDEX('Crisis Log'!D:D,MATCH(1,('Crisis Log'!A:A=A16)*('Crisis Log'!H:H<>"Yes"),0)),"")
A17: B-100205 | B17: Solanki Divyaben | C17: Female | D17: 2019 | E17: 9773466272 | F17: dipusolanki231099@gmail.com | G17: Working | K17: Other | L17: ₹10,000 – ₹20,000 | M17: Continue working | N17: 0 | O17: 0 | P17: 0 | R17: =IFERROR(N17+O17+P17,0) | Y17: =COUNTIF('Interaction Log'!A:A,A17) | Z17: =IFERROR(TEXT(MAXIFS('Interaction Log'!D:D,'Interaction Log'!A:A,A17),"dd-mmm-yy"),"") | AA17: =COUNTIFS('SSG Attendance Log'!A:A,A17,'SSG Attendance Log'!H:H,"Yes") | AB17: =COUNTIF('Crisis Log'!A:A,A17) | AC17: =IFERROR(INDEX('Crisis Log'!D:D,MATCH(1,('Crisis Log'!A:A=A17)*('Crisis Log'!H:H<>"Yes"),0)),"")
A18: B-100214 | B18: Chaudhari Rajubhai Prahladbhai | C18: Male | D18: 2015 | E18: 9016255287 | F18: rajuchaudhari88888@gmail.com | G18: Studying | H18: IT Diploma | L18: No Income | M18: Complete course and transition to work | N18: 5000 | O18: 45000 | P18: 9000 | R18: =IFERROR(N18+O18+P18,0) | Y18: =COUNTIF('Interaction Log'!A:A,A18) | Z18: =IFERROR(TEXT(MAXIFS('Interaction Log'!D:D,'Interaction Log'!A:A,A18),"dd-mmm-yy"),"") | AA18: =COUNTIFS('SSG Attendance Log'!A:A,A18,'SSG Attendance Log'!H:H,"Yes") | AB18: =COUNTIF('Crisis Log'!A:A,A18) | AC18: =IFERROR(INDEX('Crisis Log'!D:D,MATCH(1,('Crisis Log'!A:A=A18)*('Crisis Log'!H:H<>"Yes"),0)),"")
A19: CHAPTER NOTES
A20: [ Notes ]

Sheet Bangalore
A1: BANGALORE · 65 youth · 20M 38F 7 gender not set — fill col C · Budget: Rs 2,635,143
A2: Studying: 19 Working: 32 · Sch: Rs 1,600,143 Hous: Rs 846,900 Stip: Rs 188,100 · Col C = Gender (Male/Female) — update here → dashboard auto-updates
A3: GREEN = pre-filled from Pulse 2026 · YELLOW = chapter YPC fills · Edit Gender (col C) or Status (col G) here — Overview Dashboard updates automatically
A4: IDENTITY | E4: CONTACT | G4: CURRENT STATUS | M4: PLAN 2026-27 | N4: FINANCIAL SUPPORT | S4: WINGMAN & SSG | U4: PROGRAMME | Y4: INTERACTIONS | AA4: SSG ATTENDANCE | AB4: CRISIS
A5: MAD Code | B5: Full Name | C5: Gender | D5: Year Joined | E5: Phone | F5: Email | G5: Current Status | H5: Course | I5: Year / Stage | J5: Role / Employer | K5: Industry | L5: Current Income | M5: Plan for 2026-27 | N5: Scholarship (Rs) | O5: Housing (Rs) | P5: Stipend/mo (Rs) | Q5: Support Until | R5: Total Support (Rs) | S5: Wingman Name | T5: SSG Name | U5: Plan 2026-27 (YPC) | V5: Current Activity | W5: Next Review Date | X5: Flag / Action | Y5: Interactions (auto) | Z5: Last Interaction | AA5: SSG Sessions (auto) | AB5: Crisis Count (auto) | AC5: Last Crisis Level
A6: B-100091 | B6: Kamnucha sutong | C6: Male | D6: 2021 | E6: 9864415157 | F6: kamnuchasutong@gmail.com | G6: Studying | H6: BE Civil Engg | L6: No Income | M6: Continue studying | N6: 110000 | O6: 0 | P6: 9000 | R6: =IFERROR(N6+O6+P6,0) | Y6: =COUNTIF('Interaction Log'!A:A,A6) | Z6: =IFERROR(TEXT(MAXIFS('Interaction Log'!D:D,'Interaction Log'!A:A,A6),"dd-mmm-yy"),"") | AA6: =COUNTIFS('SSG Attendance Log'!A:A,A6,'SSG Attendance Log'!H:H,"Yes") | AB6: =COUNTIF('Crisis Log'!A:A,A6) | AC6: =IFERROR(INDEX('Crisis Log'!D:D,MATCH(1,('Crisis Log'!A:A=A6)*('Crisis Log'!H:H<>"Yes"),0)),"")
A7: B-100065 | B7: Devayani S | C7: Female | D7: 2011 | E7: 8105576421 | F7: devayani707@gmail.com | G7: Working | K7: Education or Training | L7: ₹20,000 – ₹35,000 | M7: Job change or transition | N7: 0 | O7: 0 | P7: 0 | R7: =IFERROR(N7+O7+P7,0) | Y7: =COUNTIF('Interaction Log'!A:A,A7) | Z7: =IFERROR(TEXT(MAXIFS('Interaction Log'!D:D,'Interaction Log'!A:A,A7),"dd-mmm-yy"),"") | AA7: =COUNTIFS('SSG Attendance Log'!A:A,A7,'SSG Attendance Log'!H:H,"Yes") | AB7: =COUNTIF('Crisis Log'!A:A,A7) | AC7: =IFERROR(INDEX('Crisis Log'!D:D,MATCH(1,('Crisis Log'!A:A=A7)*('Crisis Log'!H:H<>"Yes"),0)),"")
A8: B-100062 | B8: Monica Y | C8: Female | D8: 2012 | E8: 8884582467 | F8: monicayesuviji123@gmail.com | G8: Working | K8: NGO or Social sector | L8: ₹20,000 – ₹35,000 | M8: Continue working | N8: 0 | O8: 0 | P8: 0 | R8: =IFERROR(N8+O8+P8,0) | Y8: =COUNTIF('Interaction Log'!A:A,A8) | Z8: =IFERROR(TEXT(MAXIFS('Interaction Log'!D:D,'Interaction Log'!A:A,A8),"dd-mmm-yy"),"") | AA8: =COUNTIFS('SSG Attendance Log'!A:A,A8,'SSG Attendance Log'!H:H,"Yes") | AB8: =COUNTIF('Crisis Log'!A:A,A8) | AC8: =IFERROR(INDEX('Crisis Log'!D:D,MATCH(1,('Crisis Log'!A:A=A8)*('Crisis Log'!H:H<>"Yes"),0)),"")
A9: B-100074 | B9: Nisha M | C9: Female | D9: 2012 | E9: 9535082451 | F9: mnisha1607@gmail.com | G9: Studying | H9: BPT 4th Year | I9: 4th Year | L9: No Income | M9: Continue studying | N9: 70000 | O9: 21000 | P9: 3600 | R9: =IFERROR(N9+O9+P9,0) | Y9: =COUNTIF('Interaction Log'!A:A,A9) | Z9: =IFERROR(TEXT(MAXIFS('Interaction Log'!D:D,'Interaction Log'!A:A,A9),"dd-mmm-yy"),"") | AA9: =COUNTIFS('SSG Attendance Log'!A:A,A9,'SSG Attendance Log'!H:H,"Yes") | AB9: =COUNTIF('Crisis Log'!A:A,A9) | AC9: =IFERROR(INDEX('Crisis Log'!D:D,MATCH(1,('Crisis Log'!A:A=A9)*('Crisis Log'!H:H<>"Yes"),0)),"")
A10: B-100078 | B10: Pavithra.O | C10: Female | D10: 2022 | E10: 9113689229 | F10: Opavithra12@gmail.com | G10: Working | K10: Other | L10: Less than ₹10,000 | M10: Job change or transition | N10: 0 | O10: 36000 | P10: 0 | R10: =IFERROR(N10+O10+P10,0) | Y10: =COUNTIF('Interaction Log'!A:A,A10) | Z10: =IFERROR(TEXT(MAXIFS('Interaction Log'!D:D,'Interaction Log'!A:A,A10),"dd-mmm-yy"),"") | AA10: =COUNTIFS('SSG Attendance Log'!A:A,A10,'SSG Attendance Log'!H:H,"Yes") | AB10: =COUNTIF('Crisis Log'!A:A,A10) | AC10: =IFERROR(INDEX('Crisis Log'!D:D,MATCH(1,('Crisis Log'!A:A=A10)*('Crisis Log'!H:H<>"Yes"),0)),"")
A11: B-100071 | B11: Anitha C | C11: Female | D11: 2013 | E11: 7892569791 | F11: honeyanitha646@gmail.com | G11: Working | K11: Retail or Sales | L11: ₹10,000 – ₹20,000 | M11: Job change or transition | N11: 0 | O11: 0 | P11: 0 | R11: =IFERROR(N11+O11+P11,0) | Y11: =COUNTIF('Interaction Log'!A:A,A11) | Z11: =IFERROR(TEXT(MAXIFS('Interaction Log'!D:D,'Interaction Log'!A:A,A11),"dd-mmm-yy"),"") | AA11: =COUNTIFS('SSG Attendance Log'!A:A,A11,'SSG Attendance Log'!H:H,"Yes") | AB11: =COUNTIF('Crisis Log'!A:A,A11) | AC11: =IFERROR(INDEX('Crisis Log'!D:D,MATCH(1,('Crisis Log'!A:A=A11)*('Crisis Log'!H:H<>"Yes"),0)),"")
A12: B-100007 | B12: Anju Y | C12: Female | D12: 2017 | E12: 9380038428 | F12: anjuy3734@gmail.com | G12: Studying and working | H12: BCom 2nd Year | I12: 2nd Year | K12: Healthcare or Care work | L12: Less than ₹10,000 | M12: Continue studying | N12: 47000 | O12: 0 | P12: 0 | R12: =IFERROR(N12+O12+P12,0) | Y12: =COUNTIF('Interaction Log'!A:A,A12) | Z12: =IFERROR(TEXT(MAXIFS('Interaction Log'!D:D,'Interaction Log'!A:A,A12),"dd-mmm-yy"),"") | AA12: =COUNTIFS('SSG Attendance Log'!A:A,A12,'SSG Attendance Log'!H:H,"Yes") | AB12: =COUNTIF('Crisis Log'!A:A,A12) | AC12: =IFERROR(INDEX('Crisis Log'!D:D,MATCH(1,('Crisis Log'!A:A=A12)*('Crisis Log'!H:H<>"Yes"),0)),"")
A13: B-100626 | B13: Aishwarya M | C13: Female | D13: 2020 | E13: 8050609083 | F13: Does not have | G13: Studying | H13: 12th std | M13: Continue studying | N13: 60000 | O13: 63000 | P13: 9000 | R13: =IFERROR(N13+O13+P13,0) | Y13: =COUNTIF('Interaction Log'!A:A,A13) | Z13: =IFERROR(TEXT(MAXIFS('Interaction Log'!D:D,'Interaction Log'!A:A,A13),"dd-mmm-yy"),"") | AA13: =COUNTIFS('SSG Attendance Log'!A:A,A13,'SSG Attendance Log'!H:H,"Yes") | AB13: =COUNTIF('Crisis Log'!A:A,A13) | AC13: =IFERROR(INDEX('Crisis Log'!D:D,MATCH(1,('Crisis Log'!A:A=A13)*('Crisis Log'!H:H<>"Yes"),0)),"")
A14: B-100529 | B14: Chintu.p | C14: Female | D14: 2023 | E14: 9900752264 | F14: 143ananyachinnu@gmail.com | G14: Studying and working | H14: BCom 2nd Year | I14: 2nd Year | K14: Education or Training | L14: Less than ₹10,000 | M14: Continue studying | N14: 42000 | O14: 63000 | P14: 9000 | R14: =IFERROR(N14+O14+P14,0) | Y14: =COUNTIF('Interaction Log'!A:A,A14) | Z14: =IFERROR(TEXT(MAXIFS('Interaction Log'!D:D,'Interaction Log'!A:A,A14),"dd-mmm-yy"),"") | AA14: =COUNTIFS('SSG Attendance Log'!A:A,A14,'SSG Attendance Log'!H:H,"Yes") | AB14: =COUNTIF('Crisis Log'!A:A,A14) | AC14: =IFERROR(INDEX('Crisis Log'!D:D,MATCH(1,('Crisis Log'!A:A=A14)*('Crisis Log'!H:H<>"Yes"),0)),"")
A15: B-100077 | B15: Esther A | C15: Female | D15: 2014 | E15: 9108928616 | F15: estherjenny12@gmail.com | G15: Working | K15: Education or Training | L15: ₹10,000 – ₹20,000 | M15: Continue working | N15: 0 | O15: 0 | P15: 0 | R15: =IFERROR(N15+O15+P15,0) | Y15: =COUNTIF('Interaction Log'!A:A,A15) | Z15: =IFERROR(TEXT(MAXIFS('Interaction Log'!D:D,'Interaction Log'!A:A,A15),"dd-mmm-yy"),"") | AA15: =COUNTIFS('SSG Attendance Log'!A:A,A15,'SSG Attendance Log'!H:H,"Yes") | AB15: =COUNTIF('Crisis Log'!A:A,A15) | AC15: =IFERROR(INDEX('Crisis Log'!D:D,MATCH(1,('Crisis Log'!A:A=A15)*('Crisis Log'!H:H<>"Yes"),0)),"")
A16: B-100076 | B16: Durgi N. | C16: Female | D16: 2022 | E16: 7349239408 | F16: durgindurgin78@gmail.com | G16: Working | K16: Retail or Sales | L16: Less than ₹10,000 | M16: Job change or transition | N16: 2000 | O16: 27000 | P16: 0 | R16: =IFERROR(N16+O16+P16,0) | Y16: =COUNTIF('Interaction Log'!A:A,A16) | Z16: =IFERROR(TEXT(MAXIFS('Interaction Log'!D:D,'Interaction Log'!A:A,A16),"dd-mmm-yy"),"") | AA16: =COUNTIFS('SSG Attendance Log'!A:A,A16,'SSG Attendance Log'!H:H,"Yes") | AB16: =COUNTIF('Crisis Log'!A:A,A16) | AC16: =IFERROR(INDEX('Crisis Log'!D:D,MATCH(1,('Crisis Log'!A:A=A16)*('Crisis Log'!H:H<>"Yes"),0)),"")
A17: B-100066 | B17: Bala Mary A | C17: Female | D17: 2010 | E17: 7348854792 | F17: balamarystephan97@gmail.com | G17: Working | K17: IT or Technology | L17: More than ₹35,000 | M17: Job change or transition | N17: 0 | O17: 0 | P17: 0 | R17: =IFERROR(N17+O17+P17,0) | Y17: =COUNTIF('Interaction Log'!A:A,A17) | Z17: =IFERROR(TEXT(MAXIFS('Interaction Log'!D:D,'Interaction Log'!A:A,A17),"dd-mmm-yy"),"") | AA17: =COUNTIFS('SSG Attendance Log'!A:A,A17,'SSG Attendance Log'!H:H,"Yes") | AB17: =COUNTIF('Crisis Log'!A:A,A17) | AC17: =IFERROR(INDEX('Crisis Log'!D:D,MATCH(1,('Crisis Log'!A:A=A17)*('Crisis Log'!H:H<>"Yes"),0)),"")
A18: B-100088 | B18: Keerthana M | C18: Female | D18: 2023 | E18: 6364756435 | F18: keerthimarleen@gmail.com | G18: Studying | H18: 2nd Year DTT | I18: 2nd Year | M18: Continue working | N18: 30000 | O18: 22500 | P18: 3000 | R18: =IFERROR(N18+O18+P18,0) | Y18: =COUNTIF('Interaction Log'!A:A,A18) | Z18: =IFERROR(TEXT(MAXIFS('Interaction Log'!D:D,'Interaction Log'!A:A,A18),"dd-mmm-yy"),"") | AA18: =COUNTIFS('SSG Attendance Log'!A:A,A18,'SSG Attendance Log'!H:H,"Yes") | AB18: =COUNTIF('Crisis Log'!A:A,A18) | AC18: =IFERROR(INDEX('Crisis Log'!D:D,MATCH(1,('Crisis Log'!A:A=A18)*('Crisis Log'!H:H<>"Yes"),0)),"")
A19: B-100079 | B19: Shruthi | C19: Female | D19: 2022 | E19: 9380341776 | F19: shruthi.05052003@gmail.com | G19: Working | K19: Education or Training | L19: ₹20,000 – ₹35,000 | M19: Continue working | N19: 0 | O19: 0 | P19: 0 | R19: =IFERROR(N19+O19+P19,0) | Y19: =COUNTIF('Interaction Log'!A:A,A19) | Z19: =IFERROR(TEXT(MAXIFS('Interaction Log'!D:D,'Interaction Log'!A:A,A19),"dd-mmm-yy"),"") | AA19: =COUNTIFS('SSG Attendance Log'!A:A,A19,'SSG Attendance Log'!H:H,"Yes") | AB19: =COUNTIF('Crisis Log'!A:A,A19) | AC19: =IFERROR(INDEX('Crisis Log'!D:D,MATCH(1,('Crisis Log'!A:A=A19)*('Crisis Log'!H:H<>"Yes"),0)),"")
A20: B-100096 | B20: Rosey | C20: Female | D20: 2022 | E20: 8105562687 | F20: roseyn0509@gmail.com | G20: Studying and working | H20: BCom, 3rd year | I20: 3rd year | K20: Hospitality (hotel, restaurant, catering) | L20: Less than ₹10,000 | M20: Complete course and transition to work | N20: 3000 | O20: 22500 | P20: 0 | R20: =IFERROR(N20+O20+P20,0) | Y20: =COUNTIF('Interaction Log'!A:A,A20) | Z20: =IFERROR(TEXT(MAXIFS('Interaction Log'!D:D,'Interaction Log'!A:A,A20),"dd-mmm-yy"),"") | AA20: =COUNTIFS('SSG Attendance Log'!A:A,A20,'SSG Attendance Log'!H:H,"Yes") | AB20: =COUNTIF('Crisis Log'!A:A,A20) | AC20: =IFERROR(INDEX('Crisis Log'!D:D,MATCH(1,('Crisis Log'!A:A=A20)*('Crisis Log'!H:H<>"Yes"),0)),"")
A21: B-100080 | B21: Sneha Charlet | C21: Female | D21: 2023 | E21: 9916459509 | F21: Snehacharles30@gmail.com | G21: Studying | H21: BCom 1st Year | I21: 1st Year | M21: Continue studying | N21: 7000 | O21: 0 | P21: 0 | R21: =IFERROR(N21+O21+P21,0) | Y21: =COUNTIF('Interaction Log'!A:A,A21) | Z21: =IFERROR(TEXT(MAXIFS('Interaction Log'!D:D,'Interaction Log'!A:A,A21),"dd-mmm-yy"),"") | AA21: =COUNTIFS('SSG Attendance Log'!A:A,A21,'SSG Attendance Log'!H:H,"Yes") | AB21: =COUNTIF('Crisis Log'!A:A,A21) | AC21: =IFERROR(INDEX('Crisis Log'!D:D,MATCH(1,('Crisis Log'!A:A=A21)*('Crisis Log'!H:H<>"Yes"),0)),"")
A22: B-100089 | B22: Nadhiya.c | C22: Female | D22: 2023 | E22: 7338051895 | F22: nadhiyanadhiya293@gmail.com | G22: Studying and working | H22: BCom 3rd Year | I22: 3rd Year | K22: Education or Training | L22: Less than ₹10,000 | M22: Complete course and transition to work | N22: 2000 | O22: 22500 | P22: 0 | R22: =IFERROR(N22+O22+P22,0) | Y22: =COUNTIF('Interaction Log'!A:A,A22) | Z22: =IFERROR(TEXT(MAXIFS('Interaction Log'!D:D,'Interaction Log'!A:A,A22),"dd-mmm-yy"),"") | AA22: =COUNTIFS('SSG Attendance Log'!A:A,A22,'SSG Attendance Log'!H:H,"Yes") | AB22: =COUNTIF('Crisis Log'!A:A,A22) | AC22: =IFERROR(INDEX('Crisis Log'!D:D,MATCH(1,('Crisis Log'!A:A=A22)*('Crisis Log'!H:H<>"Yes"),0)),"")
A23: B-100090 | B23: Shalini.A | C23: Female | D23: 2022 | E23: 7624861301 | F23: shalinishalinisharon@gmail.com | G23: Studying | H23: BCom 3rd Year | I23: 3rd Year | M23: Complete course and transition to work | N23: 2000 | O23: 0 | P23: 0 | R23: =IFERROR(N23+O23+P23,0) | Y23: =COUNTIF('Interaction Log'!A:A,A23) | Z23: =IFERROR(TEXT(MAXIFS('Interaction Log'!D:D,'Interaction Log'!A:A,A23),"dd-mmm-yy"),"") | AA23: =COUNTIFS('SSG Attendance Log'!A:A,A23,'SSG Attendance Log'!H:H,"Yes") | AB23: =COUNTIF('Crisis Log'!A:A,A23) | AC23: =IFERROR(INDEX('Crisis Log'!D:D,MATCH(1,('Crisis Log'!A:A=A23)*('Crisis Log'!H:H<>"Yes"),0)),"")
A24: B-100052 | B24: NORBERT PAUL A | C24: Male | D24: 2019 | E24: 8296147615 | F24: norbertpaul71@gmail.com | G24: Looking for a job | M24: Start working | N24: 0 | O24: 0 | P24: 0 | R24: =IFERROR(N24+O24+P24,0) | Y24: =COUNTIF('Interaction Log'!A:A,A24) | Z24: =IFERROR(TEXT(MAXIFS('Interaction Log'!D:D,'Interaction Log'!A:A,A24),"dd-mmm-yy"),"") | AA24: =COUNTIFS('SSG Attendance Log'!A:A,A24,'SSG Attendance Log'!H:H,"Yes") | AB24: =COUNTIF('Crisis Log'!A:A,A24) | AC24: =IFERROR(INDEX('Crisis Log'!D:D,MATCH(1,('Crisis Log'!A:A=A24)*('Crisis Log'!H:H<>"Yes"),0)),"")
A25: B-100616 | B25: Rosario Periyanayagam S | C25: Male | D25: 2011 | E25: 8884060619 | F25: rozario102320@gmail.com | G25: Working | K25: IT or Technology | L25: ₹20,000 – ₹35,000 | M25: Continue working | N25: 0 | O25: 0 | P25: 0 | R25: =IFERROR(N25+O25+P25,0) | Y25: =COUNTIF('Interaction Log'!A:A,A25) | Z25: =IFERROR(TEXT(MAXIFS('Interaction Log'!D:D,'Interaction Log'!A:A,A25),"dd-mmm-yy"),"") | AA25: =COUNTIFS('SSG Attendance Log'!A:A,A25,'SSG Attendance Log'!H:H,"Yes") | AB25: =COUNTIF('Crisis Log'!A:A,A25) | AC25: =IFERROR(INDEX('Crisis Log'!D:D,MATCH(1,('Crisis Log'!A:A=A25)*('Crisis Log'!H:H<>"Yes"),0)),"")
A26: B-100063 | B26: Sonia Jyothi | C26: Female | D26: 2014 | E26: 7204342061 | F26: clintonjyo7121997@gmail.com | G26: Working | K26: Education or Training | L26: ₹20,000 – ₹35,000 | M26: Continue working | N26: 0 | O26: 0 | P26: 0 | R26: =IFERROR(N26+O26+P26,0) | Y26: =COUNTIF('Interaction Log'!A:A,A26) | Z26: =IFERROR(TEXT(MAXIFS('Interaction Log'!D:D,'Interaction Log'!A:A,A26),"dd-mmm-yy"),"") | AA26: =COUNTIFS('SSG Attendance Log'!A:A,A26,'SSG Attendance Log'!H:H,"Yes") | AB26: =COUNTIF('Crisis Log'!A:A,A26) | AC26: =IFERROR(INDEX('Crisis Log'!D:D,MATCH(1,('Crisis Log'!A:A=A26)*('Crisis Log'!H:H<>"Yes"),0)),"")
A27: B-100082 | B27: Ashish Rai | C27: Male | D27: 2016 | E27: 7085733698 | F27: ashishrai0304@gmail.com | G27: Studying | H27: Will enrol into MPharma | K27: Healthcare or Care work | L27: No Income | M27: Continue studying | N27: 57200 | O27: 66000 | P27: 18000 | R27: =IFERROR(N27+O27+P27,0) | Y27: =COUNTIF('Interaction Log'!A:A,A27) | Z27: =IFERROR(TEXT(MAXIFS('Interaction Log'!D:D,'Interaction Log'!A:A,A27),"dd-mmm-yy"),"") | AA27: =COUNTIFS('SSG Attendance Log'!A:A,A27,'SSG Attendance Log'!H:H,"Yes") | AB27: =COUNTIF('Crisis Log'!A:A,A27) | AC27: =IFERROR(INDEX('Crisis Log'!D:D,MATCH(1,('Crisis Log'!A:A=A27)*('Crisis Log'!H:H<>"Yes"),0)),"")
A28: B-100092 | B28: MEBANKER RYNTAHIANG | C28: Male | D28: 2021 | E28: 6909257770 | F28: mebankerryntathiang690@gmail.com | G28: Studying | H28: BE in Aeronautical Engineering final year | K28: IT or Technology | L28: No Income | M28: Complete course and transition to work | N28: 116724 | O28: 48000 | P28: 9000 | R28: =IFERROR(N28+O28+P28,0) | Y28: =COUNTIF('Interaction Log'!A:A,A28) | Z28: =IFERROR(TEXT(MAXIFS('Interaction Log'!D:D,'Interaction Log'!A:A,A28),"dd-mmm-yy"),"") | AA28: =COUNTIFS('SSG Attendance Log'!A:A,A28,'SSG Attendance Log'!H:H,"Yes") | AB28: =COUNTIF('Crisis Log'!A:A,A28) | AC28: =IFERROR(INDEX('Crisis Log'!D:D,MATCH(1,('Crisis Log'!A:A=A28)*('Crisis Log'!H:H<>"Yes"),0)),"")
A29: B-100085 | B29: SHEMBORLANG THONGNI | C29: Male | D29: 2023 | E29: 7005419257 | F29: shemborlangthongni76@gmail.com | G29: Looking for a job | K29: IT or Technology | L29: Less than ₹10,000 | M29: Start working | N29: 0 | O29: 21000 | P29: 4500 | R29: =IFERROR(N29+O29+P29,0) | Y29: =COUNTIF('Interaction Log'!A:A,A29) | Z29: =IFERROR(TEXT(MAXIFS('Interaction Log'!D:D,'Interaction Log'!A:A,A29),"dd-mmm-yy"),"") | AA29: =COUNTIFS('SSG Attendance Log'!A:A,A29,'SSG Attendance Log'!H:H,"Yes") | AB29: =COUNTIF('Crisis Log'!A:A,A29) | AC29: =IFERROR(INDEX('Crisis Log'!D:D,MATCH(1,('Crisis Log'!A:A=A29)*('Crisis Log'!H:H<>"Yes"),0)),"")
A30: B-100094 | B30: Sonhi Phawa | C30: Male | D30: 2015 | E30: 7085668347 | F30: sonhiphawa98@gmail.com | G30: Working | K30: Healthcare or Care work | L30: ₹10,000 – ₹20,000 | M30: Still exploring | N30: 50000 | O30: 84000 | P30: 18000 | R30: =IFERROR(N30+O30+P30,0) | Y30: =COUNTIF('Interaction Log'!A:A,A30) | Z30: =IFERROR(TEXT(MAXIFS('Interaction Log'!D:D,'Interaction Log'!A:A,A30),"dd-mmm-yy"),"") | AA30: =COUNTIFS('SSG Attendance Log'!A:A,A30,'SSG Attendance Log'!H:H,"Yes") | AB30: =COUNTIF('Crisis Log'!A:A,A30) | AC30: =IFERROR(INDEX('Crisis Log'!D:D,MATCH(1,('Crisis Log'!A:A=A30)*('Crisis Log'!H:H<>"Yes"),0)),"")
A31: B-100084 | B31: A Franklin | G31: Studying | H31: Bcom final semester | K31: Other | L31: Less than ₹10,000 | M31: Complete course and transition to work | N31: 0 | O31: 0 | P31: 0 | R31: =IFERROR(N31+O31+P31,0) | Y31: =COUNTIF('Interaction Log'!A:A,A31) | Z31: =IFERROR(TEXT(MAXIFS('Interaction Log'!D:D,'Interaction Log'!A:A,A31),"dd-mmm-yy"),"") | AA31: =COUNTIFS('SSG Attendance Log'!A:A,A31,'SSG Attendance Log'!H:H,"Yes") | AB31: =COUNTIF('Crisis Log'!A:A,A31) | AC31: =IFERROR(INDEX('Crisis Log'!D:D,MATCH(1,('Crisis Log'!A:A=A31)*('Crisis Log'!H:H<>"Yes"),0)),"")
A32: B-100064 | B32: Divya MK | C32: Female | D32: 2013 | E32: 7204538203 | F32: deepadivya166@gmail.com | G32: Working | K32: IT or Technology | L32: More than ₹35,000 | M32: Continue working | N32: 0 | O32: 0 | P32: 0 | R32: =IFERROR(N32+O32+P32,0) | Y32: =COUNTIF('Interaction Log'!A:A,A32) | Z32: =IFERROR(TEXT(MAXIFS('Interaction Log'!D:D,'Interaction Log'!A:A,A32),"dd-mmm-yy"),"") | AA32: =COUNTIFS('SSG Attendance Log'!A:A,A32,'SSG Attendance Log'!H:H,"Yes") | AB32: =COUNTIF('Crisis Log'!A:A,A32) | AC32: =IFERROR(INDEX('Crisis Log'!D:D,MATCH(1,('Crisis Log'!A:A=A32)*('Crisis Log'!H:H<>"Yes"),0)),"")
A33: B-100056 | B33: Harshini S | C33: Female | D33: 2013 | E33: 9480138581 | F33: harshinis1608@gmail.com | G33: Working | K33: IT or Technology | L33: More than ₹35,000 | M33: Continue working | N33: 0 | O33: 0 | P33: 0 | R33: =IFERROR(N33+O33+P33,0) | Y33: =COUNTIF('Interaction Log'!A:A,A33) | Z33: =IFERROR(TEXT(MAXIFS('Interaction Log'!D:D,'Interaction Log'!A:A,A33),"dd-mmm-yy"),"") | AA33: =COUNTIFS('SSG Attendance Log'!A:A,A33,'SSG Attendance Log'!H:H,"Yes") | AB33: =COUNTIF('Crisis Log'!A:A,A33) | AC33: =IFERROR(INDEX('Crisis Log'!D:D,MATCH(1,('Crisis Log'!A:A=A33)*('Crisis Log'!H:H<>"Yes"),0)),"")
A34: B-100100 | B34: KalavathiT | C34: Female | D34: 2015 | E34: 8296881936 | F34: Kalavathit137@gmail.com | G34: Working | K34: IT or Technology | L34: ₹20,000 – ₹35,000 | M34: Job change or transition | N34: 0 | O34: 0 | P34: 0 | R34: =IFERROR(N34+O34+P34,0) | Y34: =COUNTIF('Interaction Log'!A:A,A34) | Z34: =IFERROR(TEXT(MAXIFS('Interaction Log'!D:D,'Interaction Log'!A:A,A34),"dd-mmm-yy"),"") | AA34: =COUNTIFS('SSG Attendance Log'!A:A,A34,'SSG Attendance Log'!H:H,"Yes") | AB34: =COUNTIF('Crisis Log'!A:A,A34) | AC34: =IFERROR(INDEX('Crisis Log'!D:D,MATCH(1,('Crisis Log'!A:A=A34)*('Crisis Log'!H:H<>"Yes"),0)),"")
A35: B-100629 | B35: Pavithra D | C35: Female | D35: 2016 | E35: 9844864359 | F35: pavithramb2000@gmail.com | G35: Working | K35: Logistics or Delivery | L35: ₹20,000 – ₹35,000 | M35: Job change or transition | N35: 0 | O35: 0 | P35: 0 | R35: =IFERROR(N35+O35+P35,0) | Y35: =COUNTIF('Interaction Log'!A:A,A35) | Z35: =IFERROR(TEXT(MAXIFS('Interaction Log'!D:D,'Interaction Log'!A:A,A35),"dd-mmm-yy"),"") | AA35: =COUNTIFS('SSG Attendance Log'!A:A,A35,'SSG Attendance Log'!H:H,"Yes") | AB35: =COUNTIF('Crisis Log'!A:A,A35) | AC35: =IFERROR(INDEX('Crisis Log'!D:D,MATCH(1,('Crisis Log'!A:A=A35)*('Crisis Log'!H:H<>"Yes"),0)),"")
A36: B-100530 | B36: Kulsooma | C36: Female | D36: 2024 | E36: 8899038545 | F36: Syedkulsoom692@gmail.com | G36: Working | I36: 3rd Year | M36: Continue studying | N36: 0 | O36: 67500 | P36: 9000 | R36: =IFERROR(N36+O36+P36,0) | Y36: =COUNTIF('Interaction Log'!A:A,A36) | Z36: =IFERROR(TEXT(MAXIFS('Interaction Log'!D:D,'Interaction Log'!A:A,A36),"dd-mmm-yy"),"") | AA36: =COUNTIFS('SSG Attendance Log'!A:A,A36,'SSG Attendance Log'!H:H,"Yes") | AB36: =COUNTIF('Crisis Log'!A:A,A36) | AC36: =IFERROR(INDEX('Crisis Log'!D:D,MATCH(1,('Crisis Log'!A:A=A36)*('Crisis Log'!H:H<>"Yes"),0)),"")
A37: B-100068 | B37: Radhika.M | C37: Female | D37: 2016 | E37: 8618715628 | F37: Padmamunikrishna01@gmail.com | G37: Working | K37: IT or Technology | L37: ₹20,000 – ₹35,000 | M37: Continue working | N37: 0 | O37: 0 | P37: 0 | R37: =IFERROR(N37+O37+P37,0) | Y37: =COUNTIF('Interaction Log'!A:A,A37) | Z37: =IFERROR(TEXT(MAXIFS('Interaction Log'!D:D,'Interaction Log'!A:A,A37),"dd-mmm-yy"),"") | AA37: =COUNTIFS('SSG Attendance Log'!A:A,A37,'SSG Attendance Log'!H:H,"Yes") | AB37: =COUNTIF('Crisis Log'!A:A,A37) | AC37: =IFERROR(INDEX('Crisis Log'!D:D,MATCH(1,('Crisis Log'!A:A=A37)*('Crisis Log'!H:H<>"Yes"),0)),"")
A38: B-100072 | B38: Asha N | C38: Female | D38: 2011 | E38: 9008569251 | F38: ashajeni49@gmail.com | G38: Working | K38: Education or Training | L38: ₹20,000 – ₹35,000 | M38: Continue working | N38: 0 | O38: 0 | P38: 0 | R38: =IFERROR(N38+O38+P38,0) | Y38: =COUNTIF('Interaction Log'!A:A,A38) | Z38: =IFERROR(TEXT(MAXIFS('Interaction Log'!D:D,'Interaction Log'!A:A,A38),"dd-mmm-yy"),"") | AA38: =COUNTIFS('SSG Attendance Log'!A:A,A38,'SSG Attendance Log'!H:H,"Yes") | AB38: =COUNTIF('Crisis Log'!A:A,A38) | AC38: =IFERROR(INDEX('Crisis Log'!D:D,MATCH(1,('Crisis Log'!A:A=A38)*('Crisis Log'!H:H<>"Yes"),0)),"")
A39: B-100087 | B39: Sarguna Charlette | C39: Female | D39: 2023 | E39: 8088480989 | F39: sargunacharlette@gmail.com | G39: Studying | H39: BCom 3rd Year | I39: 3rd Year | M39: Start working | N39: 2000 | O39: 19500 | P39: 3000 | R39: =IFERROR(N39+O39+P39,0) | Y39: =COUNTIF('Interaction Log'!A:A,A39) | Z39: =IFERROR(TEXT(MAXIFS('Interaction Log'!D:D,'Interaction Log'!A:A,A39),"dd-mmm-yy"),"") | AA39: =COUNTIFS('SSG Attendance Log'!A:A,A39,'SSG Attendance Log'!H:H,"Yes") | AB39: =COUNTIF('Crisis Log'!A:A,A39) | AC39: =IFERROR(INDEX('Crisis Log'!D:D,MATCH(1,('Crisis Log'!A:A=A39)*('Crisis Log'!H:H<>"Yes"),0)),"")
A40: B-100061 | B40: Meena | C40: Female | D40: 2013 | E40: 8971280959 | F40: Meenanarsingh1998@gamil.com | G40: Not engaged | M40: Still exploring | N40: 0 | O40: 0 | P40: 0 | R40: =IFERROR(N40+O40+P40,0) | Y40: =COUNTIF('Interaction Log'!A:A,A40) | Z40: =IFERROR(TEXT(MAXIFS('Interaction Log'!D:D,'Interaction Log'!A:A,A40),"dd-mmm-yy"),"") | AA40: =COUNTIFS('SSG Attendance Log'!A:A,A40,'SSG Attendance Log'!H:H,"Yes") | AB40: =COUNTIF('Crisis Log'!A:A,A40) | AC40: =IFERROR(INDEX('Crisis Log'!D:D,MATCH(1,('Crisis Log'!A:A=A40)*('Crisis Log'!H:H<>"Yes"),0)),"")
A41: B-100555 | B41: Selvi | C41: Male | D41: 2024 | E41: 9037530049 | F41: Seraphinselvy@gmail.com | G41: Studying | H41: BSc Nursing 2nd year | I41: 2nd year | M41: Continue studying | N41: 75000 | O41: 18900 | P41: 9000 | R41: =IFERROR(N41+O41+P41,0) | Y41: =COUNTIF('Interaction Log'!A:A,A41) | Z41: =IFERROR(TEXT(MAXIFS('Interaction Log'!D:D,'Interaction Log'!A:A,A41),"dd-mmm-yy"),"") | AA41: =COUNTIFS('SSG Attendance Log'!A:A,A41,'SSG Attendance Log'!H:H,"Yes") | AB41: =COUNTIF('Crisis Log'!A:A,A41) | AC41: =IFERROR(INDEX('Crisis Log'!D:D,MATCH(1,('Crisis Log'!A:A=A41)*('Crisis Log'!H:H<>"Yes"),0)),"")
A42: B-100058 | B42: Lise Helan P | C42: Female | D42: 2024 | E42: 8122437096 | F42: Johnwesline14@gmail.com | G42: Working | K42: IT or Technology | L42: ₹10,000 – ₹20,000 | M42: Job change or transition | N42: 0 | O42: 0 | P42: 0 | R42: =IFERROR(N42+O42+P42,0) | Y42: =COUNTIF('Interaction Log'!A:A,A42) | Z42: =IFERROR(TEXT(MAXIFS('Interaction Log'!D:D,'Interaction Log'!A:A,A42),"dd-mmm-yy"),"") | AA42: =COUNTIFS('SSG Attendance Log'!A:A,A42,'SSG Attendance Log'!H:H,"Yes") | AB42: =COUNTIF('Crisis Log'!A:A,A42) | AC42: =IFERROR(INDEX('Crisis Log'!D:D,MATCH(1,('Crisis Log'!A:A=A42)*('Crisis Log'!H:H<>"Yes"),0)),"")
A43: B-100057 | B43: A PREETHI | C43: Female | D43: 2020 | E43: 7396067997 | F43: preethi.a.2208@gmail.com | G43: Working | K43: Healthcare or Care work | L43: ₹10,000 – ₹20,000 | M43: Continue working | N43: 0 | O43: 0 | P43: 0 | R43: =IFERROR(N43+O43+P43,0) | Y43: =COUNTIF('Interaction Log'!A:A,A43) | Z43: =IFERROR(TEXT(MAXIFS('Interaction Log'!D:D,'Interaction Log'!A:A,A43),"dd-mmm-yy"),"") | AA43: =COUNTIFS('SSG Attendance Log'!A:A,A43,'SSG Attendance Log'!H:H,"Yes") | AB43: =COUNTIF('Crisis Log'!A:A,A43) | AC43: =IFERROR(INDEX('Crisis Log'!D:D,MATCH(1,('Crisis Log'!A:A=A43)*('Crisis Log'!H:H<>"Yes"),0)),"")
A44: B-100053 | B44: Justin bibiyan m | C44: Male | D44: 2016 | E44: 9620306958 | F44: justinbibiyan900@gmail.com | G44: Working | K44: Education or Training | L44: ₹10,000 – ₹20,000 | M44: Continue working | N44: 0 | O44: 0 | P44: 0 | R44: =IFERROR(N44+O44+P44,0) | Y44: =COUNTIF('Interaction Log'!A:A,A44) | Z44: =IFERROR(TEXT(MAXIFS('Interaction Log'!D:D,'Interaction Log'!A:A,A44),"dd-mmm-yy"),"") | AA44: =COUNTIFS('SSG Attendance Log'!A:A,A44,'SSG Attendance Log'!H:H,"Yes") | AB44: =COUNTIF('Crisis Log'!A:A,A44) | AC44: =IFERROR(INDEX('Crisis Log'!D:D,MATCH(1,('Crisis Log'!A:A=A44)*('Crisis Log'!H:H<>"Yes"),0)),"")
A45: B-100050 | B45: Babu | C45: Male | D45: 2006 | E45: 9074897772 | F45: babumonsb13@gmail.com | G45: Studying and working | H45: 2nd year | I45: 2nd year | K45: Healthcare or Care work | L45: ₹10,000 – ₹20,000 | M45: Complete course and transition to work | N45: 97875 | O45: 0 | P45: 4500 | R45: =IFERROR(N45+O45+P45,0) | Y45: =COUNTIF('Interaction Log'!A:A,A45) | Z45: =IFERROR(TEXT(MAXIFS('Interaction Log'!D:D,'Interaction Log'!A:A,A45),"dd-mmm-yy"),"") | AA45: =COUNTIFS('SSG Attendance Log'!A:A,A45,'SSG Attendance Log'!H:H,"Yes") | AB45: =COUNTIF('Crisis Log'!A:A,A45) | AC45: =IFERROR(INDEX('Crisis Log'!D:D,MATCH(1,('Crisis Log'!A:A=A45)*('Crisis Log'!H:H<>"Yes"),0)),"")
A46: B-100527 | B46: Arun S | C46: Male | D46: 2017 | E46: 7010808108 | F46: arun33202@gmail.com | G46: Studying | H46: 2nd year | I46: 2nd year | K46: Healthcare or Care work | L46: No Income | M46: Continue studying | N46: 36000 | O46: 54000 | P46: 18000 | R46: =IFERROR(N46+O46+P46,0) | Y46: =COUNTIF('Interaction Log'!A:A,A46) | Z46: =IFERROR(TEXT(MAXIFS('Interaction Log'!D:D,'Interaction Log'!A:A,A46),"dd-mmm-yy"),"") | AA46: =COUNTIFS('SSG Attendance Log'!A:A,A46,'SSG Attendance Log'!H:H,"Yes") | AB46: =COUNTIF('Crisis Log'!A:A,A46) | AC46: =IFERROR(INDEX('Crisis Log'!D:D,MATCH(1,('Crisis Log'!A:A=A46)*('Crisis Log'!H:H<>"Yes"),0)),"")
A47: B-100093 | B47: SHAININGSTAR MARWEIN | C47: Male | D47: 2021 | E47: 8837009300 | F47: shainingstarmarwein3@gmail.com | G47: Studying | H47: Final year | K47: IT or Technology | L47: No Income | M47: Complete course and transition to work | N47: 114344 | O47: 67500 | P47: 13500 | R47: =IFERROR(N47+O47+P47,0) | Y47: =COUNTIF('Interaction Log'!A:A,A47) | Z47: =IFERROR(TEXT(MAXIFS('Interaction Log'!D:D,'Interaction Log'!A:A,A47),"dd-mmm-yy"),"") | AA47: =COUNTIFS('SSG Attendance Log'!A:A,A47,'SSG Attendance Log'!H:H,"Yes") | AB47: =COUNTIF('Crisis Log'!A:A,A47) | AC47: =IFERROR(INDEX('Crisis Log'!D:D,MATCH(1,('Crisis Log'!A:A=A47)*('Crisis Log'!H:H<>"Yes"),0)),"")
A48: B-100578 | B48: Anthony shashank.S | C48: Male | D48: 2014 | E48: 7349319559 | F48: antoshank004@gmail.com | G48: Studying | H48: Bcom final sem | K48: Other | L48: No Income | M48: Complete course and transition to work | N48: 36000 | O48: 0 | P48: 9000 | R48: =IFERROR(N48+O48+P48,0) | Y48: =COUNTIF('Interaction Log'!A:A,A48) | Z48: =IFERROR(TEXT(MAXIFS('Interaction Log'!D:D,'Interaction Log'!A:A,A48),"dd-mmm-yy"),"") | AA48: =COUNTIFS('SSG Attendance Log'!A:A,A48,'SSG Attendance Log'!H:H,"Yes") | AB48: =COUNTIF('Crisis Log'!A:A,A48) | AC48: =IFERROR(INDEX('Crisis Log'!D:D,MATCH(1,('Crisis Log'!A:A=A48)*('Crisis Log'!H:H<>"Yes"),0)),"")
A49: B-100526 | B49: Anthony joshva S | C49: Male | D49: 2017 | E49: 9632890720 | F49: anthonyjoshva242006@gmail.com | G49: Studying | H49: 2nd year | I49: 2nd year | L49: No Income | M49: Continue studying | N49: 90000 | O49: 0 | P49: 0 | R49: =IFERROR(N49+O49+P49,0) | Y49: =COUNTIF('Interaction Log'!A:A,A49) | Z49: =IFERROR(TEXT(MAXIFS('Interaction Log'!D:D,'Interaction Log'!A:A,A49),"dd-mmm-yy"),"") | AA49: =COUNTIFS('SSG Attendance Log'!A:A,A49,'SSG Attendance Log'!H:H,"Yes") | AB49: =COUNTIF('Crisis Log'!A:A,A49) | AC49: =IFERROR(INDEX('Crisis Log'!D:D,MATCH(1,('Crisis Log'!A:A=A49)*('Crisis Log'!H:H<>"Yes"),0)),"")
A50: B-100122 | B50: Soundarya R | C50: Female | D50: 2012 | E50: +917022878424 | F50: soundharyasheela@gmail.com | G50: Working | K50: IT or Technology | L50: More than ₹35,000 | M50: Continue working | N50: 0 | O50: 0 | P50: 0 | R50: =IFERROR(N50+O50+P50,0) | Y50: =COUNTIF('Interaction Log'!A:A,A50) | Z50: =IFERROR(TEXT(MAXIFS('Interaction Log'!D:D,'Interaction Log'!A:A,A50),"dd-mmm-yy"),"") | AA50: =COUNTIFS('SSG Attendance Log'!A:A,A50,'SSG Attendance Log'!H:H,"Yes") | AB50: =COUNTIF('Crisis Log'!A:A,A50) | AC50: =IFERROR(INDEX('Crisis Log'!D:D,MATCH(1,('Crisis Log'!A:A=A50)*('Crisis Log'!H:H<>"Yes"),0)),"")
A51: B-100528 | B51: Chanda Goap | C51: Female | D51: 2024 | E51: 6205323465 | F51: chandagoap@gmail.com | G51: Not engaged | M51: Continue studying | N51: 0 | O51: 0 | P51: 0 | R51: =IFERROR(N51+O51+P51,0) | Y51: =COUNTIF('Interaction Log'!A:A,A51) | Z51: =IFERROR(TEXT(MAXIFS('Interaction Log'!D:D,'Interaction Log'!A:A,A51),"dd-mmm-yy"),"") | AA51: =COUNTIFS('SSG Attendance Log'!A:A,A51,'SSG Attendance Log'!H:H,"Yes") | AB51: =COUNTIF('Crisis Log'!A:A,A51) | AC51: =IFERROR(INDEX('Crisis Log'!D:D,MATCH(1,('Crisis Log'!A:A=A51)*('Crisis Log'!H:H<>"Yes"),0)),"")
A52: B-100125 | B52: Deepika R | C52: Female | D52: 2014 | E52: 7338523461 | F52: deepikarj638@gmail.com | G52: Working | K52: IT or Technology | L52: ₹20,000 – ₹35,000 | M52: Continue working | N52: 0 | O52: 0 | P52: 0 | R52: =IFERROR(N52+O52+P52,0) | Y52: =COUNTIF('Interaction Log'!A:A,A52) | Z52: =IFERROR(TEXT(MAXIFS('Interaction Log'!D:D,'Interaction Log'!A:A,A52),"dd-mmm-yy"),"") | AA52: =COUNTIFS('SSG Attendance Log'!A:A,A52,'SSG Attendance Log'!H:H,"Yes") | AB52: =COUNTIF('Crisis Log'!A:A,A52) | AC52: =IFERROR(INDEX('Crisis Log'!D:D,MATCH(1,('Crisis Log'!A:A=A52)*('Crisis Log'!H:H<>"Yes"),0)),"")
A53: B-100073 | B53: Deepa V | C53: Female | D53: 2015 | E53: 8861429230 | F53: deepurebecca@gmail.com | G53: Working | K53: IT or Technology | L53: ₹20,000 – ₹35,000 | M53: Continue working | N53: 0 | O53: 0 | P53: 0 | R53: =IFERROR(N53+O53+P53,0) | Y53: =COUNTIF('Interaction Log'!A:A,A53) | Z53: =IFERROR(TEXT(MAXIFS('Interaction Log'!D:D,'Interaction Log'!A:A,A53),"dd-mmm-yy"),"") | AA53: =COUNTIFS('SSG Attendance Log'!A:A,A53,'SSG Attendance Log'!H:H,"Yes") | AB53: =COUNTIF('Crisis Log'!A:A,A53) | AC53: =IFERROR(INDEX('Crisis Log'!D:D,MATCH(1,('Crisis Log'!A:A=A53)*('Crisis Log'!H:H<>"Yes"),0)),"")
A54: B-100617 | B54: Arockia Harish V | C54: Male | D54: 2012 | E54: 9916320041 | F54: arockiaharish101@gmail.com | G54: Working | K54: Retail or Sales | L54: ₹20,000 – ₹35,000 | M54: Continue working | N54: 40000 | O54: 0 | P54: 0 | R54: =IFERROR(N54+O54+P54,0) | Y54: =COUNTIF('Interaction Log'!A:A,A54) | Z54: =IFERROR(TEXT(MAXIFS('Interaction Log'!D:D,'Interaction Log'!A:A,A54),"dd-mmm-yy"),"") | AA54: =COUNTIFS('SSG Attendance Log'!A:A,A54,'SSG Attendance Log'!H:H,"Yes") | AB54: =COUNTIF('Crisis Log'!A:A,A54) | AC54: =IFERROR(INDEX('Crisis Log'!D:D,MATCH(1,('Crisis Log'!A:A=A54)*('Crisis Log'!H:H<>"Yes"),0)),"")
A55: B-100110 | B55: Jaisiba S | C55: Female | D55: 2014 | E55: 9945628640 | F55: jaisi_12@gmail.com | G55: Not engaged | L55: No Income | M55: Still exploring | N55: 0 | O55: 0 | P55: 0 | R55: =IFERROR(N55+O55+P55,0) | Y55: =COUNTIF('Interaction Log'!A:A,A55) | Z55: =IFERROR(TEXT(MAXIFS('Interaction Log'!D:D,'Interaction Log'!A:A,A55),"dd-mmm-yy"),"") | AA55: =COUNTIFS('SSG Attendance Log'!A:A,A55,'SSG Attendance Log'!H:H,"Yes") | AB55: =COUNTIF('Crisis Log'!A:A,A55) | AC55: =IFERROR(INDEX('Crisis Log'!D:D,MATCH(1,('Crisis Log'!A:A=A55)*('Crisis Log'!H:H<>"Yes"),0)),"")
A56: B-100531 | B56: Mausam | C56: Female | D56: 2024 | E56: 7970966988 | F56: mausamraj63@gmail.com | G56: Not engaged | K56: Other | M56: Still exploring | N56: 0 | O56: 0 | P56: 0 | R56: =IFERROR(N56+O56+P56,0) | Y56: =COUNTIF('Interaction Log'!A:A,A56) | Z56: =IFERROR(TEXT(MAXIFS('Interaction Log'!D:D,'Interaction Log'!A:A,A56),"dd-mmm-yy"),"") | AA56: =COUNTIFS('SSG Attendance Log'!A:A,A56,'SSG Attendance Log'!H:H,"Yes") | AB56: =COUNTIF('Crisis Log'!A:A,A56) | AC56: =IFERROR(INDEX('Crisis Log'!D:D,MATCH(1,('Crisis Log'!A:A=A56)*('Crisis Log'!H:H<>"Yes"),0)),"")
A57: B-100117 | B57: Nisha Das | C57: Female | D57: 2024 | E57: 7596862015 | F57: dasn38418@gmail.com | G57: Working | L57: ₹10,000 – ₹20,000 | M57: Continue working | N57: 0 | O57: 0 | P57: 0 | R57: =IFERROR(N57+O57+P57,0) | Y57: =COUNTIF('Interaction Log'!A:A,A57) | Z57: =IFERROR(TEXT(MAXIFS('Interaction Log'!D:D,'Interaction Log'!A:A,A57),"dd-mmm-yy"),"") | AA57: =COUNTIFS('SSG Attendance Log'!A:A,A57,'SSG Attendance Log'!H:H,"Yes") | AB57: =COUNTIF('Crisis Log'!A:A,A57) | AC57: =IFERROR(INDEX('Crisis Log'!D:D,MATCH(1,('Crisis Log'!A:A=A57)*('Crisis Log'!H:H<>"Yes"),0)),"")
A58: B-100060 | B58: Vaishali.G | C58: Female | D58: 2014 | E58: 6366032653 | F58: vaish8937@gmail.com | G58: Not engaged | M58: Still exploring | N58: 0 | O58: 0 | P58: 0 | R58: =IFERROR(N58+O58+P58,0) | Y58: =COUNTIF('Interaction Log'!A:A,A58) | Z58: =IFERROR(TEXT(MAXIFS('Interaction Log'!D:D,'Interaction Log'!A:A,A58),"dd-mmm-yy"),"") | AA58: =COUNTIFS('SSG Attendance Log'!A:A,A58,'SSG Attendance Log'!H:H,"Yes") | AB58: =COUNTIF('Crisis Log'!A:A,A58) | AC58: =IFERROR(INDEX('Crisis Log'!D:D,MATCH(1,('Crisis Log'!A:A=A58)*('Crisis Log'!H:H<>"Yes"),0)),"")
A59: B-100095 | B59: Mani G | C59: Male | D59: 2010 | E59: 9008566920 | F59: mani.ctrs@gmail.com | G59: Working | K59: IT or Technology | L59: More than ₹35,000 | M59: Continue working | N59: 0 | O59: 0 | P59: 0 | R59: =IFERROR(N59+O59+P59,0) | Y59: =COUNTIF('Interaction Log'!A:A,A59) | Z59: =IFERROR(TEXT(MAXIFS('Interaction Log'!D:D,'Interaction Log'!A:A,A59),"dd-mmm-yy"),"") | AA59: =COUNTIFS('SSG Attendance Log'!A:A,A59,'SSG Attendance Log'!H:H,"Yes") | AB59: =COUNTIF('Crisis Log'!A:A,A59) | AC59: =IFERROR(INDEX('Crisis Log'!D:D,MATCH(1,('Crisis Log'!A:A=A59)*('Crisis Log'!H:H<>"Yes"),0)),"")
A60: B-100054 | B60: Chethan Kumar A | C60: Male | D60: 2012 | E60: 9986331609 | F60: chethankumarblr45@gmail.com | G60: Working | K60: Retail or Sales | L60: ₹10,000 – ₹20,000 | M60: Continue working | N60: 0 | O60: 0 | P60: 0 | R60: =IFERROR(N60+O60+P60,0) | Y60: =COUNTIF('Interaction Log'!A:A,A60) | Z60: =IFERROR(TEXT(MAXIFS('Interaction Log'!D:D,'Interaction Log'!A:A,A60),"dd-mmm-yy"),"") | AA60: =COUNTIFS('SSG Attendance Log'!A:A,A60,'SSG Attendance Log'!H:H,"Yes") | AB60: =COUNTIF('Crisis Log'!A:A,A60) | AC60: =IFERROR(INDEX('Crisis Log'!D:D,MATCH(1,('Crisis Log'!A:A=A60)*('Crisis Log'!H:H<>"Yes"),0)),"")
A61: B-100067 | B61: Anjali R | C61: Female | D61: 2014 | E61: 8095358099 | F61: r.anjali2304@gmail.com | G61: Working | K61: Healthcare or Care work | L61: ₹20,000 – ₹35,000 | M61: Continue working | N61: 0 | O61: 0 | P61: 0 | R61: =IFERROR(N61+O61+P61,0) | Y61: =COUNTIF('Interaction Log'!A:A,A61) | Z61: =IFERROR(TEXT(MAXIFS('Interaction Log'!D:D,'Interaction Log'!A:A,A61),"dd-mmm-yy"),"") | AA61: =COUNTIFS('SSG Attendance Log'!A:A,A61,'SSG Attendance Log'!H:H,"Yes") | AB61: =COUNTIF('Crisis Log'!A:A,A61) | AC61: =IFERROR(INDEX('Crisis Log'!D:D,MATCH(1,('Crisis Log'!A:A=A61)*('Crisis Log'!H:H<>"Yes"),0)),"")
A62: B-100047 | B62: Soringmi Raising | C62: Male | D62: 2010 | E62: 9366141770 | F62: soringmiraising@gmail.com | G62: Working | K62: Healthcare or Care work | L62: More than ₹35,000 | M62: Continue working | N62: 0 | O62: 0 | P62: 0 | R62: =IFERROR(N62+O62+P62,0) | Y62: =COUNTIF('Interaction Log'!A:A,A62) | Z62: =IFERROR(TEXT(MAXIFS('Interaction Log'!D:D,'Interaction Log'!A:A,A62),"dd-mmm-yy"),"") | AA62: =COUNTIFS('SSG Attendance Log'!A:A,A62,'SSG Attendance Log'!H:H,"Yes") | AB62: =COUNTIF('Crisis Log'!A:A,A62) | AC62: =IFERROR(INDEX('Crisis Log'!D:D,MATCH(1,('Crisis Log'!A:A=A62)*('Crisis Log'!H:H<>"Yes"),0)),"")
A63: B-100101 | B63: Samuel Suresh | C63: Male | D63: 2014 | E63: +96598759370 | F63: samueltrue01@gmail.com | G63: Working | M63: Continue working | N63: 0 | O63: 0 | P63: 0 | R63: =IFERROR(N63+O63+P63,0) | Y63: =COUNTIF('Interaction Log'!A:A,A63) | Z63: =IFERROR(TEXT(MAXIFS('Interaction Log'!D:D,'Interaction Log'!A:A,A63),"dd-mmm-yy"),"") | AA63: =COUNTIFS('SSG Attendance Log'!A:A,A63,'SSG Attendance Log'!H:H,"Yes") | AB63: =COUNTIF('Crisis Log'!A:A,A63) | AC63: =IFERROR(INDEX('Crisis Log'!D:D,MATCH(1,('Crisis Log'!A:A=A63)*('Crisis Log'!H:H<>"Yes"),0)),"")
A64: B-100104 | B64: Ashokkumar Arunkumar | C64: Male | D64: 2013 | E64: 9740662684 | F64: mosesashokkumar@gmail.com | G64: Working | K64: Retail or Sales | L64: ₹20,000 – ₹35,000 | M64: Continue working | N64: 0 | O64: 0 | P64: 0 | R64: =IFERROR(N64+O64+P64,0) | Y64: =COUNTIF('Interaction Log'!A:A,A64) | Z64: =IFERROR(TEXT(MAXIFS('Interaction Log'!D:D,'Interaction Log'!A:A,A64),"dd-mmm-yy"),"") | AA64: =COUNTIFS('SSG Attendance Log'!A:A,A64,'SSG Attendance Log'!H:H,"Yes") | AB64: =COUNTIF('Crisis Log'!A:A,A64) | AC64: =IFERROR(INDEX('Crisis Log'!D:D,MATCH(1,('Crisis Log'!A:A=A64)*('Crisis Log'!H:H<>"Yes"),0)),"")
A65: B-100638 | B65: Priya | G65: Not engaged | M65: Continue studying | N65: 150000 | O65: 54000 | P65: 9000 | R65: =IFERROR(N65+O65+P65,0) | Y65: =COUNTIF('Interaction Log'!A:A,A65) | Z65: =IFERROR(TEXT(MAXIFS('Interaction Log'!D:D,'Interaction Log'!A:A,A65),"dd-mmm-yy"),"") | AA65: =COUNTIFS('SSG Attendance Log'!A:A,A65,'SSG Attendance Log'!H:H,"Yes") | AB65: =COUNTIF('Crisis Log'!A:A,A65) | AC65: =IFERROR(INDEX('Crisis Log'!D:D,MATCH(1,('Crisis Log'!A:A=A65)*('Crisis Log'!H:H<>"Yes"),0)),"")
A66: B-100639 | B66: Vaishnavi | G66: Studying | H66: BIMT, 1st Year | I66: 1st Year | M66: Continue studying | N66: 60000 | O66: 54000 | P66: 9000 | R66: =IFERROR(N66+O66+P66,0) | Y66: =COUNTIF('Interaction Log'!A:A,A66) | Z66: =IFERROR(TEXT(MAXIFS('Interaction Log'!D:D,'Interaction Log'!A:A,A66),"dd-mmm-yy"),"") | AA66: =COUNTIFS('SSG Attendance Log'!A:A,A66,'SSG Attendance Log'!H:H,"Yes") | AB66: =COUNTIF('Crisis Log'!A:A,A66) | AC66: =IFERROR(INDEX('Crisis Log'!D:D,MATCH(1,('Crisis Log'!A:A=A66)*('Crisis Log'!H:H<>"Yes"),0)),"")
A67: B-100581 | B67: Varun | G67: Not engaged | M67: Continue studying | N67: 100000 | O67: 0 | P67: 0 | R67: =IFERROR(N67+O67+P67,0) | Y67: =COUNTIF('Interaction Log'!A:A,A67) | Z67: =IFERROR(TEXT(MAXIFS('Interaction Log'!D:D,'Interaction Log'!A:A,A67),"dd-mmm-yy"),"") | AA67: =COUNTIFS('SSG Attendance Log'!A:A,A67,'SSG Attendance Log'!H:H,"Yes") | AB67: =COUNTIF('Crisis Log'!A:A,A67) | AC67: =IFERROR(INDEX('Crisis Log'!D:D,MATCH(1,('Crisis Log'!A:A=A67)*('Crisis Log'!H:H<>"Yes"),0)),"")
A68: B-100059 | B68: Gouri | G68: Studying | M68: Complete course and transition to work | N68: 40000 | O68: 15000 | P68: 0 | R68: =IFERROR(N68+O68+P68,0) | Y68: =COUNTIF('Interaction Log'!A:A,A68) | Z68: =IFERROR(TEXT(MAXIFS('Interaction Log'!D:D,'Interaction Log'!A:A,A68),"dd-mmm-yy"),"") | AA68: =COUNTIFS('SSG Attendance Log'!A:A,A68,'SSG Attendance Log'!H:H,"Yes") | AB68: =COUNTIF('Crisis Log'!A:A,A68) | AC68: =IFERROR(INDEX('Crisis Log'!D:D,MATCH(1,('Crisis Log'!A:A=A68)*('Crisis Log'!H:H<>"Yes"),0)),"")
A69: B-100641 | B69: Sameera | G69: Studying | H69: B.Sc Nursing 1st Year | I69: 1st Year | M69: Continue studying | N69: 100000 | O69: 0 | P69: 9000 | R69: =IFERROR(N69+O69+P69,0) | Y69: =COUNTIF('Interaction Log'!A:A,A69) | Z69: =IFERROR(TEXT(MAXIFS('Interaction Log'!D:D,'Interaction Log'!A:A,A69),"dd-mmm-yy"),"") | AA69: =COUNTIFS('SSG Attendance Log'!A:A,A69,'SSG Attendance Log'!H:H,"Yes") | AB69: =COUNTIF('Crisis Log'!A:A,A69) | AC69: =IFERROR(INDEX('Crisis Log'!D:D,MATCH(1,('Crisis Log'!A:A=A69)*('Crisis Log'!H:H<>"Yes"),0)),"")
A70: B-100648 | B70: Andrew | G70: Studying | H70: bca 2nd sem | L70: No Income | M70: Continue studying | N70: 60000 | O70: 0 | P70: 12000 | R70: =IFERROR(N70+O70+P70,0) | Y70: =COUNTIF('Interaction Log'!A:A,A70) | Z70: =IFERROR(TEXT(MAXIFS('Interaction Log'!D:D,'Interaction Log'!A:A,A70),"dd-mmm-yy"),"") | AA70: =COUNTIFS('SSG Attendance Log'!A:A,A70,'SSG Attendance Log'!H:H,"Yes") | AB70: =COUNTIF('Crisis Log'!A:A,A70) | AC70: =IFERROR(INDEX('Crisis Log'!D:D,MATCH(1,('Crisis Log'!A:A=A70)*('Crisis Log'!H:H<>"Yes"),0)),"")
A71: CHAPTER NOTES
A72: [ Notes ]

Sheet Chandigarh
A1: CHANDIGARH · 8 youth · 0M 8F · Budget: Rs 874,400
A2: Studying: 1 Working: 6 · Sch: Rs 140,000 Hous: Rs 462,000 Stip: Rs 272,400 · Col C = Gender (Male/Female) — update here → dashboard auto-updates
A3: GREEN = pre-filled from Pulse 2026 · YELLOW = chapter YPC fills · Edit Gender (col C) or Status (col G) here — Overview Dashboard updates automatically
A4: IDENTITY | E4: CONTACT | G4: CURRENT STATUS | M4: PLAN 2026-27 | N4: FINANCIAL SUPPORT | S4: WINGMAN & SSG | U4: PROGRAMME | Y4: INTERACTIONS | AA4: SSG ATTENDANCE | AB4: CRISIS
A5: MAD Code | B5: Full Name | C5: Gender | D5: Year Joined | E5: Phone | F5: Email | G5: Current Status | H5: Course | I5: Year / Stage | J5: Role / Employer | K5: Industry | L5: Current Income | M5: Plan for 2026-27 | N5: Scholarship (Rs) | O5: Housing (Rs) | P5: Stipend/mo (Rs) | Q5: Support Until | R5: Total Support (Rs) | S5: Wingman Name | T5: SSG Name | U5: Plan 2026-27 (YPC) | V5: Current Activity | W5: Next Review Date | X5: Flag / Action | Y5: Interactions (auto) | Z5: Last Interaction | AA5: SSG Sessions (auto) | AB5: Crisis Count (auto) | AC5: Last Crisis Level
A6: B-100511 | B6: Asha | C6: Female | D6: 2017 | E6: 9478037105 | F6: rasha777854@gmail.com | G6: Working | K6: IT or Technology | L6: ₹10,000 – ₹20,000 | M6: Job change or transition | N6: 20000 | O6: 48000 | P6: 15000 | R6: =IFERROR(N6+O6+P6,0) | Y6: =COUNTIF('Interaction Log'!A:A,A6) | Z6: =IFERROR(TEXT(MAXIFS('Interaction Log'!D:D,'Interaction Log'!A:A,A6),"dd-mmm-yy"),"") | AA6: =COUNTIFS('SSG Attendance Log'!A:A,A6,'SSG Attendance Log'!H:H,"Yes") | AB6: =COUNTIF('Crisis Log'!A:A,A6) | AC6: =IFERROR(INDEX('Crisis Log'!D:D,MATCH(1,('Crisis Log'!A:A=A6)*('Crisis Log'!H:H<>"Yes"),0)),"")
A7: B-100509 | B7: Bikramjeet Kaur | C7: Female | D7: 2021 | E7: 9592811671 | F7: bikramjeetk001@gmail.com | G7: Working | K7: Healthcare or Care work | L7: ₹10,000 – ₹20,000 | M7: Continue working | N7: 0 | O7: 36000 | P7: 55200 | R7: =IFERROR(N7+O7+P7,0) | Y7: =COUNTIF('Interaction Log'!A:A,A7) | Z7: =IFERROR(TEXT(MAXIFS('Interaction Log'!D:D,'Interaction Log'!A:A,A7),"dd-mmm-yy"),"") | AA7: =COUNTIFS('SSG Attendance Log'!A:A,A7,'SSG Attendance Log'!H:H,"Yes") | AB7: =COUNTIF('Crisis Log'!A:A,A7) | AC7: =IFERROR(INDEX('Crisis Log'!D:D,MATCH(1,('Crisis Log'!A:A=A7)*('Crisis Log'!H:H<>"Yes"),0)),"")
A8: B-100510 | B8: Lovepreet Kaur | C8: Female | D8: 2015 | E8: 7889025964 | F8: lk6248840@gmail.com | G8: Working | K8: Retail or Sales | L8: ₹10,000 – ₹20,000 | M8: Job change or transition | N8: 30000 | O8: 72000 | P8: 0 | R8: =IFERROR(N8+O8+P8,0) | Y8: =COUNTIF('Interaction Log'!A:A,A8) | Z8: =IFERROR(TEXT(MAXIFS('Interaction Log'!D:D,'Interaction Log'!A:A,A8),"dd-mmm-yy"),"") | AA8: =COUNTIFS('SSG Attendance Log'!A:A,A8,'SSG Attendance Log'!H:H,"Yes") | AB8: =COUNTIF('Crisis Log'!A:A,A8) | AC8: =IFERROR(INDEX('Crisis Log'!D:D,MATCH(1,('Crisis Log'!A:A=A8)*('Crisis Log'!H:H<>"Yes"),0)),"")
A9: B-100532 | B9: Prachi | C9: Female | D9: 2022 | E9: 9872468240 | F9: prachi.987ashi@gmail.com | G9: Studying and working | H9: BA History 2nd year | I9: 2nd year | K9: Freelance or Gig work | L9: Less than ₹10,000 | M9: Continue studying | N9: 30000 | O9: 72000 | P9: 36000 | R9: =IFERROR(N9+O9+P9,0) | Y9: =COUNTIF('Interaction Log'!A:A,A9) | Z9: =IFERROR(TEXT(MAXIFS('Interaction Log'!D:D,'Interaction Log'!A:A,A9),"dd-mmm-yy"),"") | AA9: =COUNTIFS('SSG Attendance Log'!A:A,A9,'SSG Attendance Log'!H:H,"Yes") | AB9: =COUNTIF('Crisis Log'!A:A,A9) | AC9: =IFERROR(INDEX('Crisis Log'!D:D,MATCH(1,('Crisis Log'!A:A=A9)*('Crisis Log'!H:H<>"Yes"),0)),"")
A10: B-100556 | B10: Rajwant kaur | C10: Female | D10: 2017 | E10: 8872412644 | F10: Krajwant943@gmail.com | G10: Working | K10: IT or Technology | L10: ₹10,000 – ₹20,000 | M10: Continue working | N10: 0 | O10: 48000 | P10: 15000 | R10: =IFERROR(N10+O10+P10,0) | Y10: =COUNTIF('Interaction Log'!A:A,A10) | Z10: =IFERROR(TEXT(MAXIFS('Interaction Log'!D:D,'Interaction Log'!A:A,A10),"dd-mmm-yy"),"") | AA10: =COUNTIFS('SSG Attendance Log'!A:A,A10,'SSG Attendance Log'!H:H,"Yes") | AB10: =COUNTIF('Crisis Log'!A:A,A10) | AC10: =IFERROR(INDEX('Crisis Log'!D:D,MATCH(1,('Crisis Log'!A:A=A10)*('Crisis Log'!H:H<>"Yes"),0)),"")
A11: B-100513 | B11: Ripandeep Kaur | C11: Female | D11: 2020 | E11: 7710629842 | F11: ripandeepkaurk@gmail.com | G11: Working | K11: IT or Technology | L11: ₹10,000 – ₹20,000 | M11: Job change or transition | N11: 30000 | O11: 72000 | P11: 0 | R11: =IFERROR(N11+O11+P11,0) | Y11: =COUNTIF('Interaction Log'!A:A,A11) | Z11: =IFERROR(TEXT(MAXIFS('Interaction Log'!D:D,'Interaction Log'!A:A,A11),"dd-mmm-yy"),"") | AA11: =COUNTIFS('SSG Attendance Log'!A:A,A11,'SSG Attendance Log'!H:H,"Yes") | AB11: =COUNTIF('Crisis Log'!A:A,A11) | AC11: =IFERROR(INDEX('Crisis Log'!D:D,MATCH(1,('Crisis Log'!A:A=A11)*('Crisis Log'!H:H<>"Yes"),0)),"")
A12: B-100507 | B12: Sharanjeet Kaur | C12: Female | D12: 2016 | E12: 7719716896 | F12: Ksharanjeet923@gmail.com | G12: Studying | H12: BA History 2nd year | I12: 2nd year | L12: No Income | M12: Continue studying | N12: 30000 | O12: 80400 | P12: 96000 | R12: =IFERROR(N12+O12+P12,0) | Y12: =COUNTIF('Interaction Log'!A:A,A12) | Z12: =IFERROR(TEXT(MAXIFS('Interaction Log'!D:D,'Interaction Log'!A:A,A12),"dd-mmm-yy"),"") | AA12: =COUNTIFS('SSG Attendance Log'!A:A,A12,'SSG Attendance Log'!H:H,"Yes") | AB12: =COUNTIF('Crisis Log'!A:A,A12) | AC12: =IFERROR(INDEX('Crisis Log'!D:D,MATCH(1,('Crisis Log'!A:A=A12)*('Crisis Log'!H:H<>"Yes"),0)),"")
A13: B-100508 | B13: Smilepreet Kaur | C13: Female | D13: 2021 | E13: 7973181565 | F13: smilepreetk001@gmail.com | G13: Working | K13: Healthcare or Care work | L13: ₹10,000 – ₹20,000 | M13: Continue working | N13: 0 | O13: 33600 | P13: 55200 | R13: =IFERROR(N13+O13+P13,0) | Y13: =COUNTIF('Interaction Log'!A:A,A13) | Z13: =IFERROR(TEXT(MAXIFS('Interaction Log'!D:D,'Interaction Log'!A:A,A13),"dd-mmm-yy"),"") | AA13: =COUNTIFS('SSG Attendance Log'!A:A,A13,'SSG Attendance Log'!H:H,"Yes") | AB13: =COUNTIF('Crisis Log'!A:A,A13) | AC13: =IFERROR(INDEX('Crisis Log'!D:D,MATCH(1,('Crisis Log'!A:A=A13)*('Crisis Log'!H:H<>"Yes"),0)),"")
A14: CHAPTER NOTES
A15: [ Notes ]

Sheet Chennai
A1: CHENNAI · 38 youth · 21M 15F 2 gender not set — fill col C · Budget: Rs 2,700,700
A2: Studying: 10 Working: 19 · Sch: Rs 758,200 Hous: Rs 1,612,500 Stip: Rs 330,000 · Col C = Gender (Male/Female) — update here → dashboard auto-updates
A3: GREEN = pre-filled from Pulse 2026 · YELLOW = chapter YPC fills · Edit Gender (col C) or Status (col G) here — Overview Dashboard updates automatically
A4: IDENTITY | E4: CONTACT | G4: CURRENT STATUS | M4: PLAN 2026-27 | N4: FINANCIAL SUPPORT | S4: WINGMAN & SSG | U4: PROGRAMME | Y4: INTERACTIONS | AA4: SSG ATTENDANCE | AB4: CRISIS
A5: MAD Code | B5: Full Name | C5: Gender | D5: Year Joined | E5: Phone | F5: Email | G5: Current Status | H5: Course | I5: Year / Stage | J5: Role / Employer | K5: Industry | L5: Current Income | M5: Plan for 2026-27 | N5: Scholarship (Rs) | O5: Housing (Rs) | P5: Stipend/mo (Rs) | Q5: Support Until | R5: Total Support (Rs) | S5: Wingman Name | T5: SSG Name | U5: Plan 2026-27 (YPC) | V5: Current Activity | W5: Next Review Date | X5: Flag / Action | Y5: Interactions (auto) | Z5: Last Interaction | AA5: SSG Sessions (auto) | AB5: Crisis Count (auto) | AC5: Last Crisis Level
A6: B-100239 | B6: Anoch Arul | C6: Male | D6: 2018 | E6: 6369368846 | F6: arulmeri99@gmail.com | G6: Not engaged | L6: No Income | M6: Still exploring | N6: 0 | O6: 0 | P6: 0 | R6: =IFERROR(N6+O6+P6,0) | Y6: =COUNTIF('Interaction Log'!A:A,A6) | Z6: =IFERROR(TEXT(MAXIFS('Interaction Log'!D:D,'Interaction Log'!A:A,A6),"dd-mmm-yy"),"") | AA6: =COUNTIFS('SSG Attendance Log'!A:A,A6,'SSG Attendance Log'!H:H,"Yes") | AB6: =COUNTIF('Crisis Log'!A:A,A6) | AC6: =IFERROR(INDEX('Crisis Log'!D:D,MATCH(1,('Crisis Log'!A:A=A6)*('Crisis Log'!H:H<>"Yes"),0)),"")
A7: B-100241 | B7: Chandru | C7: Male | D7: 2014 | E7: 9319762549 | F7: chandru4sep2001@gmail.com | G7: Studying and working | H7: MBA OPRATIONAL MANAGEMENT | K7: Other | L7: ₹10,000 – ₹20,000 | M7: Complete course and transition to work | N7: 0 | O7: 0 | P7: 0 | R7: =IFERROR(N7+O7+P7,0) | Y7: =COUNTIF('Interaction Log'!A:A,A7) | Z7: =IFERROR(TEXT(MAXIFS('Interaction Log'!D:D,'Interaction Log'!A:A,A7),"dd-mmm-yy"),"") | AA7: =COUNTIFS('SSG Attendance Log'!A:A,A7,'SSG Attendance Log'!H:H,"Yes") | AB7: =COUNTIF('Crisis Log'!A:A,A7) | AC7: =IFERROR(INDEX('Crisis Log'!D:D,MATCH(1,('Crisis Log'!A:A=A7)*('Crisis Log'!H:H<>"Yes"),0)),"")
A8: B-100262 | B8: Keerthana.S | C8: Female | D8: 2024 | E8: 8247860884 | F8: keerthisskb@gmail.com | G8: Working | K8: Healthcare or Care work | L8: ₹10,000 – ₹20,000 | M8: Job change or transition | N8: 10000 | O8: 0 | P8: 0 | R8: =IFERROR(N8+O8+P8,0) | Y8: =COUNTIF('Interaction Log'!A:A,A8) | Z8: =IFERROR(TEXT(MAXIFS('Interaction Log'!D:D,'Interaction Log'!A:A,A8),"dd-mmm-yy"),"") | AA8: =COUNTIFS('SSG Attendance Log'!A:A,A8,'SSG Attendance Log'!H:H,"Yes") | AB8: =COUNTIF('Crisis Log'!A:A,A8) | AC8: =IFERROR(INDEX('Crisis Log'!D:D,MATCH(1,('Crisis Log'!A:A=A8)*('Crisis Log'!H:H<>"Yes"),0)),"")
A9: B-100220 | B9: Hemanth Prabhakaran | C9: Male | D9: 2016 | E9: 7397615863 | F9: p.hemanthraju1623@gmail.com | G9: Working | K9: Healthcare or Care work | L9: ₹10,000 – ₹20,000 | M9: Continue working | N9: 0 | O9: 72000 | P9: 0 | R9: =IFERROR(N9+O9+P9,0) | Y9: =COUNTIF('Interaction Log'!A:A,A9) | Z9: =IFERROR(TEXT(MAXIFS('Interaction Log'!D:D,'Interaction Log'!A:A,A9),"dd-mmm-yy"),"") | AA9: =COUNTIFS('SSG Attendance Log'!A:A,A9,'SSG Attendance Log'!H:H,"Yes") | AB9: =COUNTIF('Crisis Log'!A:A,A9) | AC9: =IFERROR(INDEX('Crisis Log'!D:D,MATCH(1,('Crisis Log'!A:A=A9)*('Crisis Log'!H:H<>"Yes"),0)),"")
A10: B-100236 | B10: M D Rahul | C10: Male | D10: 2011 | E10: 8106338785 | F10: rahulmd2721@gmail.com | G10: Working | K10: Healthcare or Care work | L10: Less than ₹10,000 | M10: Continue working | N10: 0 | O10: 0 | P10: 24000 | R10: =IFERROR(N10+O10+P10,0) | Y10: =COUNTIF('Interaction Log'!A:A,A10) | Z10: =IFERROR(TEXT(MAXIFS('Interaction Log'!D:D,'Interaction Log'!A:A,A10),"dd-mmm-yy"),"") | AA10: =COUNTIFS('SSG Attendance Log'!A:A,A10,'SSG Attendance Log'!H:H,"Yes") | AB10: =COUNTIF('Crisis Log'!A:A,A10) | AC10: =IFERROR(INDEX('Crisis Log'!D:D,MATCH(1,('Crisis Log'!A:A=A10)*('Crisis Log'!H:H<>"Yes"),0)),"")
A11: B-100234 | B11: Edwin E | C11: Male | D11: 2013 | E11: 9787502351 | F11: pe1125996@gmail.com | G11: Looking for a job | M11: Start working | N11: 0 | O11: 19500 | P11: 0 | R11: =IFERROR(N11+O11+P11,0) | Y11: =COUNTIF('Interaction Log'!A:A,A11) | Z11: =IFERROR(TEXT(MAXIFS('Interaction Log'!D:D,'Interaction Log'!A:A,A11),"dd-mmm-yy"),"") | AA11: =COUNTIFS('SSG Attendance Log'!A:A,A11,'SSG Attendance Log'!H:H,"Yes") | AB11: =COUNTIF('Crisis Log'!A:A,A11) | AC11: =IFERROR(INDEX('Crisis Log'!D:D,MATCH(1,('Crisis Log'!A:A=A11)*('Crisis Log'!H:H<>"Yes"),0)),"")
A12: B-100251 | B12: V ARUL RANI | C12: Female | D12: 2018 | E12: 9025985287 | F12: arulrani.joel@gmail.com | G12: Not engaged | L12: No Income | M12: Job change or transition | N12: 0 | O12: 54000 | P12: 0 | R12: =IFERROR(N12+O12+P12,0) | Y12: =COUNTIF('Interaction Log'!A:A,A12) | Z12: =IFERROR(TEXT(MAXIFS('Interaction Log'!D:D,'Interaction Log'!A:A,A12),"dd-mmm-yy"),"") | AA12: =COUNTIFS('SSG Attendance Log'!A:A,A12,'SSG Attendance Log'!H:H,"Yes") | AB12: =COUNTIF('Crisis Log'!A:A,A12) | AC12: =IFERROR(INDEX('Crisis Log'!D:D,MATCH(1,('Crisis Log'!A:A=A12)*('Crisis Log'!H:H<>"Yes"),0)),"")
A13: B-100237 | B13: Sriman Maridass | C13: Male | D13: 2014 | E13: 8056319901 | F13: sriman56228@gmail.com | G13: Studying | H13: Mbbs final year | L13: No Income | M13: Complete course and transition to work | N13: 55000 | O13: 16500 | P13: 6000 | R13: =IFERROR(N13+O13+P13,0) | Y13: =COUNTIF('Interaction Log'!A:A,A13) | Z13: =IFERROR(TEXT(MAXIFS('Interaction Log'!D:D,'Interaction Log'!A:A,A13),"dd-mmm-yy"),"") | AA13: =COUNTIFS('SSG Attendance Log'!A:A,A13,'SSG Attendance Log'!H:H,"Yes") | AB13: =COUNTIF('Crisis Log'!A:A,A13) | AC13: =IFERROR(INDEX('Crisis Log'!D:D,MATCH(1,('Crisis Log'!A:A=A13)*('Crisis Log'!H:H<>"Yes"),0)),"")
A14: B-100238 | B14: LOGANATHAN K | C14: Male | D14: 2018 | E14: 8124566534 | F14: logenathanlogenathan852@gmail.com | G14: Studying and working | H14: Army exam studing | K14: Other | L14: No Income | M14: Continue studying | N14: 50000 | O14: 240000 | P14: 120000 | R14: =IFERROR(N14+O14+P14,0) | Y14: =COUNTIF('Interaction Log'!A:A,A14) | Z14: =IFERROR(TEXT(MAXIFS('Interaction Log'!D:D,'Interaction Log'!A:A,A14),"dd-mmm-yy"),"") | AA14: =COUNTIFS('SSG Attendance Log'!A:A,A14,'SSG Attendance Log'!H:H,"Yes") | AB14: =COUNTIF('Crisis Log'!A:A,A14) | AC14: =IFERROR(INDEX('Crisis Log'!D:D,MATCH(1,('Crisis Log'!A:A=A14)*('Crisis Log'!H:H<>"Yes"),0)),"")
A15: B-100219 | B15: Peter jebaraj.k | C15: Male | D15: 2018 | E15: 8096212105 | F15: peterjebaraj28@gmail.com | G15: Studying and working | H15: MBA Operations management from Bharathidasan university | K15: Logistics or Delivery | L15: ₹10,000 – ₹20,000 | M15: Continue working | N15: 20000 | O15: 66000 | P15: 0 | R15: =IFERROR(N15+O15+P15,0) | Y15: =COUNTIF('Interaction Log'!A:A,A15) | Z15: =IFERROR(TEXT(MAXIFS('Interaction Log'!D:D,'Interaction Log'!A:A,A15),"dd-mmm-yy"),"") | AA15: =COUNTIFS('SSG Attendance Log'!A:A,A15,'SSG Attendance Log'!H:H,"Yes") | AB15: =COUNTIF('Crisis Log'!A:A,A15) | AC15: =IFERROR(INDEX('Crisis Log'!D:D,MATCH(1,('Crisis Log'!A:A=A15)*('Crisis Log'!H:H<>"Yes"),0)),"")
A16: B-100221 | B16: T S SACHIN | C16: Male | D16: 2014 | E16: 9392933909 | F16: Sachinphysiotherapist@gmail.com | G16: Studying and working | H16: Fitness coach Certification | K16: Healthcare or Care work | L16: ₹10,000 – ₹20,000 | M16: Job change or transition | N16: 50000 | O16: 30000 | P16: 0 | R16: =IFERROR(N16+O16+P16,0) | Y16: =COUNTIF('Interaction Log'!A:A,A16) | Z16: =IFERROR(TEXT(MAXIFS('Interaction Log'!D:D,'Interaction Log'!A:A,A16),"dd-mmm-yy"),"") | AA16: =COUNTIFS('SSG Attendance Log'!A:A,A16,'SSG Attendance Log'!H:H,"Yes") | AB16: =COUNTIF('Crisis Log'!A:A,A16) | AC16: =IFERROR(INDEX('Crisis Log'!D:D,MATCH(1,('Crisis Log'!A:A=A16)*('Crisis Log'!H:H<>"Yes"),0)),"")
A17: B-100248 | B17: L Saral | C17: Female | D17: 2012 | E17: 8838595904 | F17: saralucka123@gmail.com | G17: Working | K17: Healthcare or Care work | L17: ₹10,000 – ₹20,000 | M17: Continue working | N17: 0 | O17: 60000 | P17: 0 | R17: =IFERROR(N17+O17+P17,0) | Y17: =COUNTIF('Interaction Log'!A:A,A17) | Z17: =IFERROR(TEXT(MAXIFS('Interaction Log'!D:D,'Interaction Log'!A:A,A17),"dd-mmm-yy"),"") | AA17: =COUNTIFS('SSG Attendance Log'!A:A,A17,'SSG Attendance Log'!H:H,"Yes") | AB17: =COUNTIF('Crisis Log'!A:A,A17) | AC17: =IFERROR(INDEX('Crisis Log'!D:D,MATCH(1,('Crisis Log'!A:A=A17)*('Crisis Log'!H:H<>"Yes"),0)),"")
A18: B-100255 | B18: Angel .E | C18: Female | D18: 2017 | E18: 9360622923 | F18: angelimmanvel@gmail.com | G18: Working | K18: Healthcare or Care work | L18: ₹10,000 – ₹20,000 | M18: Continue working | N18: 0 | O18: 74400 | P18: 0 | R18: =IFERROR(N18+O18+P18,0) | Y18: =COUNTIF('Interaction Log'!A:A,A18) | Z18: =IFERROR(TEXT(MAXIFS('Interaction Log'!D:D,'Interaction Log'!A:A,A18),"dd-mmm-yy"),"") | AA18: =COUNTIFS('SSG Attendance Log'!A:A,A18,'SSG Attendance Log'!H:H,"Yes") | AB18: =COUNTIF('Crisis Log'!A:A,A18) | AC18: =IFERROR(INDEX('Crisis Log'!D:D,MATCH(1,('Crisis Log'!A:A=A18)*('Crisis Log'!H:H<>"Yes"),0)),"")
A19: B-100244 | B19: Madhavan | C19: Male | D19: 2017 | E19: 8122766925 | F19: Madhavank0408@gmail.com | G19: Studying | H19: B.com general 2 year | I19: 2 year | L19: No Income | M19: Continue studying | N19: 0 | O19: 78000 | P19: 0 | R19: =IFERROR(N19+O19+P19,0) | Y19: =COUNTIF('Interaction Log'!A:A,A19) | Z19: =IFERROR(TEXT(MAXIFS('Interaction Log'!D:D,'Interaction Log'!A:A,A19),"dd-mmm-yy"),"") | AA19: =COUNTIFS('SSG Attendance Log'!A:A,A19,'SSG Attendance Log'!H:H,"Yes") | AB19: =COUNTIF('Crisis Log'!A:A,A19) | AC19: =IFERROR(INDEX('Crisis Log'!D:D,MATCH(1,('Crisis Log'!A:A=A19)*('Crisis Log'!H:H<>"Yes"),0)),"")
A20: B-100247 | B20: Steveimmanuel Rajan | C20: Male | D20: 2021 | E20: 9943012809 | F20: steveimmanuelr@gmail.com | G20: Studying | H20: B.pharmacy 4th year 2026 | I20: 4th year | K20: Healthcare or Care work | L20: No Income | M20: Still exploring | N20: 0 | O20: 21000 | P20: 12000 | R20: =IFERROR(N20+O20+P20,0) | Y20: =COUNTIF('Interaction Log'!A:A,A20) | Z20: =IFERROR(TEXT(MAXIFS('Interaction Log'!D:D,'Interaction Log'!A:A,A20),"dd-mmm-yy"),"") | AA20: =COUNTIFS('SSG Attendance Log'!A:A,A20,'SSG Attendance Log'!H:H,"Yes") | AB20: =COUNTIF('Crisis Log'!A:A,A20) | AC20: =IFERROR(INDEX('Crisis Log'!D:D,MATCH(1,('Crisis Log'!A:A=A20)*('Crisis Log'!H:H<>"Yes"),0)),"")
A21: B-100216 | B21: Sivakumar | C21: Male | D21: 2013 | E21: 9003836685 | F21: Sivamadhan1901@gmail.com | G21: Working | K21: IT or Technology | L21: ₹20,000 – ₹35,000 | M21: Continue working | N21: 0 | O21: 22500 | P21: 0 | R21: =IFERROR(N21+O21+P21,0) | Y21: =COUNTIF('Interaction Log'!A:A,A21) | Z21: =IFERROR(TEXT(MAXIFS('Interaction Log'!D:D,'Interaction Log'!A:A,A21),"dd-mmm-yy"),"") | AA21: =COUNTIFS('SSG Attendance Log'!A:A,A21,'SSG Attendance Log'!H:H,"Yes") | AB21: =COUNTIF('Crisis Log'!A:A,A21) | AC21: =IFERROR(INDEX('Crisis Log'!D:D,MATCH(1,('Crisis Log'!A:A=A21)*('Crisis Log'!H:H<>"Yes"),0)),"")
A22: B-100257 | B22: Arthi.D | C22: Female | D22: 2019 | E22: 9566770167 | F22: arthidevan06@gmail.com | G22: Working | K22: Hospitality (hotel, restaurant, catering) | L22: ₹10,000 – ₹20,000 | M22: Continue working | N22: 0 | O22: 74400 | P22: 0 | R22: =IFERROR(N22+O22+P22,0) | Y22: =COUNTIF('Interaction Log'!A:A,A22) | Z22: =IFERROR(TEXT(MAXIFS('Interaction Log'!D:D,'Interaction Log'!A:A,A22),"dd-mmm-yy"),"") | AA22: =COUNTIFS('SSG Attendance Log'!A:A,A22,'SSG Attendance Log'!H:H,"Yes") | AB22: =COUNTIF('Crisis Log'!A:A,A22) | AC22: =IFERROR(INDEX('Crisis Log'!D:D,MATCH(1,('Crisis Log'!A:A=A22)*('Crisis Log'!H:H<>"Yes"),0)),"")
A23: B-100240 | B23: P.John weslin | C23: Male | D23: 2014 | E23: 8428671148 | F23: johnweslinjohn1@gmail.com | G23: Studying | H23: B. tech Naval architecture and offshore engineering (final year) | L23: No Income | M23: Complete course and transition to work | N23: 55000 | O23: 78000 | P23: 24000 | R23: =IFERROR(N23+O23+P23,0) | Y23: =COUNTIF('Interaction Log'!A:A,A23) | Z23: =IFERROR(TEXT(MAXIFS('Interaction Log'!D:D,'Interaction Log'!A:A,A23),"dd-mmm-yy"),"") | AA23: =COUNTIFS('SSG Attendance Log'!A:A,A23,'SSG Attendance Log'!H:H,"Yes") | AB23: =COUNTIF('Crisis Log'!A:A,A23) | AC23: =IFERROR(INDEX('Crisis Log'!D:D,MATCH(1,('Crisis Log'!A:A=A23)*('Crisis Log'!H:H<>"Yes"),0)),"")
A24: B-100574 | B24: J.JABASTIN | C24: Male | D24: 2022 | E24: 8523036936 | F24: jabastinappu10@gmail.com | G24: Studying | H24: Radiology/Final year | K24: Education or Training | L24: No Income | M24: Continue studying | N24: 55000 | O24: 78000 | P24: 24000 | R24: =IFERROR(N24+O24+P24,0) | Y24: =COUNTIF('Interaction Log'!A:A,A24) | Z24: =IFERROR(TEXT(MAXIFS('Interaction Log'!D:D,'Interaction Log'!A:A,A24),"dd-mmm-yy"),"") | AA24: =COUNTIFS('SSG Attendance Log'!A:A,A24,'SSG Attendance Log'!H:H,"Yes") | AB24: =COUNTIF('Crisis Log'!A:A,A24) | AC24: =IFERROR(INDEX('Crisis Log'!D:D,MATCH(1,('Crisis Log'!A:A=A24)*('Crisis Log'!H:H<>"Yes"),0)),"")
A25: B-100267 | B25: Prishika Vasanth | C25: Female | D25: 2022 | E25: 9487230646 | F25: prissy7703@gmail.com | G25: Studying | H25: B sc nursing 4th year | I25: 4th year | K25: Healthcare or Care work | L25: No Income | M25: Complete course and transition to work | N25: 50000 | O25: 63000 | P25: 0 | R25: =IFERROR(N25+O25+P25,0) | Y25: =COUNTIF('Interaction Log'!A:A,A25) | Z25: =IFERROR(TEXT(MAXIFS('Interaction Log'!D:D,'Interaction Log'!A:A,A25),"dd-mmm-yy"),"") | AA25: =COUNTIFS('SSG Attendance Log'!A:A,A25,'SSG Attendance Log'!H:H,"Yes") | AB25: =COUNTIF('Crisis Log'!A:A,A25) | AC25: =IFERROR(INDEX('Crisis Log'!D:D,MATCH(1,('Crisis Log'!A:A=A25)*('Crisis Log'!H:H<>"Yes"),0)),"")
A26: B-100225 | B26: Samloveson Rajan | C26: Male | D26: 2019 | E26: 9677518765 | F26: samloveson777@gmail.com | G26: Working | K26: Healthcare or Care work | L26: ₹10,000 – ₹20,000 | M26: Continue working | N26: 0 | O26: 58500 | P26: 0 | R26: =IFERROR(N26+O26+P26,0) | Y26: =COUNTIF('Interaction Log'!A:A,A26) | Z26: =IFERROR(TEXT(MAXIFS('Interaction Log'!D:D,'Interaction Log'!A:A,A26),"dd-mmm-yy"),"") | AA26: =COUNTIFS('SSG Attendance Log'!A:A,A26,'SSG Attendance Log'!H:H,"Yes") | AB26: =COUNTIF('Crisis Log'!A:A,A26) | AC26: =IFERROR(INDEX('Crisis Log'!D:D,MATCH(1,('Crisis Log'!A:A=A26)*('Crisis Log'!H:H<>"Yes"),0)),"")
A27: B-100252 | B27: Saranya k | C27: Female | D27: 2018 | E27: 7339224269 | F27: saranyakannan152001@gmail.com | G27: Working | K27: Other | L27: ₹10,000 – ₹20,000 | M27: Continue working | N27: 0 | O27: 0 | P27: 0 | R27: =IFERROR(N27+O27+P27,0) | Y27: =COUNTIF('Interaction Log'!A:A,A27) | Z27: =IFERROR(TEXT(MAXIFS('Interaction Log'!D:D,'Interaction Log'!A:A,A27),"dd-mmm-yy"),"") | AA27: =COUNTIFS('SSG Attendance Log'!A:A,A27,'SSG Attendance Log'!H:H,"Yes") | AB27: =COUNTIF('Crisis Log'!A:A,A27) | AC27: =IFERROR(INDEX('Crisis Log'!D:D,MATCH(1,('Crisis Log'!A:A=A27)*('Crisis Log'!H:H<>"Yes"),0)),"")
A28: B-100254 | B28: Silviya L | C28: Female | D28: 2012 | E28: 8925072612 | F28: silviyaselva4@gmail.com | G28: Looking for a job | K28: Healthcare or Care work | L28: ₹10,000 – ₹20,000 | M28: Job change or transition | N28: 0 | O28: 37200 | P28: 0 | R28: =IFERROR(N28+O28+P28,0) | Y28: =COUNTIF('Interaction Log'!A:A,A28) | Z28: =IFERROR(TEXT(MAXIFS('Interaction Log'!D:D,'Interaction Log'!A:A,A28),"dd-mmm-yy"),"") | AA28: =COUNTIFS('SSG Attendance Log'!A:A,A28,'SSG Attendance Log'!H:H,"Yes") | AB28: =COUNTIF('Crisis Log'!A:A,A28) | AC28: =IFERROR(INDEX('Crisis Log'!D:D,MATCH(1,('Crisis Log'!A:A=A28)*('Crisis Log'!H:H<>"Yes"),0)),"")
A29: B-100243 | B29: S Hariharan | C29: Male | D29: 2023 | E29: 8870233799 | F29: shariharan602@gmail.com | G29: Studying | H29: Bsc. Visual communication 3rd year (6th semester) | I29: 3rd year | K29: Freelance or Gig work | L29: Less than ₹10,000 | M29: Continue studying | N29: 28200 | O29: 0 | P29: 0 | R29: =IFERROR(N29+O29+P29,0) | Y29: =COUNTIF('Interaction Log'!A:A,A29) | Z29: =IFERROR(TEXT(MAXIFS('Interaction Log'!D:D,'Interaction Log'!A:A,A29),"dd-mmm-yy"),"") | AA29: =COUNTIFS('SSG Attendance Log'!A:A,A29,'SSG Attendance Log'!H:H,"Yes") | AB29: =COUNTIF('Crisis Log'!A:A,A29) | AC29: =IFERROR(INDEX('Crisis Log'!D:D,MATCH(1,('Crisis Log'!A:A=A29)*('Crisis Log'!H:H<>"Yes"),0)),"")
A30: B-100224 | B30: S GODWIN | C30: Male | D30: 2012 | E30: 9121068433 | F30: jackwindarspeon@gmail.com | G30: Working | K30: Healthcare or Care work | L30: ₹10,000 – ₹20,000 | M30: Continue working | N30: 0 | O30: 96000 | P30: 0 | R30: =IFERROR(N30+O30+P30,0) | Y30: =COUNTIF('Interaction Log'!A:A,A30) | Z30: =IFERROR(TEXT(MAXIFS('Interaction Log'!D:D,'Interaction Log'!A:A,A30),"dd-mmm-yy"),"") | AA30: =COUNTIFS('SSG Attendance Log'!A:A,A30,'SSG Attendance Log'!H:H,"Yes") | AB30: =COUNTIF('Crisis Log'!A:A,A30) | AC30: =IFERROR(INDEX('Crisis Log'!D:D,MATCH(1,('Crisis Log'!A:A=A30)*('Crisis Log'!H:H<>"Yes"),0)),"")
A31: B-100249 | B31: D Abitha | C31: Female | D31: 2014 | E31: 9790276707 | F31: abithadevan31@gmail.com | G31: Working | K31: Healthcare or Care work | L31: ₹10,000 – ₹20,000 | M31: Job change or transition | N31: 0 | O31: 0 | P31: 0 | R31: =IFERROR(N31+O31+P31,0) | Y31: =COUNTIF('Interaction Log'!A:A,A31) | Z31: =IFERROR(TEXT(MAXIFS('Interaction Log'!D:D,'Interaction Log'!A:A,A31),"dd-mmm-yy"),"") | AA31: =COUNTIFS('SSG Attendance Log'!A:A,A31,'SSG Attendance Log'!H:H,"Yes") | AB31: =COUNTIF('Crisis Log'!A:A,A31) | AC31: =IFERROR(INDEX('Crisis Log'!D:D,MATCH(1,('Crisis Log'!A:A=A31)*('Crisis Log'!H:H<>"Yes"),0)),"")
A32: B-100250 | B32: I NATHASHA | C32: Female | D32: 2012 | E32: 7358435133 | F32: nathasha2026@gmail.com | G32: Working | K32: Healthcare or Care work | L32: ₹20,000 – ₹35,000 | M32: Job change or transition | N32: 0 | O32: 0 | P32: 0 | R32: =IFERROR(N32+O32+P32,0) | Y32: =COUNTIF('Interaction Log'!A:A,A32) | Z32: =IFERROR(TEXT(MAXIFS('Interaction Log'!D:D,'Interaction Log'!A:A,A32),"dd-mmm-yy"),"") | AA32: =COUNTIFS('SSG Attendance Log'!A:A,A32,'SSG Attendance Log'!H:H,"Yes") | AB32: =COUNTIF('Crisis Log'!A:A,A32) | AC32: =IFERROR(INDEX('Crisis Log'!D:D,MATCH(1,('Crisis Log'!A:A=A32)*('Crisis Log'!H:H<>"Yes"),0)),"")
A33: B-100256 | B33: Porolin.D | C33: Female | D33: 2012 | E33: 9150930517 | F33: porolindevaanbu19@gmail.com | G33: Working | K33: Hospitality (hotel, restaurant, catering) | L33: ₹10,000 – ₹20,000 | M33: Job change or transition | N33: 0 | O33: 66000 | P33: 30000 | R33: =IFERROR(N33+O33+P33,0) | Y33: =COUNTIF('Interaction Log'!A:A,A33) | Z33: =IFERROR(TEXT(MAXIFS('Interaction Log'!D:D,'Interaction Log'!A:A,A33),"dd-mmm-yy"),"") | AA33: =COUNTIFS('SSG Attendance Log'!A:A,A33,'SSG Attendance Log'!H:H,"Yes") | AB33: =COUNTIF('Crisis Log'!A:A,A33) | AC33: =IFERROR(INDEX('Crisis Log'!D:D,MATCH(1,('Crisis Log'!A:A=A33)*('Crisis Log'!H:H<>"Yes"),0)),"")
A34: B-100223 | B34: Yabesh | G34: Working | K34: Healthcare or Care work | L34: ₹10,000 – ₹20,000 | M34: Job change or transition | N34: 45000 | O34: 27000 | P34: 18000 | R34: =IFERROR(N34+O34+P34,0) | Y34: =COUNTIF('Interaction Log'!A:A,A34) | Z34: =IFERROR(TEXT(MAXIFS('Interaction Log'!D:D,'Interaction Log'!A:A,A34),"dd-mmm-yy"),"") | AA34: =COUNTIFS('SSG Attendance Log'!A:A,A34,'SSG Attendance Log'!H:H,"Yes") | AB34: =COUNTIF('Crisis Log'!A:A,A34) | AC34: =IFERROR(INDEX('Crisis Log'!D:D,MATCH(1,('Crisis Log'!A:A=A34)*('Crisis Log'!H:H<>"Yes"),0)),"")
A35: B-100625 | B35: Dhayanidhi Bhavanandhan | C35: Male | D35: 2014 | E35: 9884525927 | F35: bhavananthana53@gmail.com | G35: Working | K35: Healthcare or Care work | L35: ₹10,000 – ₹20,000 | M35: Job change or transition | N35: 0 | O35: 0 | P35: 0 | R35: =IFERROR(N35+O35+P35,0) | Y35: =COUNTIF('Interaction Log'!A:A,A35) | Z35: =IFERROR(TEXT(MAXIFS('Interaction Log'!D:D,'Interaction Log'!A:A,A35),"dd-mmm-yy"),"") | AA35: =COUNTIFS('SSG Attendance Log'!A:A,A35,'SSG Attendance Log'!H:H,"Yes") | AB35: =COUNTIF('Crisis Log'!A:A,A35) | AC35: =IFERROR(INDEX('Crisis Log'!D:D,MATCH(1,('Crisis Log'!A:A=A35)*('Crisis Log'!H:H<>"Yes"),0)),"")
A36: B-100253 | B36: PRASANNAKUMARI P | C36: Female | D36: 2012 | E36: 9384300831 | F36: kumariprasanna986@gmail.com | G36: Working | K36: Healthcare or Care work | L36: ₹10,000 – ₹20,000 | M36: Job change or transition | N36: 55000 | O36: 33000 | P36: 12000 | R36: =IFERROR(N36+O36+P36,0) | Y36: =COUNTIF('Interaction Log'!A:A,A36) | Z36: =IFERROR(TEXT(MAXIFS('Interaction Log'!D:D,'Interaction Log'!A:A,A36),"dd-mmm-yy"),"") | AA36: =COUNTIFS('SSG Attendance Log'!A:A,A36,'SSG Attendance Log'!H:H,"Yes") | AB36: =COUNTIF('Crisis Log'!A:A,A36) | AC36: =IFERROR(INDEX('Crisis Log'!D:D,MATCH(1,('Crisis Log'!A:A=A36)*('Crisis Log'!H:H<>"Yes"),0)),"")
A37: B-100265 | B37: R Sai Priya | C37: Female | D37: 2015 | E37: 9392970719 | F37: bsaipriya114@gmail.com | G37: Working | K37: Healthcare or Care work | L37: Less than ₹10,000 | M37: Complete course and transition to work | N37: 80000 | O37: 0 | P37: 0 | R37: =IFERROR(N37+O37+P37,0) | Y37: =COUNTIF('Interaction Log'!A:A,A37) | Z37: =IFERROR(TEXT(MAXIFS('Interaction Log'!D:D,'Interaction Log'!A:A,A37),"dd-mmm-yy"),"") | AA37: =COUNTIFS('SSG Attendance Log'!A:A,A37,'SSG Attendance Log'!H:H,"Yes") | AB37: =COUNTIF('Crisis Log'!A:A,A37) | AC37: =IFERROR(INDEX('Crisis Log'!D:D,MATCH(1,('Crisis Log'!A:A=A37)*('Crisis Log'!H:H<>"Yes"),0)),"")
A38: B-100229 | B38: Shiyam Sakthivel | C38: Male | D38: 2020 | E38: 7358160982 | F38: shiyamsakthi10@gmail.com | G38: Working | K38: Retail or Sales | L38: ₹10,000 – ₹20,000 | M38: Continue working | N38: 50000 | O38: 0 | P38: 0 | R38: =IFERROR(N38+O38+P38,0) | Y38: =COUNTIF('Interaction Log'!A:A,A38) | Z38: =IFERROR(TEXT(MAXIFS('Interaction Log'!D:D,'Interaction Log'!A:A,A38),"dd-mmm-yy"),"") | AA38: =COUNTIFS('SSG Attendance Log'!A:A,A38,'SSG Attendance Log'!H:H,"Yes") | AB38: =COUNTIF('Crisis Log'!A:A,A38) | AC38: =IFERROR(INDEX('Crisis Log'!D:D,MATCH(1,('Crisis Log'!A:A=A38)*('Crisis Log'!H:H<>"Yes"),0)),"")
A39: B-100269 | B39: Preethi Ramakrishnan | G39: Studying | H39: 1st year/2nd Semester | I39: 1st year | L39: No Income | M39: Complete course and transition to work | N39: 55000 | O39: 60000 | P39: 60000 | R39: =IFERROR(N39+O39+P39,0) | Y39: =COUNTIF('Interaction Log'!A:A,A39) | Z39: =IFERROR(TEXT(MAXIFS('Interaction Log'!D:D,'Interaction Log'!A:A,A39),"dd-mmm-yy"),"") | AA39: =COUNTIFS('SSG Attendance Log'!A:A,A39,'SSG Attendance Log'!H:H,"Yes") | AB39: =COUNTIF('Crisis Log'!A:A,A39) | AC39: =IFERROR(INDEX('Crisis Log'!D:D,MATCH(1,('Crisis Log'!A:A=A39)*('Crisis Log'!H:H<>"Yes"),0)),"")
A40: B-100266 | B40: P karunya | C40: Female | D40: 2006 | E40: 6304849441 | F40: Anjalakarunya163@gmail.com | G40: Studying | H40: Bsc nursing/ 4th year | I40: 4th year | K40: Education or Training | L40: No Income | M40: Start working | N40: 0 | O40: 84000 | P40: 0 | R40: =IFERROR(N40+O40+P40,0) | Y40: =COUNTIF('Interaction Log'!A:A,A40) | Z40: =IFERROR(TEXT(MAXIFS('Interaction Log'!D:D,'Interaction Log'!A:A,A40),"dd-mmm-yy"),"") | AA40: =COUNTIFS('SSG Attendance Log'!A:A,A40,'SSG Attendance Log'!H:H,"Yes") | AB40: =COUNTIF('Crisis Log'!A:A,A40) | AC40: =IFERROR(INDEX('Crisis Log'!D:D,MATCH(1,('Crisis Log'!A:A=A40)*('Crisis Log'!H:H<>"Yes"),0)),"")
A41: B-100235 | B41: N Chintu | C41: Male | D41: 2013 | E41: 9676973670 | F41: chintumass23@gmail.com | G41: Looking for a job | L41: No Income | M41: Start working | N41: 0 | O41: 19500 | P41: 0 | R41: =IFERROR(N41+O41+P41,0) | Y41: =COUNTIF('Interaction Log'!A:A,A41) | Z41: =IFERROR(TEXT(MAXIFS('Interaction Log'!D:D,'Interaction Log'!A:A,A41),"dd-mmm-yy"),"") | AA41: =COUNTIFS('SSG Attendance Log'!A:A,A41,'SSG Attendance Log'!H:H,"Yes") | AB41: =COUNTIF('Crisis Log'!A:A,A41) | AC41: =IFERROR(INDEX('Crisis Log'!D:D,MATCH(1,('Crisis Log'!A:A=A41)*('Crisis Log'!H:H<>"Yes"),0)),"")
A42: B-100282 | B42: Aswin S | C42: Male | D42: 2015 | E42: 8056595713 | F42: aswinnairs17@gmail.com | G42: Working | K42: Freelance or Gig work | L42: ₹10,000 – ₹20,000 | M42: Complete course and transition to work | N42: 100000 | O42: 0 | P42: 0 | R42: =IFERROR(N42+O42+P42,0) | Y42: =COUNTIF('Interaction Log'!A:A,A42) | Z42: =IFERROR(TEXT(MAXIFS('Interaction Log'!D:D,'Interaction Log'!A:A,A42),"dd-mmm-yy"),"") | AA42: =COUNTIFS('SSG Attendance Log'!A:A,A42,'SSG Attendance Log'!H:H,"Yes") | AB42: =COUNTIF('Crisis Log'!A:A,A42) | AC42: =IFERROR(INDEX('Crisis Log'!D:D,MATCH(1,('Crisis Log'!A:A=A42)*('Crisis Log'!H:H<>"Yes"),0)),"")
A43: B-100263 | B43: Asslin Leena K | C43: Female | D43: 2014 | E43: 9345875118 | F43: asslinleena@gmail.com | G43: Studying | H43: Bsc nursing/internship | K43: Other | L43: No Income | M43: Continue studying | N43: 0 | O43: 84000 | P43: 0 | R43: =IFERROR(N43+O43+P43,0) | Y43: =COUNTIF('Interaction Log'!A:A,A43) | Z43: =IFERROR(TEXT(MAXIFS('Interaction Log'!D:D,'Interaction Log'!A:A,A43),"dd-mmm-yy"),"") | AA43: =COUNTIFS('SSG Attendance Log'!A:A,A43,'SSG Attendance Log'!H:H,"Yes") | AB43: =COUNTIF('Crisis Log'!A:A,A43) | AC43: =IFERROR(INDEX('Crisis Log'!D:D,MATCH(1,('Crisis Log'!A:A=A43)*('Crisis Log'!H:H<>"Yes"),0)),"")
A44: CHAPTER NOTES
A45: [ Notes ]

Sheet Cochin
A1: COCHIN · 37 youth · 27M 7F 3 gender not set — fill col C · Budget: Rs 1,450,790
A2: Studying: 12 Working: 19 · Sch: Rs 425,000 Hous: Rs 776,190 Stip: Rs 249,600 · Col C = Gender (Male/Female) — update here → dashboard auto-updates
A3: GREEN = pre-filled from Pulse 2026 · YELLOW = chapter YPC fills · Edit Gender (col C) or Status (col G) here — Overview Dashboard updates automatically
A4: IDENTITY | E4: CONTACT | G4: CURRENT STATUS | M4: PLAN 2026-27 | N4: FINANCIAL SUPPORT | S4: WINGMAN & SSG | U4: PROGRAMME | Y4: INTERACTIONS | AA4: SSG ATTENDANCE | AB4: CRISIS
A5: MAD Code | B5: Full Name | C5: Gender | D5: Year Joined | E5: Phone | F5: Email | G5: Current Status | H5: Course | I5: Year / Stage | J5: Role / Employer | K5: Industry | L5: Current Income | M5: Plan for 2026-27 | N5: Scholarship (Rs) | O5: Housing (Rs) | P5: Stipend/mo (Rs) | Q5: Support Until | R5: Total Support (Rs) | S5: Wingman Name | T5: SSG Name | U5: Plan 2026-27 (YPC) | V5: Current Activity | W5: Next Review Date | X5: Flag / Action | Y5: Interactions (auto) | Z5: Last Interaction | AA5: SSG Sessions (auto) | AB5: Crisis Count (auto) | AC5: Last Crisis Level
A6: B-100195 | B6: Fathima k.s | C6: Female | D6: 2012 | E6: 9633620492 | F6: fathimasara9633@gmail.com | G6: Working | K6: Other | L6: ₹10,000 – ₹20,000 | M6: Job change or transition | N6: 0 | O6: 74640 | P6: 10800 | R6: =IFERROR(N6+O6+P6,0) | Y6: =COUNTIF('Interaction Log'!A:A,A6) | Z6: =IFERROR(TEXT(MAXIFS('Interaction Log'!D:D,'Interaction Log'!A:A,A6),"dd-mmm-yy"),"") | AA6: =COUNTIFS('SSG Attendance Log'!A:A,A6,'SSG Attendance Log'!H:H,"Yes") | AB6: =COUNTIF('Crisis Log'!A:A,A6) | AC6: =IFERROR(INDEX('Crisis Log'!D:D,MATCH(1,('Crisis Log'!A:A=A6)*('Crisis Log'!H:H<>"Yes"),0)),"")
A7: B-100586 | B7: Fidha fathima | C7: Female | D7: 2018 | E7: 9592038909 | F7: fidhafidhafathima906@gmail.com | G7: Studying | H7: DMLT- 2nd Year | I7: 2nd Year | M7: Complete course and transition to work | N7: 0 | O7: 0 | P7: 0 | R7: =IFERROR(N7+O7+P7,0) | Y7: =COUNTIF('Interaction Log'!A:A,A7) | Z7: =IFERROR(TEXT(MAXIFS('Interaction Log'!D:D,'Interaction Log'!A:A,A7),"dd-mmm-yy"),"") | AA7: =COUNTIFS('SSG Attendance Log'!A:A,A7,'SSG Attendance Log'!H:H,"Yes") | AB7: =COUNTIF('Crisis Log'!A:A,A7) | AC7: =IFERROR(INDEX('Crisis Log'!D:D,MATCH(1,('Crisis Log'!A:A=A7)*('Crisis Log'!H:H<>"Yes"),0)),"")
A8: B-100199 | B8: Sara K S | C8: Female | D8: 2015 | E8: 87143 79663 | F8: Sarabeeviks2004@gmail.com | G8: Working | K8: Logistics or Delivery | L8: Less than ₹10,000 | M8: Job change or transition | N8: 0 | O8: 66000 | P8: 0 | R8: =IFERROR(N8+O8+P8,0) | Y8: =COUNTIF('Interaction Log'!A:A,A8) | Z8: =IFERROR(TEXT(MAXIFS('Interaction Log'!D:D,'Interaction Log'!A:A,A8),"dd-mmm-yy"),"") | AA8: =COUNTIFS('SSG Attendance Log'!A:A,A8,'SSG Attendance Log'!H:H,"Yes") | AB8: =COUNTIF('Crisis Log'!A:A,A8) | AC8: =IFERROR(INDEX('Crisis Log'!D:D,MATCH(1,('Crisis Log'!A:A=A8)*('Crisis Log'!H:H<>"Yes"),0)),"")
A9: B-100197 | B9: FARISHA KS | C9: Female | D9: 2023 | E9: 8714121838 | F9: farishaks2004@gmail.com | G9: Working | K9: Education or Training | L9: ₹10,000 – ₹20,000 | M9: Continue working | N9: 0 | O9: 72000 | P9: 0 | R9: =IFERROR(N9+O9+P9,0) | Y9: =COUNTIF('Interaction Log'!A:A,A9) | Z9: =IFERROR(TEXT(MAXIFS('Interaction Log'!D:D,'Interaction Log'!A:A,A9),"dd-mmm-yy"),"") | AA9: =COUNTIFS('SSG Attendance Log'!A:A,A9,'SSG Attendance Log'!H:H,"Yes") | AB9: =COUNTIF('Crisis Log'!A:A,A9) | AC9: =IFERROR(INDEX('Crisis Log'!D:D,MATCH(1,('Crisis Log'!A:A=A9)*('Crisis Log'!H:H<>"Yes"),0)),"")
A10: B-100569 | B10: Shaima K S | C10: Female | D10: 2023 | E10: 8075 102 271 | F10: shaimaks2005@gmail.com | G10: Working | K10: Logistics or Delivery | L10: ₹10,000 – ₹20,000 | M10: Job change or transition | N10: 0 | O10: 72000 | P10: 0 | R10: =IFERROR(N10+O10+P10,0) | Y10: =COUNTIF('Interaction Log'!A:A,A10) | Z10: =IFERROR(TEXT(MAXIFS('Interaction Log'!D:D,'Interaction Log'!A:A,A10),"dd-mmm-yy"),"") | AA10: =COUNTIFS('SSG Attendance Log'!A:A,A10,'SSG Attendance Log'!H:H,"Yes") | AB10: =COUNTIF('Crisis Log'!A:A,A10) | AC10: =IFERROR(INDEX('Crisis Log'!D:D,MATCH(1,('Crisis Log'!A:A=A10)*('Crisis Log'!H:H<>"Yes"),0)),"")
A11: B-100585 | B11: Eby Thomas | C11: Male | D11: 2015 | E11: 8590864881 | F11: e67948823@gmail.com | G11: Studying | H11: 1st Year | I11: 1st Year | M11: Continue studying | N11: 51000 | O11: 0 | P11: 13200 | R11: =IFERROR(N11+O11+P11,0) | Y11: =COUNTIF('Interaction Log'!A:A,A11) | Z11: =IFERROR(TEXT(MAXIFS('Interaction Log'!D:D,'Interaction Log'!A:A,A11),"dd-mmm-yy"),"") | AA11: =COUNTIFS('SSG Attendance Log'!A:A,A11,'SSG Attendance Log'!H:H,"Yes") | AB11: =COUNTIF('Crisis Log'!A:A,A11) | AC11: =IFERROR(INDEX('Crisis Log'!D:D,MATCH(1,('Crisis Log'!A:A=A11)*('Crisis Log'!H:H<>"Yes"),0)),"")
A12: B-100194 | B12: Amna Najiya | C12: Female | D12: 2012 | E12: 8589059528 | F12: amnanajiya2001@gmail.com | G12: Not engaged | L12: No Income | M12: Start working | N12: 0 | O12: 0 | P12: 0 | R12: =IFERROR(N12+O12+P12,0) | Y12: =COUNTIF('Interaction Log'!A:A,A12) | Z12: =IFERROR(TEXT(MAXIFS('Interaction Log'!D:D,'Interaction Log'!A:A,A12),"dd-mmm-yy"),"") | AA12: =COUNTIFS('SSG Attendance Log'!A:A,A12,'SSG Attendance Log'!H:H,"Yes") | AB12: =COUNTIF('Crisis Log'!A:A,A12) | AC12: =IFERROR(INDEX('Crisis Log'!D:D,MATCH(1,('Crisis Log'!A:A=A12)*('Crisis Log'!H:H<>"Yes"),0)),"")
A13: B-100523 | B13: Madhu E | C13: Male | D13: 2022 | E13: 8891216804 | F13: madhuxx3@gmail.com | G13: Studying | H13: BSW- 2nd year. | I13: 2nd year | L13: No Income | M13: Continue studying | N13: 40000 | O13: 96000 | P13: 0 | R13: =IFERROR(N13+O13+P13,0) | Y13: =COUNTIF('Interaction Log'!A:A,A13) | Z13: =IFERROR(TEXT(MAXIFS('Interaction Log'!D:D,'Interaction Log'!A:A,A13),"dd-mmm-yy"),"") | AA13: =COUNTIFS('SSG Attendance Log'!A:A,A13,'SSG Attendance Log'!H:H,"Yes") | AB13: =COUNTIF('Crisis Log'!A:A,A13) | AC13: =IFERROR(INDEX('Crisis Log'!D:D,MATCH(1,('Crisis Log'!A:A=A13)*('Crisis Log'!H:H<>"Yes"),0)),"")
A14: B-100622 | B14: Sajin Benny | C14: Male | D14: 2015 | E14: 8891689675 | F14: bennysajin53@gmail.com | G14: Studying | H14: General Nursing-1st year | I14: 1st year | L14: No Income | M14: Continue studying | N14: 40000 | O14: 0 | P14: 0 | R14: =IFERROR(N14+O14+P14,0) | Y14: =COUNTIF('Interaction Log'!A:A,A14) | Z14: =IFERROR(TEXT(MAXIFS('Interaction Log'!D:D,'Interaction Log'!A:A,A14),"dd-mmm-yy"),"") | AA14: =COUNTIFS('SSG Attendance Log'!A:A,A14,'SSG Attendance Log'!H:H,"Yes") | AB14: =COUNTIF('Crisis Log'!A:A,A14) | AC14: =IFERROR(INDEX('Crisis Log'!D:D,MATCH(1,('Crisis Log'!A:A=A14)*('Crisis Log'!H:H<>"Yes"),0)),"")
A15: B-100184 | B15: Nandu R | C15: Male | D15: 2008 | E15: 9995426827 | F15: nanduda79@gmail.com | G15: Studying | H15: Digital Marketing- In the final month of the course. | L15: No Income | M15: Start working | N15: 0 | O15: 0 | P15: 12600 | R15: =IFERROR(N15+O15+P15,0) | Y15: =COUNTIF('Interaction Log'!A:A,A15) | Z15: =IFERROR(TEXT(MAXIFS('Interaction Log'!D:D,'Interaction Log'!A:A,A15),"dd-mmm-yy"),"") | AA15: =COUNTIFS('SSG Attendance Log'!A:A,A15,'SSG Attendance Log'!H:H,"Yes") | AB15: =COUNTIF('Crisis Log'!A:A,A15) | AC15: =IFERROR(INDEX('Crisis Log'!D:D,MATCH(1,('Crisis Log'!A:A=A15)*('Crisis Log'!H:H<>"Yes"),0)),"")
A16: B-100182 | B16: Satheesh Francis | C16: Male | D16: 2017 | E16: 8304808353 | F16: satheeshfrancis05@gmail.com | G16: Studying | H16: Masters in Food Science and Nutrition- 1st year | I16: 1st year | M16: Continue studying | N16: 0 | O16: 90000 | P16: 0 | R16: =IFERROR(N16+O16+P16,0) | Y16: =COUNTIF('Interaction Log'!A:A,A16) | Z16: =IFERROR(TEXT(MAXIFS('Interaction Log'!D:D,'Interaction Log'!A:A,A16),"dd-mmm-yy"),"") | AA16: =COUNTIFS('SSG Attendance Log'!A:A,A16,'SSG Attendance Log'!H:H,"Yes") | AB16: =COUNTIF('Crisis Log'!A:A,A16) | AC16: =IFERROR(INDEX('Crisis Log'!D:D,MATCH(1,('Crisis Log'!A:A=A16)*('Crisis Log'!H:H<>"Yes"),0)),"")
A17: B-100196 | B17: Rehnaz sultana | C17: Female | D17: 2020 | E17: 9995389383 | F17: Rehnazsultana1@gmail.com | G17: Working | K17: Other | L17: ₹10,000 – ₹20,000 | M17: Continue working | N17: 0 | O17: 87600 | P17: 0 | R17: =IFERROR(N17+O17+P17,0) | Y17: =COUNTIF('Interaction Log'!A:A,A17) | Z17: =IFERROR(TEXT(MAXIFS('Interaction Log'!D:D,'Interaction Log'!A:A,A17),"dd-mmm-yy"),"") | AA17: =COUNTIFS('SSG Attendance Log'!A:A,A17,'SSG Attendance Log'!H:H,"Yes") | AB17: =COUNTIF('Crisis Log'!A:A,A17) | AC17: =IFERROR(INDEX('Crisis Log'!D:D,MATCH(1,('Crisis Log'!A:A=A17)*('Crisis Log'!H:H<>"Yes"),0)),"")
A18: B-100188 | B18: Savinay santhosh | C18: Male | D18: 2014 | E18: 8086855789 | F18: savinaysanthosh123@gmail.com | G18: Working | K18: Hospitality (hotel, restaurant, catering) | L18: ₹10,000 – ₹20,000 | M18: Job change or transition | N18: 0 | O18: 0 | P18: 3000 | R18: =IFERROR(N18+O18+P18,0) | Y18: =COUNTIF('Interaction Log'!A:A,A18) | Z18: =IFERROR(TEXT(MAXIFS('Interaction Log'!D:D,'Interaction Log'!A:A,A18),"dd-mmm-yy"),"") | AA18: =COUNTIFS('SSG Attendance Log'!A:A,A18,'SSG Attendance Log'!H:H,"Yes") | AB18: =COUNTIF('Crisis Log'!A:A,A18) | AC18: =IFERROR(INDEX('Crisis Log'!D:D,MATCH(1,('Crisis Log'!A:A=A18)*('Crisis Log'!H:H<>"Yes"),0)),"")
A19: B-100187 | B19: Essicmuthu | C19: Male | D19: 2016 | E19: 9342335768 | F19: essicdennis@gmail.com | G19: Studying | H19: BA Music Production- 1st Year | I19: 1st Year | M19: Continue studying | N19: 0 | O19: 0 | P19: 12000 | R19: =IFERROR(N19+O19+P19,0) | Y19: =COUNTIF('Interaction Log'!A:A,A19) | Z19: =IFERROR(TEXT(MAXIFS('Interaction Log'!D:D,'Interaction Log'!A:A,A19),"dd-mmm-yy"),"") | AA19: =COUNTIFS('SSG Attendance Log'!A:A,A19,'SSG Attendance Log'!H:H,"Yes") | AB19: =COUNTIF('Crisis Log'!A:A,A19) | AC19: =IFERROR(INDEX('Crisis Log'!D:D,MATCH(1,('Crisis Log'!A:A=A19)*('Crisis Log'!H:H<>"Yes"),0)),"")
A20: B-100177 | B20: Britto Francis | C20: Male | D20: 2014 | E20: 8848800392 | F20: brittof2002@gmail.com | G20: Looking for a job | M20: Complete course and transition to work | N20: 0 | O20: 0 | P20: 0 | R20: =IFERROR(N20+O20+P20,0) | Y20: =COUNTIF('Interaction Log'!A:A,A20) | Z20: =IFERROR(TEXT(MAXIFS('Interaction Log'!D:D,'Interaction Log'!A:A,A20),"dd-mmm-yy"),"") | AA20: =COUNTIFS('SSG Attendance Log'!A:A,A20,'SSG Attendance Log'!H:H,"Yes") | AB20: =COUNTIF('Crisis Log'!A:A,A20) | AC20: =IFERROR(INDEX('Crisis Log'!D:D,MATCH(1,('Crisis Log'!A:A=A20)*('Crisis Log'!H:H<>"Yes"),0)),"")
A21: B-100516 | B21: Aswin Jojo | C21: Male | D21: 2017 | E21: 9747139936 | F21: aswinjojo2005@gmail.com | G21: Studying | H21: BCA- Final year | M21: Still exploring | N21: 0 | O21: 58950 | P21: 0 | R21: =IFERROR(N21+O21+P21,0) | Y21: =COUNTIF('Interaction Log'!A:A,A21) | Z21: =IFERROR(TEXT(MAXIFS('Interaction Log'!D:D,'Interaction Log'!A:A,A21),"dd-mmm-yy"),"") | AA21: =COUNTIFS('SSG Attendance Log'!A:A,A21,'SSG Attendance Log'!H:H,"Yes") | AB21: =COUNTIF('Crisis Log'!A:A,A21) | AC21: =IFERROR(INDEX('Crisis Log'!D:D,MATCH(1,('Crisis Log'!A:A=A21)*('Crisis Log'!H:H<>"Yes"),0)),"")
A22: B-100191 | B22: Surya babu | C22: Male | D22: 2014 | E22: 7676576812 | F22: Suryababuchinni@gmail.com | G22: Looking for a job | M22: Start working | N22: 0 | O22: 0 | P22: 12000 | R22: =IFERROR(N22+O22+P22,0) | Y22: =COUNTIF('Interaction Log'!A:A,A22) | Z22: =IFERROR(TEXT(MAXIFS('Interaction Log'!D:D,'Interaction Log'!A:A,A22),"dd-mmm-yy"),"") | AA22: =COUNTIFS('SSG Attendance Log'!A:A,A22,'SSG Attendance Log'!H:H,"Yes") | AB22: =COUNTIF('Crisis Log'!A:A,A22) | AC22: =IFERROR(INDEX('Crisis Log'!D:D,MATCH(1,('Crisis Log'!A:A=A22)*('Crisis Log'!H:H<>"Yes"),0)),"")
A23: B-100628 | B23: Saran Siva | E23: 7907977206 | F23: saran2006425@gmail.com | G23: Studying | H23: BCA- 1st Year | I23: 1st Year | M23: Continue studying | N23: 35000 | O23: 84000 | P23: 78000 | R23: =IFERROR(N23+O23+P23,0) | Y23: =COUNTIF('Interaction Log'!A:A,A23) | Z23: =IFERROR(TEXT(MAXIFS('Interaction Log'!D:D,'Interaction Log'!A:A,A23),"dd-mmm-yy"),"") | AA23: =COUNTIFS('SSG Attendance Log'!A:A,A23,'SSG Attendance Log'!H:H,"Yes") | AB23: =COUNTIF('Crisis Log'!A:A,A23) | AC23: =IFERROR(INDEX('Crisis Log'!D:D,MATCH(1,('Crisis Log'!A:A=A23)*('Crisis Log'!H:H<>"Yes"),0)),"")
A24: B-100573 | B24: Novel Soren | C24: Male | D24: 2015 | E24: +91 8848395606 | F24: Snovel2004@gmail.com | G24: Working | K24: Other | L24: ₹10,000 – ₹20,000 | M24: Job change or transition | N24: 0 | O24: 54000 | P24: 78000 | R24: =IFERROR(N24+O24+P24,0) | Y24: =COUNTIF('Interaction Log'!A:A,A24) | Z24: =IFERROR(TEXT(MAXIFS('Interaction Log'!D:D,'Interaction Log'!A:A,A24),"dd-mmm-yy"),"") | AA24: =COUNTIFS('SSG Attendance Log'!A:A,A24,'SSG Attendance Log'!H:H,"Yes") | AB24: =COUNTIF('Crisis Log'!A:A,A24) | AC24: =IFERROR(INDEX('Crisis Log'!D:D,MATCH(1,('Crisis Log'!A:A=A24)*('Crisis Log'!H:H<>"Yes"),0)),"")
A25: B-100192 | B25: Vasudevan A | C25: Male | D25: 2022 | E25: 8590699537 | F25: a.vasudeva077@gmail.com | G25: Studying | H25: Fashion Designing- 1st year | I25: 1st year | M25: Continue studying | N25: 0 | O25: 0 | P25: 30000 | R25: =IFERROR(N25+O25+P25,0) | Y25: =COUNTIF('Interaction Log'!A:A,A25) | Z25: =IFERROR(TEXT(MAXIFS('Interaction Log'!D:D,'Interaction Log'!A:A,A25),"dd-mmm-yy"),"") | AA25: =COUNTIFS('SSG Attendance Log'!A:A,A25,'SSG Attendance Log'!H:H,"Yes") | AB25: =COUNTIF('Crisis Log'!A:A,A25) | AC25: =IFERROR(INDEX('Crisis Log'!D:D,MATCH(1,('Crisis Log'!A:A=A25)*('Crisis Log'!H:H<>"Yes"),0)),"")
A26: B-100190 | B26: Sojan K X | C26: Male | D26: 2016 | E26: 9633630493 | F26: sojankx383@gmail.com | G26: Working | K26: Other | M26: Continue working | N26: 0 | O26: 0 | P26: 0 | R26: =IFERROR(N26+O26+P26,0) | Y26: =COUNTIF('Interaction Log'!A:A,A26) | Z26: =IFERROR(TEXT(MAXIFS('Interaction Log'!D:D,'Interaction Log'!A:A,A26),"dd-mmm-yy"),"") | AA26: =COUNTIFS('SSG Attendance Log'!A:A,A26,'SSG Attendance Log'!H:H,"Yes") | AB26: =COUNTIF('Crisis Log'!A:A,A26) | AC26: =IFERROR(INDEX('Crisis Log'!D:D,MATCH(1,('Crisis Log'!A:A=A26)*('Crisis Log'!H:H<>"Yes"),0)),"")
A27: B-100621 | B27: Ajin Benny | C27: Male | D27: 2015 | E27: 8891789675 | F27: ajinbenny96@gmail.com | G27: Studying and working | H27: He is doing the internship for his hotel management course. | K27: Hospitality (hotel, restaurant, catering) | L27: ₹10,000 – ₹20,000 | M27: Continue working | N27: 40000 | O27: 0 | P27: 0 | R27: =IFERROR(N27+O27+P27,0) | Y27: =COUNTIF('Interaction Log'!A:A,A27) | Z27: =IFERROR(TEXT(MAXIFS('Interaction Log'!D:D,'Interaction Log'!A:A,A27),"dd-mmm-yy"),"") | AA27: =COUNTIFS('SSG Attendance Log'!A:A,A27,'SSG Attendance Log'!H:H,"Yes") | AB27: =COUNTIF('Crisis Log'!A:A,A27) | AC27: =IFERROR(INDEX('Crisis Log'!D:D,MATCH(1,('Crisis Log'!A:A=A27)*('Crisis Log'!H:H<>"Yes"),0)),"")
A28: B-100169 | B28: EREN YEAGER | C28: Male | D28: 2008 | E28: 8136830246 | F28: sudheeshp0505@gmail.com | G28: Studying and working | H28: German Language | K28: Education or Training | M28: Continue studying | N28: 50000 | O28: 21000 | P28: 0 | R28: =IFERROR(N28+O28+P28,0) | Y28: =COUNTIF('Interaction Log'!A:A,A28) | Z28: =IFERROR(TEXT(MAXIFS('Interaction Log'!D:D,'Interaction Log'!A:A,A28),"dd-mmm-yy"),"") | AA28: =COUNTIFS('SSG Attendance Log'!A:A,A28,'SSG Attendance Log'!H:H,"Yes") | AB28: =COUNTIF('Crisis Log'!A:A,A28) | AC28: =IFERROR(INDEX('Crisis Log'!D:D,MATCH(1,('Crisis Log'!A:A=A28)*('Crisis Log'!H:H<>"Yes"),0)),"")
A29: B-100167 | B29: K ajith | C29: Male | D29: 2010 | E29: 9746424977 | F29: ajithmv514@gmail.com | G29: Working | K29: Logistics or Delivery | L29: ₹10,000 – ₹20,000 | M29: Job change or transition | N29: 50000 | O29: 0 | P29: 0 | R29: =IFERROR(N29+O29+P29,0) | Y29: =COUNTIF('Interaction Log'!A:A,A29) | Z29: =IFERROR(TEXT(MAXIFS('Interaction Log'!D:D,'Interaction Log'!A:A,A29),"dd-mmm-yy"),"") | AA29: =COUNTIFS('SSG Attendance Log'!A:A,A29,'SSG Attendance Log'!H:H,"Yes") | AB29: =COUNTIF('Crisis Log'!A:A,A29) | AC29: =IFERROR(INDEX('Crisis Log'!D:D,MATCH(1,('Crisis Log'!A:A=A29)*('Crisis Log'!H:H<>"Yes"),0)),"")
A30: B-100654 | B30: John Maria Vianni | E30: 8848272576 | F30: johnmariavianni63@gmail.com | G30: Working | K30: Self-employed or Business | L30: ₹10,000 – ₹20,000 | M30: Job change or transition | N30: 79000 | O30: 0 | P30: 0 | R30: =IFERROR(N30+O30+P30,0) | Y30: =COUNTIF('Interaction Log'!A:A,A30) | Z30: =IFERROR(TEXT(MAXIFS('Interaction Log'!D:D,'Interaction Log'!A:A,A30),"dd-mmm-yy"),"") | AA30: =COUNTIFS('SSG Attendance Log'!A:A,A30,'SSG Attendance Log'!H:H,"Yes") | AB30: =COUNTIF('Crisis Log'!A:A,A30) | AC30: =IFERROR(INDEX('Crisis Log'!D:D,MATCH(1,('Crisis Log'!A:A=A30)*('Crisis Log'!H:H<>"Yes"),0)),"")
A31: B-100583 | B31: Robin | C31: Male | D31: 2020 | E31: 7012199427 | F31: robincarlos011@gmail.com | G31: Not engaged | L31: No Income | M31: Continue studying | N31: 40000 | O31: 0 | P31: 0 | R31: =IFERROR(N31+O31+P31,0) | Y31: =COUNTIF('Interaction Log'!A:A,A31) | Z31: =IFERROR(TEXT(MAXIFS('Interaction Log'!D:D,'Interaction Log'!A:A,A31),"dd-mmm-yy"),"") | AA31: =COUNTIFS('SSG Attendance Log'!A:A,A31,'SSG Attendance Log'!H:H,"Yes") | AB31: =COUNTIF('Crisis Log'!A:A,A31) | AC31: =IFERROR(INDEX('Crisis Log'!D:D,MATCH(1,('Crisis Log'!A:A=A31)*('Crisis Log'!H:H<>"Yes"),0)),"")
A32: B-100154 | B32: Babu | C32: Male | D32: 2006 | E32: 9074897772 | F32: babumonsb13@gmail.com | G32: Working | K32: Fashion Design | L32: 25000 | M32: Continue working | N32: 0 | O32: 0 | P32: 0 | R32: =IFERROR(N32+O32+P32,0) | Y32: =COUNTIF('Interaction Log'!A:A,A32) | Z32: =IFERROR(TEXT(MAXIFS('Interaction Log'!D:D,'Interaction Log'!A:A,A32),"dd-mmm-yy"),"") | AA32: =COUNTIFS('SSG Attendance Log'!A:A,A32,'SSG Attendance Log'!H:H,"Yes") | AB32: =COUNTIF('Crisis Log'!A:A,A32) | AC32: =IFERROR(INDEX('Crisis Log'!D:D,MATCH(1,('Crisis Log'!A:A=A32)*('Crisis Log'!H:H<>"Yes"),0)),"")
A33: B-100166 | B33: Dinesh Uikey | C33: Male | D33: 2008 | E33: 8139036897 | F33: dineshuikey0280@gmail.com | G33: Working | K33: Hospitality | L33: 25000 | M33: Continue working | N33: 0 | O33: 0 | P33: 0 | R33: =IFERROR(N33+O33+P33,0) | Y33: =COUNTIF('Interaction Log'!A:A,A33) | Z33: =IFERROR(TEXT(MAXIFS('Interaction Log'!D:D,'Interaction Log'!A:A,A33),"dd-mmm-yy"),"") | AA33: =COUNTIFS('SSG Attendance Log'!A:A,A33,'SSG Attendance Log'!H:H,"Yes") | AB33: =COUNTIF('Crisis Log'!A:A,A33) | AC33: =IFERROR(INDEX('Crisis Log'!D:D,MATCH(1,('Crisis Log'!A:A=A33)*('Crisis Log'!H:H<>"Yes"),0)),"")
A34: B-100165 | B34: Joby Joseph | E34: 9074550652 | F34: jobyjosephjj2003@gmail.com | G34: Working | K34: Banking and Financial | L34: 15000 | M34: Continue working | N34: 0 | O34: 0 | P34: 0 | R34: =IFERROR(N34+O34+P34,0) | Y34: =COUNTIF('Interaction Log'!A:A,A34) | Z34: =IFERROR(TEXT(MAXIFS('Interaction Log'!D:D,'Interaction Log'!A:A,A34),"dd-mmm-yy"),"") | AA34: =COUNTIFS('SSG Attendance Log'!A:A,A34,'SSG Attendance Log'!H:H,"Yes") | AB34: =COUNTIF('Crisis Log'!A:A,A34) | AC34: =IFERROR(INDEX('Crisis Log'!D:D,MATCH(1,('Crisis Log'!A:A=A34)*('Crisis Log'!H:H<>"Yes"),0)),"")
A35: B-100618 | B35: Noble B | C35: Male | D35: 2016 | E35: 8089659170 / 8606495469 | F35: nobleb262@gmail.com | G35: Working | K35: Banking | L35: 15000 | M35: Continue working | N35: 0 | O35: 0 | P35: 0 | R35: =IFERROR(N35+O35+P35,0) | Y35: =COUNTIF('Interaction Log'!A:A,A35) | Z35: =IFERROR(TEXT(MAXIFS('Interaction Log'!D:D,'Interaction Log'!A:A,A35),"dd-mmm-yy"),"") | AA35: =COUNTIFS('SSG Attendance Log'!A:A,A35,'SSG Attendance Log'!H:H,"Yes") | AB35: =COUNTIF('Crisis Log'!A:A,A35) | AC35: =IFERROR(INDEX('Crisis Log'!D:D,MATCH(1,('Crisis Log'!A:A=A35)*('Crisis Log'!H:H<>"Yes"),0)),"")
A36: B-100180 | B36: Arun Raj KR | C36: Male | D36: 2016 | E36: 8714859410 | F36: krarunraj123@gmail.com | G36: Working | K36: Banking | L36: 15000 | M36: Continue working | N36: 0 | O36: 0 | P36: 0 | R36: =IFERROR(N36+O36+P36,0) | Y36: =COUNTIF('Interaction Log'!A:A,A36) | Z36: =IFERROR(TEXT(MAXIFS('Interaction Log'!D:D,'Interaction Log'!A:A,A36),"dd-mmm-yy"),"") | AA36: =COUNTIFS('SSG Attendance Log'!A:A,A36,'SSG Attendance Log'!H:H,"Yes") | AB36: =COUNTIF('Crisis Log'!A:A,A36) | AC36: =IFERROR(INDEX('Crisis Log'!D:D,MATCH(1,('Crisis Log'!A:A=A36)*('Crisis Log'!H:H<>"Yes"),0)),"")
A37: B-100176 | B37: Joyalthomas | C37: Male | D37: 2008 | E37: 7559053812 | F37: joyalthomasmju@gmail.com | G37: Working | K37: Education | L37: 15000 | M37: Continue working | N37: 0 | O37: 0 | P37: 0 | R37: =IFERROR(N37+O37+P37,0) | Y37: =COUNTIF('Interaction Log'!A:A,A37) | Z37: =IFERROR(TEXT(MAXIFS('Interaction Log'!D:D,'Interaction Log'!A:A,A37),"dd-mmm-yy"),"") | AA37: =COUNTIFS('SSG Attendance Log'!A:A,A37,'SSG Attendance Log'!H:H,"Yes") | AB37: =COUNTIF('Crisis Log'!A:A,A37) | AC37: =IFERROR(INDEX('Crisis Log'!D:D,MATCH(1,('Crisis Log'!A:A=A37)*('Crisis Log'!H:H<>"Yes"),0)),"")
A38: B-100183 | B38: Pavithran S | C38: Male | D38: 2017 | E38: 6369373839 | F38: pavithran636937@gmail.com | G38: Studying | H38: Deepa College 2nd year | I38: 2nd year | M38: Continue working | N38: 0 | O38: 0 | P38: 0 | R38: =IFERROR(N38+O38+P38,0) | Y38: =COUNTIF('Interaction Log'!A:A,A38) | Z38: =IFERROR(TEXT(MAXIFS('Interaction Log'!D:D,'Interaction Log'!A:A,A38),"dd-mmm-yy"),"") | AA38: =COUNTIFS('SSG Attendance Log'!A:A,A38,'SSG Attendance Log'!H:H,"Yes") | AB38: =COUNTIF('Crisis Log'!A:A,A38) | AC38: =IFERROR(INDEX('Crisis Log'!D:D,MATCH(1,('Crisis Log'!A:A=A38)*('Crisis Log'!H:H<>"Yes"),0)),"")
A39: B-100168 | B39: Rahul Chandrakanth | C39: Male | D39: 2013 | E39: 6238895298 | F39: Chandrakanthrahul7@gmail.com | G39: Working | K39: IT | L39: 15000 | M39: Continue working | N39: 0 | O39: 0 | P39: 0 | R39: =IFERROR(N39+O39+P39,0) | Y39: =COUNTIF('Interaction Log'!A:A,A39) | Z39: =IFERROR(TEXT(MAXIFS('Interaction Log'!D:D,'Interaction Log'!A:A,A39),"dd-mmm-yy"),"") | AA39: =COUNTIFS('SSG Attendance Log'!A:A,A39,'SSG Attendance Log'!H:H,"Yes") | AB39: =COUNTIF('Crisis Log'!A:A,A39) | AC39: =IFERROR(INDEX('Crisis Log'!D:D,MATCH(1,('Crisis Log'!A:A=A39)*('Crisis Log'!H:H<>"Yes"),0)),"")
A40: B-100518 | B40: Sidharth Kousalya | C40: Male | D40: 2020 | E40: +91 73564 16509 | F40: Kss475219@gmail.com | G40: Studying | M40: Continue working | N40: 0 | O40: 0 | P40: 0 | R40: =IFERROR(N40+O40+P40,0) | Y40: =COUNTIF('Interaction Log'!A:A,A40) | Z40: =IFERROR(TEXT(MAXIFS('Interaction Log'!D:D,'Interaction Log'!A:A,A40),"dd-mmm-yy"),"") | AA40: =COUNTIFS('SSG Attendance Log'!A:A,A40,'SSG Attendance Log'!H:H,"Yes") | AB40: =COUNTIF('Crisis Log'!A:A,A40) | AC40: =IFERROR(INDEX('Crisis Log'!D:D,MATCH(1,('Crisis Log'!A:A=A40)*('Crisis Log'!H:H<>"Yes"),0)),"")
A41: B-100173 | B41: Sudhaker P | C41: Male | D41: 2014 | E41: 7306328505 | F41: sudhakarperumal83@gmail.com | G41: Working | K41: Importing Company (Vega Vegetable Import) | L41: 17000 | M41: Continue working | N41: 0 | O41: 0 | P41: 0 | R41: =IFERROR(N41+O41+P41,0) | Y41: =COUNTIF('Interaction Log'!A:A,A41) | Z41: =IFERROR(TEXT(MAXIFS('Interaction Log'!D:D,'Interaction Log'!A:A,A41),"dd-mmm-yy"),"") | AA41: =COUNTIFS('SSG Attendance Log'!A:A,A41,'SSG Attendance Log'!H:H,"Yes") | AB41: =COUNTIF('Crisis Log'!A:A,A41) | AC41: =IFERROR(INDEX('Crisis Log'!D:D,MATCH(1,('Crisis Log'!A:A=A41)*('Crisis Log'!H:H<>"Yes"),0)),"")
A42: B-100171 | B42: Terrance Stanley | C42: Male | D42: 2009 | E42: 6282259189 | F42: terrancestanley909@gmail.com | G42: Working | K42: Digital Marketing | L42: 13000 | M42: Continue working | N42: 0 | O42: 0 | P42: 0 | R42: =IFERROR(N42+O42+P42,0) | Y42: =COUNTIF('Interaction Log'!A:A,A42) | Z42: =IFERROR(TEXT(MAXIFS('Interaction Log'!D:D,'Interaction Log'!A:A,A42),"dd-mmm-yy"),"") | AA42: =COUNTIFS('SSG Attendance Log'!A:A,A42,'SSG Attendance Log'!H:H,"Yes") | AB42: =COUNTIF('Crisis Log'!A:A,A42) | AC42: =IFERROR(INDEX('Crisis Log'!D:D,MATCH(1,('Crisis Log'!A:A=A42)*('Crisis Log'!H:H<>"Yes"),0)),"")
A43: CHAPTER NOTES
A44: [ Notes ]

Sheet Coimbatore
A1: COIMBATORE · 12 youth · 12M 0F · Budget: Rs 973,000
A2: Studying: 8 Working: 0 · Sch: Rs 310,000 Hous: Rs 447,000 Stip: Rs 216,000 · Col C = Gender (Male/Female) — update here → dashboard auto-updates
A3: GREEN = pre-filled from Pulse 2026 · YELLOW = chapter YPC fills · Edit Gender (col C) or Status (col G) here — Overview Dashboard updates automatically
A4: IDENTITY | E4: CONTACT | G4: CURRENT STATUS | M4: PLAN 2026-27 | N4: FINANCIAL SUPPORT | S4: WINGMAN & SSG | U4: PROGRAMME | Y4: INTERACTIONS | AA4: SSG ATTENDANCE | AB4: CRISIS
A5: MAD Code | B5: Full Name | C5: Gender | D5: Year Joined | E5: Phone | F5: Email | G5: Current Status | H5: Course | I5: Year / Stage | J5: Role / Employer | K5: Industry | L5: Current Income | M5: Plan for 2026-27 | N5: Scholarship (Rs) | O5: Housing (Rs) | P5: Stipend/mo (Rs) | Q5: Support Until | R5: Total Support (Rs) | S5: Wingman Name | T5: SSG Name | U5: Plan 2026-27 (YPC) | V5: Current Activity | W5: Next Review Date | X5: Flag / Action | Y5: Interactions (auto) | Z5: Last Interaction | AA5: SSG Sessions (auto) | AB5: Crisis Count (auto) | AC5: Last Crisis Level
A6: B-100286 | B6: ARAVINDHAN R | C6: Male | D6: 2019 | E6: 7871066012 | F6: raravind884@gmail.com | G6: Studying and working | H6: Data science, 6 months course | K6: Retail or Sales | L6: No Income | M6: Complete course and transition to work | N6: 0 | O6: 45000 | P6: 0 | R6: =IFERROR(N6+O6+P6,0) | Y6: =COUNTIF('Interaction Log'!A:A,A6) | Z6: =IFERROR(TEXT(MAXIFS('Interaction Log'!D:D,'Interaction Log'!A:A,A6),"dd-mmm-yy"),"") | AA6: =COUNTIFS('SSG Attendance Log'!A:A,A6,'SSG Attendance Log'!H:H,"Yes") | AB6: =COUNTIF('Crisis Log'!A:A,A6) | AC6: =IFERROR(INDEX('Crisis Log'!D:D,MATCH(1,('Crisis Log'!A:A=A6)*('Crisis Log'!H:H<>"Yes"),0)),"")
A7: B-100287 | B7: Sakthivel R | C7: Male | D7: 2015 | E7: 7538890636 | F7: sakthivelr2510@gmail.com | G7: Studying and working | H7: 6 month course | K7: Retail or Sales | L7: No Income | M7: Complete course and transition to work | N7: 0 | O7: 45000 | P7: 0 | R7: =IFERROR(N7+O7+P7,0) | Y7: =COUNTIF('Interaction Log'!A:A,A7) | Z7: =IFERROR(TEXT(MAXIFS('Interaction Log'!D:D,'Interaction Log'!A:A,A7),"dd-mmm-yy"),"") | AA7: =COUNTIFS('SSG Attendance Log'!A:A,A7,'SSG Attendance Log'!H:H,"Yes") | AB7: =COUNTIF('Crisis Log'!A:A,A7) | AC7: =IFERROR(INDEX('Crisis Log'!D:D,MATCH(1,('Crisis Log'!A:A=A7)*('Crisis Log'!H:H<>"Yes"),0)),"")
A8: B-100275 | B8: T Sathish Kumar | C8: Male | D8: 2022 | E8: 7358304789 | F8: sathishkumar0162005@gmail.com | G8: Studying | H8: B.Tech AI&DS - 2 nd year | L8: No Income | M8: Continue studying | N8: 130000 | O8: 0 | P8: 24000 | R8: =IFERROR(N8+O8+P8,0) | Y8: =COUNTIF('Interaction Log'!A:A,A8) | Z8: =IFERROR(TEXT(MAXIFS('Interaction Log'!D:D,'Interaction Log'!A:A,A8),"dd-mmm-yy"),"") | AA8: =COUNTIFS('SSG Attendance Log'!A:A,A8,'SSG Attendance Log'!H:H,"Yes") | AB8: =COUNTIF('Crisis Log'!A:A,A8) | AC8: =IFERROR(INDEX('Crisis Log'!D:D,MATCH(1,('Crisis Log'!A:A=A8)*('Crisis Log'!H:H<>"Yes"),0)),"")
A9: B-100631 | B9: VIGNESH B | C9: Male | D9: 2022 | E9: 8220690652 | F9: premalathavignesh8@gmail.com | G9: Studying | H9: Bcom CS | K9: Self-employed or Business | L9: No Income | M9: Continue studying | N9: 0 | O9: 0 | P9: 24000 | R9: =IFERROR(N9+O9+P9,0) | Y9: =COUNTIF('Interaction Log'!A:A,A9) | Z9: =IFERROR(TEXT(MAXIFS('Interaction Log'!D:D,'Interaction Log'!A:A,A9),"dd-mmm-yy"),"") | AA9: =COUNTIFS('SSG Attendance Log'!A:A,A9,'SSG Attendance Log'!H:H,"Yes") | AB9: =COUNTIF('Crisis Log'!A:A,A9) | AC9: =IFERROR(INDEX('Crisis Log'!D:D,MATCH(1,('Crisis Log'!A:A=A9)*('Crisis Log'!H:H<>"Yes"),0)),"")
A10: B-100284 | B10: JAMES A | C10: Male | D10: 2018 | E10: 6374202283 | F10: james9122000@gmail.com | G10: Studying | H10: Msc - Human Genetics and Molecular Biology 1 year | I10: 1 year | K10: Other | L10: No Income | M10: Continue studying | N10: 0 | O10: 45000 | P10: 18000 | R10: =IFERROR(N10+O10+P10,0) | Y10: =COUNTIF('Interaction Log'!A:A,A10) | Z10: =IFERROR(TEXT(MAXIFS('Interaction Log'!D:D,'Interaction Log'!A:A,A10),"dd-mmm-yy"),"") | AA10: =COUNTIFS('SSG Attendance Log'!A:A,A10,'SSG Attendance Log'!H:H,"Yes") | AB10: =COUNTIF('Crisis Log'!A:A,A10) | AC10: =IFERROR(INDEX('Crisis Log'!D:D,MATCH(1,('Crisis Log'!A:A=A10)*('Crisis Log'!H:H<>"Yes"),0)),"")
A11: B-100623 | B11: SRINIVASAN B | C11: Male | D11: 2017 | E11: 6374494429 | F11: srinivasan29062005@gmail.com | G11: Studying and working | K11: Retail or Sales | L11: Less than ₹10,000 | M11: Complete course and transition to work | N11: 50000 | O11: 45000 | P11: 18000 | R11: =IFERROR(N11+O11+P11,0) | Y11: =COUNTIF('Interaction Log'!A:A,A11) | Z11: =IFERROR(TEXT(MAXIFS('Interaction Log'!D:D,'Interaction Log'!A:A,A11),"dd-mmm-yy"),"") | AA11: =COUNTIFS('SSG Attendance Log'!A:A,A11,'SSG Attendance Log'!H:H,"Yes") | AB11: =COUNTIF('Crisis Log'!A:A,A11) | AC11: =IFERROR(INDEX('Crisis Log'!D:D,MATCH(1,('Crisis Log'!A:A=A11)*('Crisis Log'!H:H<>"Yes"),0)),"")
A12: B-100270 | B12: Sathish Kumar D | C12: Male | D12: 2016 | E12: 8778855748 | F12: Sathish050703@gmail.com | G12: Studying and working | H12: B.com 2nd year | I12: 2nd year | K12: Retail or Sales | L12: Less than ₹10,000 | M12: Continue studying | N12: 65000 | O12: 45000 | P12: 18000 | R12: =IFERROR(N12+O12+P12,0) | Y12: =COUNTIF('Interaction Log'!A:A,A12) | Z12: =IFERROR(TEXT(MAXIFS('Interaction Log'!D:D,'Interaction Log'!A:A,A12),"dd-mmm-yy"),"") | AA12: =COUNTIFS('SSG Attendance Log'!A:A,A12,'SSG Attendance Log'!H:H,"Yes") | AB12: =COUNTIF('Crisis Log'!A:A,A12) | AC12: =IFERROR(INDEX('Crisis Log'!D:D,MATCH(1,('Crisis Log'!A:A=A12)*('Crisis Log'!H:H<>"Yes"),0)),"")
A13: B-100283 | B13: Santhosh | C13: Male | D13: 2015 | E13: 7603968724 | F13: Santhoshmk.cbe@gmail.com | G13: Studying | H13: Msc I year | K13: Other | L13: No Income | M13: Continue studying | N13: 40000 | O13: 45000 | P13: 18000 | R13: =IFERROR(N13+O13+P13,0) | Y13: =COUNTIF('Interaction Log'!A:A,A13) | Z13: =IFERROR(TEXT(MAXIFS('Interaction Log'!D:D,'Interaction Log'!A:A,A13),"dd-mmm-yy"),"") | AA13: =COUNTIFS('SSG Attendance Log'!A:A,A13,'SSG Attendance Log'!H:H,"Yes") | AB13: =COUNTIF('Crisis Log'!A:A,A13) | AC13: =IFERROR(INDEX('Crisis Log'!D:D,MATCH(1,('Crisis Log'!A:A=A13)*('Crisis Log'!H:H<>"Yes"),0)),"")
A14: B-100278 | B14: Sivaprakash P | C14: Male | D14: 2019 | E14: 8122070218 | F14: yadavsivaprakash007@gmail.com | G14: Studying | H14: B.Sc Information technology 3rd year | I14: 3rd year | L14: No Income | M14: Start working | N14: 25000 | O14: 72000 | P14: 30000 | R14: =IFERROR(N14+O14+P14,0) | Y14: =COUNTIF('Interaction Log'!A:A,A14) | Z14: =IFERROR(TEXT(MAXIFS('Interaction Log'!D:D,'Interaction Log'!A:A,A14),"dd-mmm-yy"),"") | AA14: =COUNTIFS('SSG Attendance Log'!A:A,A14,'SSG Attendance Log'!H:H,"Yes") | AB14: =COUNTIF('Crisis Log'!A:A,A14) | AC14: =IFERROR(INDEX('Crisis Log'!D:D,MATCH(1,('Crisis Log'!A:A=A14)*('Crisis Log'!H:H<>"Yes"),0)),"")
A15: B-100279 | B15: Sachin | C15: Male | D15: 2024 | E15: 8608051078 | F15: sachin860806@gmail.com | G15: Studying | H15: 3rd year | I15: 3rd year | L15: No Income | M15: Continue studying | N15: 0 | O15: 60000 | P15: 24000 | R15: =IFERROR(N15+O15+P15,0) | Y15: =COUNTIF('Interaction Log'!A:A,A15) | Z15: =IFERROR(TEXT(MAXIFS('Interaction Log'!D:D,'Interaction Log'!A:A,A15),"dd-mmm-yy"),"") | AA15: =COUNTIFS('SSG Attendance Log'!A:A,A15,'SSG Attendance Log'!H:H,"Yes") | AB15: =COUNTIF('Crisis Log'!A:A,A15) | AC15: =IFERROR(INDEX('Crisis Log'!D:D,MATCH(1,('Crisis Log'!A:A=A15)*('Crisis Log'!H:H<>"Yes"),0)),"")
A16: B-100290 | B16: Jeeva Sakthivel | C16: Male | D16: 2021 | E16: 8870082634 | F16: jeeva03211@gmail.com | G16: Studying | H16: Course (2026) | K16: Education or Training | L16: No Income | M16: Continue studying | N16: 0 | O16: 45000 | P16: 18000 | R16: =IFERROR(N16+O16+P16,0) | Y16: =COUNTIF('Interaction Log'!A:A,A16) | Z16: =IFERROR(TEXT(MAXIFS('Interaction Log'!D:D,'Interaction Log'!A:A,A16),"dd-mmm-yy"),"") | AA16: =COUNTIFS('SSG Attendance Log'!A:A,A16,'SSG Attendance Log'!H:H,"Yes") | AB16: =COUNTIF('Crisis Log'!A:A,A16) | AC16: =IFERROR(INDEX('Crisis Log'!D:D,MATCH(1,('Crisis Log'!A:A=A16)*('Crisis Log'!H:H<>"Yes"),0)),"")
A17: B-100642 | B17: Sri Hari | C17: Male | D17: 2014 | E17: 8825674759 | F17: srikutty6824@gmail.com | G17: Studying | H17: B.sc(IT) / 2years | I17: 2year | L17: No Income | M17: Continue studying | N17: 0 | O17: 0 | P17: 24000 | R17: =IFERROR(N17+O17+P17,0) | Y17: =COUNTIF('Interaction Log'!A:A,A17) | Z17: =IFERROR(TEXT(MAXIFS('Interaction Log'!D:D,'Interaction Log'!A:A,A17),"dd-mmm-yy"),"") | AA17: =COUNTIFS('SSG Attendance Log'!A:A,A17,'SSG Attendance Log'!H:H,"Yes") | AB17: =COUNTIF('Crisis Log'!A:A,A17) | AC17: =IFERROR(INDEX('Crisis Log'!D:D,MATCH(1,('Crisis Log'!A:A=A17)*('Crisis Log'!H:H<>"Yes"),0)),"")
A18: CHAPTER NOTES
A19: [ Notes ]

Sheet Delhi
A1: DELHI · 61 youth · 45M 13F 3 gender not set — fill col C · Budget: Rs 3,264,846
A2: Studying: 25 Working: 18 · Sch: Rs 819,546 Hous: Rs 1,612,050 Stip: Rs 833,250 · Col C = Gender (Male/Female) — update here → dashboard auto-updates
A3: GREEN = pre-filled from Pulse 2026 · YELLOW = chapter YPC fills · Edit Gender (col C) or Status (col G) here — Overview Dashboard updates automatically
A4: IDENTITY | E4: CONTACT | G4: CURRENT STATUS | M4: PLAN 2026-27 | N4: FINANCIAL SUPPORT | S4: WINGMAN & SSG | U4: PROGRAMME | Y4: INTERACTIONS | AA4: SSG ATTENDANCE | AB4: CRISIS
A5: MAD Code | B5: Full Name | C5: Gender | D5: Year Joined | E5: Phone | F5: Email | G5: Current Status | H5: Course | I5: Year / Stage | J5: Role / Employer | K5: Industry | L5: Current Income | M5: Plan for 2026-27 | N5: Scholarship (Rs) | O5: Housing (Rs) | P5: Stipend/mo (Rs) | Q5: Support Until | R5: Total Support (Rs) | S5: Wingman Name | T5: SSG Name | U5: Plan 2026-27 (YPC) | V5: Current Activity | W5: Next Review Date | X5: Flag / Action | Y5: Interactions (auto) | Z5: Last Interaction | AA5: SSG Sessions (auto) | AB5: Crisis Count (auto) | AC5: Last Crisis Level
A6: B-100446 | B6: Gulafsha | C6: Female | D6: 2018 | E6: 9971173856 | F6: g6085418@gmail.com | G6: Working | K6: Education or Training | L6: Less than ₹10,000 | M6: Continue studying | N6: 35000 | O6: 58500 | P6: 0 | R6: =IFERROR(N6+O6+P6,0) | Y6: =COUNTIF('Interaction Log'!A:A,A6) | Z6: =IFERROR(TEXT(MAXIFS('Interaction Log'!D:D,'Interaction Log'!A:A,A6),"dd-mmm-yy"),"") | AA6: =COUNTIFS('SSG Attendance Log'!A:A,A6,'SSG Attendance Log'!H:H,"Yes") | AB6: =COUNTIF('Crisis Log'!A:A,A6) | AC6: =IFERROR(INDEX('Crisis Log'!D:D,MATCH(1,('Crisis Log'!A:A=A6)*('Crisis Log'!H:H<>"Yes"),0)),"")
A7: B-100441 | B7: Farhana Saghir | C7: Female | D7: 2018 | E7: 8447081703 | F7: fk1939253@gmail.com | G7: Studying | K7: IT or Technology | L7: No Income | M7: Continue studying | N7: 30000 | O7: 0 | P7: 9000 | R7: =IFERROR(N7+O7+P7,0) | Y7: =COUNTIF('Interaction Log'!A:A,A7) | Z7: =IFERROR(TEXT(MAXIFS('Interaction Log'!D:D,'Interaction Log'!A:A,A7),"dd-mmm-yy"),"") | AA7: =COUNTIFS('SSG Attendance Log'!A:A,A7,'SSG Attendance Log'!H:H,"Yes") | AB7: =COUNTIF('Crisis Log'!A:A,A7) | AC7: =IFERROR(INDEX('Crisis Log'!D:D,MATCH(1,('Crisis Log'!A:A=A7)*('Crisis Log'!H:H<>"Yes"),0)),"")
A8: B-100450 | B8: Razia | C8: Female | D8: 2021 | E8: 9311130895 | F8: raziakhan36532@gamil.com | G8: Studying | H8: Graduation in social science 3rd year | I8: 3rd year | K8: Education or Training | L8: No Income | M8: Continue studying | N8: 60000 | O8: 72000 | P8: 24000 | R8: =IFERROR(N8+O8+P8,0) | Y8: =COUNTIF('Interaction Log'!A:A,A8) | Z8: =IFERROR(TEXT(MAXIFS('Interaction Log'!D:D,'Interaction Log'!A:A,A8),"dd-mmm-yy"),"") | AA8: =COUNTIFS('SSG Attendance Log'!A:A,A8,'SSG Attendance Log'!H:H,"Yes") | AB8: =COUNTIF('Crisis Log'!A:A,A8) | AC8: =IFERROR(INDEX('Crisis Log'!D:D,MATCH(1,('Crisis Log'!A:A=A8)*('Crisis Log'!H:H<>"Yes"),0)),"")
A9: B-100482 | B9: Sanjay kumar | C9: Male | D9: 2020 | E9: 9625244581 | F9: t. Sanjay 90050@gmail.com | G9: Looking for a job | L9: No Income | M9: Continue studying | N9: 0 | O9: 9000 | P9: 9000 | R9: =IFERROR(N9+O9+P9,0) | Y9: =COUNTIF('Interaction Log'!A:A,A9) | Z9: =IFERROR(TEXT(MAXIFS('Interaction Log'!D:D,'Interaction Log'!A:A,A9),"dd-mmm-yy"),"") | AA9: =COUNTIFS('SSG Attendance Log'!A:A,A9,'SSG Attendance Log'!H:H,"Yes") | AB9: =COUNTIF('Crisis Log'!A:A,A9) | AC9: =IFERROR(INDEX('Crisis Log'!D:D,MATCH(1,('Crisis Log'!A:A=A9)*('Crisis Log'!H:H<>"Yes"),0)),"")
A10: B-100565 | B10: Imam Hussain | C10: Male | D10: 2024 | E10: 8448375272 | F10: imamhussain8448@gmail.com | G10: Studying | H10: DU SOL 1st year | I10: 1st year | M10: Continue studying | N10: 20000 | O10: 0 | P10: 0 | R10: =IFERROR(N10+O10+P10,0) | Y10: =COUNTIF('Interaction Log'!A:A,A10) | Z10: =IFERROR(TEXT(MAXIFS('Interaction Log'!D:D,'Interaction Log'!A:A,A10),"dd-mmm-yy"),"") | AA10: =COUNTIFS('SSG Attendance Log'!A:A,A10,'SSG Attendance Log'!H:H,"Yes") | AB10: =COUNTIF('Crisis Log'!A:A,A10) | AC10: =IFERROR(INDEX('Crisis Log'!D:D,MATCH(1,('Crisis Log'!A:A=A10)*('Crisis Log'!H:H<>"Yes"),0)),"")
A11: B-100477 | B11: Vicky | C11: Male | D11: 2012 | E11: 7827669452 | F11: vickyrathore085@gmail.com | G11: Working | K11: Hospitality (hotel, restaurant, catering) | L11: ₹10,000 – ₹20,000 | M11: Continue working | N11: 0 | O11: 0 | P11: 12000 | R11: =IFERROR(N11+O11+P11,0) | Y11: =COUNTIF('Interaction Log'!A:A,A11) | Z11: =IFERROR(TEXT(MAXIFS('Interaction Log'!D:D,'Interaction Log'!A:A,A11),"dd-mmm-yy"),"") | AA11: =COUNTIFS('SSG Attendance Log'!A:A,A11,'SSG Attendance Log'!H:H,"Yes") | AB11: =COUNTIF('Crisis Log'!A:A,A11) | AC11: =IFERROR(INDEX('Crisis Log'!D:D,MATCH(1,('Crisis Log'!A:A=A11)*('Crisis Log'!H:H<>"Yes"),0)),"")
A12: B-100567 | B12: Sahil | C12: Male | D12: 2024 | E12: 8882774269 | F12: Sahilkuamr232@gmail.com | G12: Studying | H12: BA honours | M12: Continue studying | N12: 20000 | O12: 0 | P12: 0 | R12: =IFERROR(N12+O12+P12,0) | Y12: =COUNTIF('Interaction Log'!A:A,A12) | Z12: =IFERROR(TEXT(MAXIFS('Interaction Log'!D:D,'Interaction Log'!A:A,A12),"dd-mmm-yy"),"") | AA12: =COUNTIFS('SSG Attendance Log'!A:A,A12,'SSG Attendance Log'!H:H,"Yes") | AB12: =COUNTIF('Crisis Log'!A:A,A12) | AC12: =IFERROR(INDEX('Crisis Log'!D:D,MATCH(1,('Crisis Log'!A:A=A12)*('Crisis Log'!H:H<>"Yes"),0)),"")
A13: B-100447 | B13: Anam | C13: Female | D13: 2021 | E13: 7428871637 | F13: saifianam143@gmail.com | G13: Not engaged | M13: Still exploring | N13: 0 | O13: 48000 | P13: 0 | R13: =IFERROR(N13+O13+P13,0) | Y13: =COUNTIF('Interaction Log'!A:A,A13) | Z13: =IFERROR(TEXT(MAXIFS('Interaction Log'!D:D,'Interaction Log'!A:A,A13),"dd-mmm-yy"),"") | AA13: =COUNTIFS('SSG Attendance Log'!A:A,A13,'SSG Attendance Log'!H:H,"Yes") | AB13: =COUNTIF('Crisis Log'!A:A,A13) | AC13: =IFERROR(INDEX('Crisis Log'!D:D,MATCH(1,('Crisis Log'!A:A=A13)*('Crisis Log'!H:H<>"Yes"),0)),"")
A14: B-100453 | B14: Usama Parvez | C14: Male | D14: 2018 | E14: 7683005381 | F14: usamaparvez174@gmail.com | G14: Looking for a job | K14: Hospitality (hotel, restaurant, catering) | L14: No Income | M14: Complete course and transition to work | N14: 0 | O14: 0 | P14: 13500 | R14: =IFERROR(N14+O14+P14,0) | Y14: =COUNTIF('Interaction Log'!A:A,A14) | Z14: =IFERROR(TEXT(MAXIFS('Interaction Log'!D:D,'Interaction Log'!A:A,A14),"dd-mmm-yy"),"") | AA14: =COUNTIFS('SSG Attendance Log'!A:A,A14,'SSG Attendance Log'!H:H,"Yes") | AB14: =COUNTIF('Crisis Log'!A:A,A14) | AC14: =IFERROR(INDEX('Crisis Log'!D:D,MATCH(1,('Crisis Log'!A:A=A14)*('Crisis Log'!H:H<>"Yes"),0)),"")
A15: B-100444 | B15: Farheen | C15: Female | D15: 2021 | E15: 9870361329 | F15: Fsaifi143143@gmail.com | G15: Not engaged | K15: Freelance or Gig work | L15: No Income | M15: Still exploring | N15: 0 | O15: 0 | P15: 0 | R15: =IFERROR(N15+O15+P15,0) | Y15: =COUNTIF('Interaction Log'!A:A,A15) | Z15: =IFERROR(TEXT(MAXIFS('Interaction Log'!D:D,'Interaction Log'!A:A,A15),"dd-mmm-yy"),"") | AA15: =COUNTIFS('SSG Attendance Log'!A:A,A15,'SSG Attendance Log'!H:H,"Yes") | AB15: =COUNTIF('Crisis Log'!A:A,A15) | AC15: =IFERROR(INDEX('Crisis Log'!D:D,MATCH(1,('Crisis Log'!A:A=A15)*('Crisis Log'!H:H<>"Yes"),0)),"")
A16: B-100435 | B16: Nahid | C16: Female | D16: 2017 | E16: 7838128288 | F16: nnahid2105@gmail.com | G16: Working | K16: Other | L16: Less than ₹10,000 | M16: Job change or transition | N16: 15000 | O16: 0 | P16: 36000 | R16: =IFERROR(N16+O16+P16,0) | Y16: =COUNTIF('Interaction Log'!A:A,A16) | Z16: =IFERROR(TEXT(MAXIFS('Interaction Log'!D:D,'Interaction Log'!A:A,A16),"dd-mmm-yy"),"") | AA16: =COUNTIFS('SSG Attendance Log'!A:A,A16,'SSG Attendance Log'!H:H,"Yes") | AB16: =COUNTIF('Crisis Log'!A:A,A16) | AC16: =IFERROR(INDEX('Crisis Log'!D:D,MATCH(1,('Crisis Log'!A:A=A16)*('Crisis Log'!H:H<>"Yes"),0)),"")
A17: B-100436 | B17: Afsana | C17: Female | D17: 2022 | E17: 7835950421 | F17: afsanashaikhsiddiqui600@gmail.com | G17: Studying and working | H17: LLB and 2nd year | I17: 2nd year | K17: NGO or Social sector | L17: ₹10,000 – ₹20,000 | M17: Continue working | N17: 36000 | O17: 0 | P17: 12000 | R17: =IFERROR(N17+O17+P17,0) | Y17: =COUNTIF('Interaction Log'!A:A,A17) | Z17: =IFERROR(TEXT(MAXIFS('Interaction Log'!D:D,'Interaction Log'!A:A,A17),"dd-mmm-yy"),"") | AA17: =COUNTIFS('SSG Attendance Log'!A:A,A17,'SSG Attendance Log'!H:H,"Yes") | AB17: =COUNTIF('Crisis Log'!A:A,A17) | AC17: =IFERROR(INDEX('Crisis Log'!D:D,MATCH(1,('Crisis Log'!A:A=A17)*('Crisis Log'!H:H<>"Yes"),0)),"")
A18: B-100496 | B18: Chandan prasad | C18: Male | D18: 2023 | E18: 9971318337 | F18: chandanyadev2004@gmail.com | G18: Studying | M18: Start working | N18: 0 | O18: 54000 | P18: 27000 | R18: =IFERROR(N18+O18+P18,0) | Y18: =COUNTIF('Interaction Log'!A:A,A18) | Z18: =IFERROR(TEXT(MAXIFS('Interaction Log'!D:D,'Interaction Log'!A:A,A18),"dd-mmm-yy"),"") | AA18: =COUNTIFS('SSG Attendance Log'!A:A,A18,'SSG Attendance Log'!H:H,"Yes") | AB18: =COUNTIF('Crisis Log'!A:A,A18) | AC18: =IFERROR(INDEX('Crisis Log'!D:D,MATCH(1,('Crisis Log'!A:A=A18)*('Crisis Log'!H:H<>"Yes"),0)),"")
A19: B-100488 | B19: Zakir | C19: Male | D19: 2018 | E19: 8376863887 | F19: zakirkhan9536zz@gmail.com | G19: Looking for a job | L19: No Income | M19: Complete course and transition to work | N19: 16000 | O19: 60000 | P19: 18000 | R19: =IFERROR(N19+O19+P19,0) | Y19: =COUNTIF('Interaction Log'!A:A,A19) | Z19: =IFERROR(TEXT(MAXIFS('Interaction Log'!D:D,'Interaction Log'!A:A,A19),"dd-mmm-yy"),"") | AA19: =COUNTIFS('SSG Attendance Log'!A:A,A19,'SSG Attendance Log'!H:H,"Yes") | AB19: =COUNTIF('Crisis Log'!A:A,A19) | AC19: =IFERROR(INDEX('Crisis Log'!D:D,MATCH(1,('Crisis Log'!A:A=A19)*('Crisis Log'!H:H<>"Yes"),0)),"")
A20: B-100497 | B20: Rajesh paswan | C20: Male | D20: 2022 | E20: 8287897973 | F20: rajeshyou2003@gmail.com | G20: Studying | H20: B.A Political Science Honours and Government Exams | K20: Other | L20: No Income | M20: Continue studying | N20: 24000 | O20: 0 | P20: 0 | R20: =IFERROR(N20+O20+P20,0) | Y20: =COUNTIF('Interaction Log'!A:A,A20) | Z20: =IFERROR(TEXT(MAXIFS('Interaction Log'!D:D,'Interaction Log'!A:A,A20),"dd-mmm-yy"),"") | AA20: =COUNTIFS('SSG Attendance Log'!A:A,A20,'SSG Attendance Log'!H:H,"Yes") | AB20: =COUNTIF('Crisis Log'!A:A,A20) | AC20: =IFERROR(INDEX('Crisis Log'!D:D,MATCH(1,('Crisis Log'!A:A=A20)*('Crisis Log'!H:H<>"Yes"),0)),"")
A21: B-100505 | B21: Gaurav | C21: Male | D21: 2023 | E21: 9315703613 | F21: hennrygaurav@gmail.com | G21: Studying | H21: 3rd year of college | I21: 3rd year | K21: Other | L21: No Income | M21: Continue studying | N21: 15000 | O21: 0 | P21: 0 | R21: =IFERROR(N21+O21+P21,0) | Y21: =COUNTIF('Interaction Log'!A:A,A21) | Z21: =IFERROR(TEXT(MAXIFS('Interaction Log'!D:D,'Interaction Log'!A:A,A21),"dd-mmm-yy"),"") | AA21: =COUNTIFS('SSG Attendance Log'!A:A,A21,'SSG Attendance Log'!H:H,"Yes") | AB21: =COUNTIF('Crisis Log'!A:A,A21) | AC21: =IFERROR(INDEX('Crisis Log'!D:D,MATCH(1,('Crisis Log'!A:A=A21)*('Crisis Log'!H:H<>"Yes"),0)),"")
A22: B-100487 | B22: Mohd Nazim | C22: Male | D22: 2022 | E22: 9958463285 | F22: Mohdnazim57604@gmail.com | G22: Studying | H22: Ba programme | K22: Other | L22: No Income | M22: Start working | N22: 20000 | O22: 48000 | P22: 48000 | R22: =IFERROR(N22+O22+P22,0) | Y22: =COUNTIF('Interaction Log'!A:A,A22) | Z22: =IFERROR(TEXT(MAXIFS('Interaction Log'!D:D,'Interaction Log'!A:A,A22),"dd-mmm-yy"),"") | AA22: =COUNTIFS('SSG Attendance Log'!A:A,A22,'SSG Attendance Log'!H:H,"Yes") | AB22: =COUNTIF('Crisis Log'!A:A,A22) | AC22: =IFERROR(INDEX('Crisis Log'!D:D,MATCH(1,('Crisis Log'!A:A=A22)*('Crisis Log'!H:H<>"Yes"),0)),"")
A23: B-100451 | B23: Madeena | C23: Female | D23: 2014 | E23: 7428871613 | F23: saimakhan1122003@gmail.com | G23: Studying | H23: BA program, Year 2 | L23: No Income | M23: Complete course and transition to work | N23: 7000 | O23: 0 | P23: 0 | R23: =IFERROR(N23+O23+P23,0) | Y23: =COUNTIF('Interaction Log'!A:A,A23) | Z23: =IFERROR(TEXT(MAXIFS('Interaction Log'!D:D,'Interaction Log'!A:A,A23),"dd-mmm-yy"),"") | AA23: =COUNTIFS('SSG Attendance Log'!A:A,A23,'SSG Attendance Log'!H:H,"Yes") | AB23: =COUNTIF('Crisis Log'!A:A,A23) | AC23: =IFERROR(INDEX('Crisis Log'!D:D,MATCH(1,('Crisis Log'!A:A=A23)*('Crisis Log'!H:H<>"Yes"),0)),"")
A24: B-100501 | B24: Karan | C24: Male | D24: 2022 | E24: 9310759739 | F24: k92184201@gmail.com | G24: Studying | H24: BA program | K24: Other | L24: No Income | M24: Continue studying | N24: 19540 | O24: 27000 | P24: 36000 | R24: =IFERROR(N24+O24+P24,0) | Y24: =COUNTIF('Interaction Log'!A:A,A24) | Z24: =IFERROR(TEXT(MAXIFS('Interaction Log'!D:D,'Interaction Log'!A:A,A24),"dd-mmm-yy"),"") | AA24: =COUNTIFS('SSG Attendance Log'!A:A,A24,'SSG Attendance Log'!H:H,"Yes") | AB24: =COUNTIF('Crisis Log'!A:A,A24) | AC24: =IFERROR(INDEX('Crisis Log'!D:D,MATCH(1,('Crisis Log'!A:A=A24)*('Crisis Log'!H:H<>"Yes"),0)),"")
A25: B-100439 | B25: Nazreen | C25: Female | D25: 2012 | E25: 9354403541 | F25: Nazreenshaik175@gmail.com | G25: Studying and working | H25: B.Ed, 2nd year | I25: 2nd year | L25: Less than ₹10,000 | M25: Start working | N25: 0 | O25: 0 | P25: 0 | R25: =IFERROR(N25+O25+P25,0) | Y25: =COUNTIF('Interaction Log'!A:A,A25) | Z25: =IFERROR(TEXT(MAXIFS('Interaction Log'!D:D,'Interaction Log'!A:A,A25),"dd-mmm-yy"),"") | AA25: =COUNTIFS('SSG Attendance Log'!A:A,A25,'SSG Attendance Log'!H:H,"Yes") | AB25: =COUNTIF('Crisis Log'!A:A,A25) | AC25: =IFERROR(INDEX('Crisis Log'!D:D,MATCH(1,('Crisis Log'!A:A=A25)*('Crisis Log'!H:H<>"Yes"),0)),"")
A26: B-100490 | B26: Deepak Kumar Gupta | C26: Male | D26: 2021 | E26: 9625647502 | F26: imaildeepakguru@gmail.com | G26: Working | K26: Other | L26: ₹10,000 – ₹20,000 | M26: Still exploring | N26: 0 | O26: 0 | P26: 0 | R26: =IFERROR(N26+O26+P26,0) | Y26: =COUNTIF('Interaction Log'!A:A,A26) | Z26: =IFERROR(TEXT(MAXIFS('Interaction Log'!D:D,'Interaction Log'!A:A,A26),"dd-mmm-yy"),"") | AA26: =COUNTIFS('SSG Attendance Log'!A:A,A26,'SSG Attendance Log'!H:H,"Yes") | AB26: =COUNTIF('Crisis Log'!A:A,A26) | AC26: =IFERROR(INDEX('Crisis Log'!D:D,MATCH(1,('Crisis Log'!A:A=A26)*('Crisis Log'!H:H<>"Yes"),0)),"")
A27: B-100440 | B27: Neha Malik | G27: Working | K27: IT or Technology | L27: ₹10,000 – ₹20,000 | M27: Job change or transition | N27: 0 | O27: 0 | P27: 0 | R27: =IFERROR(N27+O27+P27,0) | Y27: =COUNTIF('Interaction Log'!A:A,A27) | Z27: =IFERROR(TEXT(MAXIFS('Interaction Log'!D:D,'Interaction Log'!A:A,A27),"dd-mmm-yy"),"") | AA27: =COUNTIFS('SSG Attendance Log'!A:A,A27,'SSG Attendance Log'!H:H,"Yes") | AB27: =COUNTIF('Crisis Log'!A:A,A27) | AC27: =IFERROR(INDEX('Crisis Log'!D:D,MATCH(1,('Crisis Log'!A:A=A27)*('Crisis Log'!H:H<>"Yes"),0)),"")
A28: B-100489 | B28: Sonu Kumar Jha | C28: Male | D28: 2019 | E28: 7428847160 | F28: sonujhayou@gmail.com | G28: Studying and working | H28: Accounting Internship and SAP course | K28: IT or Technology | L28: Less than ₹10,000 | M28: Complete course and transition to work | N28: 20000 | O28: 72000 | P28: 24000 | R28: =IFERROR(N28+O28+P28,0) | Y28: =COUNTIF('Interaction Log'!A:A,A28) | Z28: =IFERROR(TEXT(MAXIFS('Interaction Log'!D:D,'Interaction Log'!A:A,A28),"dd-mmm-yy"),"") | AA28: =COUNTIFS('SSG Attendance Log'!A:A,A28,'SSG Attendance Log'!H:H,"Yes") | AB28: =COUNTIF('Crisis Log'!A:A,A28) | AC28: =IFERROR(INDEX('Crisis Log'!D:D,MATCH(1,('Crisis Log'!A:A=A28)*('Crisis Log'!H:H<>"Yes"),0)),"")
A29: B-100022 | B29: Vishal | C29: Male | D29: 2023 | E29: 7678254969 | F29: Kohlivishal748@gmail.com | G29: Studying | H29: Ba program | K29: Other | L29: No Income | M29: Complete course and transition to work | N29: 5000 | O29: 72000 | P29: 24000 | R29: =IFERROR(N29+O29+P29,0) | Y29: =COUNTIF('Interaction Log'!A:A,A29) | Z29: =IFERROR(TEXT(MAXIFS('Interaction Log'!D:D,'Interaction Log'!A:A,A29),"dd-mmm-yy"),"") | AA29: =COUNTIFS('SSG Attendance Log'!A:A,A29,'SSG Attendance Log'!H:H,"Yes") | AB29: =COUNTIF('Crisis Log'!A:A,A29) | AC29: =IFERROR(INDEX('Crisis Log'!D:D,MATCH(1,('Crisis Log'!A:A=A29)*('Crisis Log'!H:H<>"Yes"),0)),"")
A30: B-100470 | B30: Dharmender kumar | C30: Male | D30: 2015 | E30: 8285823499 | F30: dharmenderyadav709@gmail.com | G30: Studying and working | H30: SSC | K30: Hospitality (hotel, restaurant, catering) | L30: Less than ₹10,000 | M30: Continue studying | N30: 0 | O30: 0 | P30: 42000 | R30: =IFERROR(N30+O30+P30,0) | Y30: =COUNTIF('Interaction Log'!A:A,A30) | Z30: =IFERROR(TEXT(MAXIFS('Interaction Log'!D:D,'Interaction Log'!A:A,A30),"dd-mmm-yy"),"") | AA30: =COUNTIFS('SSG Attendance Log'!A:A,A30,'SSG Attendance Log'!H:H,"Yes") | AB30: =COUNTIF('Crisis Log'!A:A,A30) | AC30: =IFERROR(INDEX('Crisis Log'!D:D,MATCH(1,('Crisis Log'!A:A=A30)*('Crisis Log'!H:H<>"Yes"),0)),"")
A31: B-100471 | B31: Manoj Kumar | C31: Male | D31: 2010 | E31: 9877012486 | F31: manojthegreat11@gmail.com | G31: Working | K31: Construction or Labour | L31: Less than ₹10,000 | M31: Job change or transition | N31: 0 | O31: 0 | P31: 0 | R31: =IFERROR(N31+O31+P31,0) | Y31: =COUNTIF('Interaction Log'!A:A,A31) | Z31: =IFERROR(TEXT(MAXIFS('Interaction Log'!D:D,'Interaction Log'!A:A,A31),"dd-mmm-yy"),"") | AA31: =COUNTIFS('SSG Attendance Log'!A:A,A31,'SSG Attendance Log'!H:H,"Yes") | AB31: =COUNTIF('Crisis Log'!A:A,A31) | AC31: =IFERROR(INDEX('Crisis Log'!D:D,MATCH(1,('Crisis Log'!A:A=A31)*('Crisis Log'!H:H<>"Yes"),0)),"")
A32: B-100473 | B32: Mohammad Raja | C32: Male | D32: 2013 | E32: 9990821900 | F32: mohammadmehraj90@gmail.com | G32: Working | K32: Hospitality (hotel, restaurant, catering) | L32: ₹20,000 – ₹35,000 | M32: Continue working | N32: 0 | O32: 33000 | P32: 0 | R32: =IFERROR(N32+O32+P32,0) | Y32: =COUNTIF('Interaction Log'!A:A,A32) | Z32: =IFERROR(TEXT(MAXIFS('Interaction Log'!D:D,'Interaction Log'!A:A,A32),"dd-mmm-yy"),"") | AA32: =COUNTIFS('SSG Attendance Log'!A:A,A32,'SSG Attendance Log'!H:H,"Yes") | AB32: =COUNTIF('Crisis Log'!A:A,A32) | AC32: =IFERROR(INDEX('Crisis Log'!D:D,MATCH(1,('Crisis Log'!A:A=A32)*('Crisis Log'!H:H<>"Yes"),0)),"")
A33: B-100494 | B33: Amirul | C33: Male | D33: 2021 | E33: 7042504172 | F33: itsamirul2003@gmail.com | G33: Studying and working | H33: B.com(Final year) | K33: Other | L33: Less than ₹10,000 | M33: Complete course and transition to work | N33: 60000 | O33: 36000 | P33: 12000 | R33: =IFERROR(N33+O33+P33,0) | Y33: =COUNTIF('Interaction Log'!A:A,A33) | Z33: =IFERROR(TEXT(MAXIFS('Interaction Log'!D:D,'Interaction Log'!A:A,A33),"dd-mmm-yy"),"") | AA33: =COUNTIFS('SSG Attendance Log'!A:A,A33,'SSG Attendance Log'!H:H,"Yes") | AB33: =COUNTIF('Crisis Log'!A:A,A33) | AC33: =IFERROR(INDEX('Crisis Log'!D:D,MATCH(1,('Crisis Log'!A:A=A33)*('Crisis Log'!H:H<>"Yes"),0)),"")
A34: B-100495 | B34: Vijay | C34: Male | D34: 2015 | E34: 9625520072 | F34: vk672319@gmail.com | G34: Working | K34: IT or Technology | L34: ₹10,000 – ₹20,000 | M34: Continue working | N34: 6 | O34: 36000 | P34: 36000 | R34: =IFERROR(N34+O34+P34,0) | Y34: =COUNTIF('Interaction Log'!A:A,A34) | Z34: =IFERROR(TEXT(MAXIFS('Interaction Log'!D:D,'Interaction Log'!A:A,A34),"dd-mmm-yy"),"") | AA34: =COUNTIFS('SSG Attendance Log'!A:A,A34,'SSG Attendance Log'!H:H,"Yes") | AB34: =COUNTIF('Crisis Log'!A:A,A34) | AC34: =IFERROR(INDEX('Crisis Log'!D:D,MATCH(1,('Crisis Log'!A:A=A34)*('Crisis Log'!H:H<>"Yes"),0)),"")
A35: B-100484 | B35: Mohd Faizan | C35: Male | D35: 2012 | E35: 7703875401 | F35: mohdfaizan9717@gmail.com | G35: Working | K35: Other | L35: ₹10,000 – ₹20,000 | M35: Job change or transition | N35: 0 | O35: 0 | P35: 0 | R35: =IFERROR(N35+O35+P35,0) | Y35: =COUNTIF('Interaction Log'!A:A,A35) | Z35: =IFERROR(TEXT(MAXIFS('Interaction Log'!D:D,'Interaction Log'!A:A,A35),"dd-mmm-yy"),"") | AA35: =COUNTIFS('SSG Attendance Log'!A:A,A35,'SSG Attendance Log'!H:H,"Yes") | AB35: =COUNTIF('Crisis Log'!A:A,A35) | AC35: =IFERROR(INDEX('Crisis Log'!D:D,MATCH(1,('Crisis Log'!A:A=A35)*('Crisis Log'!H:H<>"Yes"),0)),"")
A36: B-100475 | B36: Shivam | C36: Male | D36: 2010 | E36: 9205026492 | F36: iamshivam1999@gmail.com | G36: Looking for a job | L36: No Income | M36: Start working | N36: 0 | O36: 60000 | P36: 36000 | R36: =IFERROR(N36+O36+P36,0) | Y36: =COUNTIF('Interaction Log'!A:A,A36) | Z36: =IFERROR(TEXT(MAXIFS('Interaction Log'!D:D,'Interaction Log'!A:A,A36),"dd-mmm-yy"),"") | AA36: =COUNTIFS('SSG Attendance Log'!A:A,A36,'SSG Attendance Log'!H:H,"Yes") | AB36: =COUNTIF('Crisis Log'!A:A,A36) | AC36: =IFERROR(INDEX('Crisis Log'!D:D,MATCH(1,('Crisis Log'!A:A=A36)*('Crisis Log'!H:H<>"Yes"),0)),"")
A37: B-100462 | B37: Rahul Tiwari | C37: Male | D37: 2018 | E37: 8368770343 | F37: r.t7861999@gmail.com | G37: Looking for a job | K37: Retail or Sales | L37: No Income | M37: Start working | N37: 0 | O37: 6000 | P37: 6000 | R37: =IFERROR(N37+O37+P37,0) | Y37: =COUNTIF('Interaction Log'!A:A,A37) | Z37: =IFERROR(TEXT(MAXIFS('Interaction Log'!D:D,'Interaction Log'!A:A,A37),"dd-mmm-yy"),"") | AA37: =COUNTIFS('SSG Attendance Log'!A:A,A37,'SSG Attendance Log'!H:H,"Yes") | AB37: =COUNTIF('Crisis Log'!A:A,A37) | AC37: =IFERROR(INDEX('Crisis Log'!D:D,MATCH(1,('Crisis Log'!A:A=A37)*('Crisis Log'!H:H<>"Yes"),0)),"")
A38: B-100466 | B38: Vishal | C38: Male | D38: 2023 | E38: 7678254969 | F38: Kohlivishal748@gmail.com | G38: Working | K38: IT or Technology | L38: More than ₹35,000 | M38: Continue working | N38: 0 | O38: 0 | P38: 0 | R38: =IFERROR(N38+O38+P38,0) | Y38: =COUNTIF('Interaction Log'!A:A,A38) | Z38: =IFERROR(TEXT(MAXIFS('Interaction Log'!D:D,'Interaction Log'!A:A,A38),"dd-mmm-yy"),"") | AA38: =COUNTIFS('SSG Attendance Log'!A:A,A38,'SSG Attendance Log'!H:H,"Yes") | AB38: =COUNTIF('Crisis Log'!A:A,A38) | AC38: =IFERROR(INDEX('Crisis Log'!D:D,MATCH(1,('Crisis Log'!A:A=A38)*('Crisis Log'!H:H<>"Yes"),0)),"")
A39: B-100464 | B39: Jitender | C39: Male | D39: 2018 | E39: 9650725180 | F39: jitenderkumarsingh506070@gmail.com | G39: Studying and working | H39: 2nd year of B.com | I39: 2nd year | K39: Manufacturing or Factory work | L39: ₹10,000 – ₹20,000 | M39: Continue working | N39: 5000 | O39: 0 | P39: 0 | R39: =IFERROR(N39+O39+P39,0) | Y39: =COUNTIF('Interaction Log'!A:A,A39) | Z39: =IFERROR(TEXT(MAXIFS('Interaction Log'!D:D,'Interaction Log'!A:A,A39),"dd-mmm-yy"),"") | AA39: =COUNTIFS('SSG Attendance Log'!A:A,A39,'SSG Attendance Log'!H:H,"Yes") | AB39: =COUNTIF('Crisis Log'!A:A,A39) | AC39: =IFERROR(INDEX('Crisis Log'!D:D,MATCH(1,('Crisis Log'!A:A=A39)*('Crisis Log'!H:H<>"Yes"),0)),"")
A40: B-100467 | B40: SHRAWAN KUMAR PASWAN | C40: Male | D40: 2022 | E40: 7065372671 | F40: sharwanyou@gmail.com | G40: Working | K40: NGO or Social sector | L40: More than ₹35,000 | M40: Continue working | N40: 0 | O40: 0 | P40: 0 | R40: =IFERROR(N40+O40+P40,0) | Y40: =COUNTIF('Interaction Log'!A:A,A40) | Z40: =IFERROR(TEXT(MAXIFS('Interaction Log'!D:D,'Interaction Log'!A:A,A40),"dd-mmm-yy"),"") | AA40: =COUNTIFS('SSG Attendance Log'!A:A,A40,'SSG Attendance Log'!H:H,"Yes") | AB40: =COUNTIF('Crisis Log'!A:A,A40) | AC40: =IFERROR(INDEX('Crisis Log'!D:D,MATCH(1,('Crisis Log'!A:A=A40)*('Crisis Log'!H:H<>"Yes"),0)),"")
A41: B-100461 | B41: Pawan | C41: Male | D41: 2013 | E41: 9069967832 | F41: pn506070@gmail.com | G41: Studying and working | H41: Masters in tour and travel - 1st year | I41: 1st year | K41: Hospitality (hotel, restaurant, catering) | L41: ₹10,000 – ₹20,000 | M41: Continue working | N41: 0 | O41: 26550 | P41: 0 | R41: =IFERROR(N41+O41+P41,0) | Y41: =COUNTIF('Interaction Log'!A:A,A41) | Z41: =IFERROR(TEXT(MAXIFS('Interaction Log'!D:D,'Interaction Log'!A:A,A41),"dd-mmm-yy"),"") | AA41: =COUNTIFS('SSG Attendance Log'!A:A,A41,'SSG Attendance Log'!H:H,"Yes") | AB41: =COUNTIF('Crisis Log'!A:A,A41) | AC41: =IFERROR(INDEX('Crisis Log'!D:D,MATCH(1,('Crisis Log'!A:A=A41)*('Crisis Log'!H:H<>"Yes"),0)),"")
A42: B-100474 | B42: Mohammad Guddu | C42: Male | D42: 2014 | E42: 9582187706 | F42: mohammadguddu07@gmail.com | G42: Working | K42: Retail or Sales | L42: ₹20,000 – ₹35,000 | M42: Continue working | N42: 0 | O42: 0 | P42: 0 | R42: =IFERROR(N42+O42+P42,0) | Y42: =COUNTIF('Interaction Log'!A:A,A42) | Z42: =IFERROR(TEXT(MAXIFS('Interaction Log'!D:D,'Interaction Log'!A:A,A42),"dd-mmm-yy"),"") | AA42: =COUNTIFS('SSG Attendance Log'!A:A,A42,'SSG Attendance Log'!H:H,"Yes") | AB42: =COUNTIF('Crisis Log'!A:A,A42) | AC42: =IFERROR(INDEX('Crisis Log'!D:D,MATCH(1,('Crisis Log'!A:A=A42)*('Crisis Log'!H:H<>"Yes"),0)),"")
A43: B-100454 | B43: Mohammad Waris Javed | C43: Male | D43: 2012 | E43: 6392006263 | F43: mohammadwarisjaved@gmail.com | G43: Looking for a job | K43: Hospitality (hotel, restaurant, catering) | L43: Less than ₹10,000 | M43: Complete course and transition to work | N43: 0 | O43: 12000 | P43: 0 | R43: =IFERROR(N43+O43+P43,0) | Y43: =COUNTIF('Interaction Log'!A:A,A43) | Z43: =IFERROR(TEXT(MAXIFS('Interaction Log'!D:D,'Interaction Log'!A:A,A43),"dd-mmm-yy"),"") | AA43: =COUNTIFS('SSG Attendance Log'!A:A,A43,'SSG Attendance Log'!H:H,"Yes") | AB43: =COUNTIF('Crisis Log'!A:A,A43) | AC43: =IFERROR(INDEX('Crisis Log'!D:D,MATCH(1,('Crisis Log'!A:A=A43)*('Crisis Log'!H:H<>"Yes"),0)),"")
A44: B-100028 | B44: Sonu Kumar | C44: Male | D44: 2024 | E44: 9354317445 | F44: Sonu77dhoni@gmail.com | G44: Studying | H44: BA | M44: Continue studying | N44: 60000 | O44: 54000 | P44: 18000 | R44: =IFERROR(N44+O44+P44,0) | Y44: =COUNTIF('Interaction Log'!A:A,A44) | Z44: =IFERROR(TEXT(MAXIFS('Interaction Log'!D:D,'Interaction Log'!A:A,A44),"dd-mmm-yy"),"") | AA44: =COUNTIFS('SSG Attendance Log'!A:A,A44,'SSG Attendance Log'!H:H,"Yes") | AB44: =COUNTIF('Crisis Log'!A:A,A44) | AC44: =IFERROR(INDEX('Crisis Log'!D:D,MATCH(1,('Crisis Log'!A:A=A44)*('Crisis Log'!H:H<>"Yes"),0)),"")
A45: B-100564 | B45: Amit kumar gupta | C45: Male | D45: 2024 | E45: 7838256748 | F45: amitguptath20@gmail.com | G45: Studying | M45: Continue studying | N45: 60000 | O45: 54000 | P45: 18000 | R45: =IFERROR(N45+O45+P45,0) | Y45: =COUNTIF('Interaction Log'!A:A,A45) | Z45: =IFERROR(TEXT(MAXIFS('Interaction Log'!D:D,'Interaction Log'!A:A,A45),"dd-mmm-yy"),"") | AA45: =COUNTIFS('SSG Attendance Log'!A:A,A45,'SSG Attendance Log'!H:H,"Yes") | AB45: =COUNTIF('Crisis Log'!A:A,A45) | AC45: =IFERROR(INDEX('Crisis Log'!D:D,MATCH(1,('Crisis Log'!A:A=A45)*('Crisis Log'!H:H<>"Yes"),0)),"")
A46: B-100503 | B46: Sheru | C46: Male | D46: 2021 | E46: 7042229434 | F46: sherurcb@gmail.com | G46: Studying | H46: B.A.program 1st semester | L46: No Income | M46: Continue studying | N46: 20000 | O46: 72000 | P46: 24000 | R46: =IFERROR(N46+O46+P46,0) | Y46: =COUNTIF('Interaction Log'!A:A,A46) | Z46: =IFERROR(TEXT(MAXIFS('Interaction Log'!D:D,'Interaction Log'!A:A,A46),"dd-mmm-yy"),"") | AA46: =COUNTIFS('SSG Attendance Log'!A:A,A46,'SSG Attendance Log'!H:H,"Yes") | AB46: =COUNTIF('Crisis Log'!A:A,A46) | AC46: =IFERROR(INDEX('Crisis Log'!D:D,MATCH(1,('Crisis Log'!A:A=A46)*('Crisis Log'!H:H<>"Yes"),0)),"")
A47: B-100023 | B47: Ravi Kumar | C47: Male | D47: 2022 | E47: 7428642243 | F47: ravipci666@gmail.com | G47: Studying | H47: Ba political science hons third years | K47: Other | L47: No Income | M47: Continue studying | N47: 7000 | O47: 63000 | P47: 63000 | R47: =IFERROR(N47+O47+P47,0) | Y47: =COUNTIF('Interaction Log'!A:A,A47) | Z47: =IFERROR(TEXT(MAXIFS('Interaction Log'!D:D,'Interaction Log'!A:A,A47),"dd-mmm-yy"),"") | AA47: =COUNTIFS('SSG Attendance Log'!A:A,A47,'SSG Attendance Log'!H:H,"Yes") | AB47: =COUNTIF('Crisis Log'!A:A,A47) | AC47: =IFERROR(INDEX('Crisis Log'!D:D,MATCH(1,('Crisis Log'!A:A=A47)*('Crisis Log'!H:H<>"Yes"),0)),"")
A48: B-100445 | B48: Reshma | C48: Female | D48: 2019 | E48: 8447912349 | F48: Reshmakhans3110@gmail .com | G48: Looking for a job | L48: No Income | M48: Start working | N48: 0 | O48: 0 | P48: 0 | R48: =IFERROR(N48+O48+P48,0) | Y48: =COUNTIF('Interaction Log'!A:A,A48) | Z48: =IFERROR(TEXT(MAXIFS('Interaction Log'!D:D,'Interaction Log'!A:A,A48),"dd-mmm-yy"),"") | AA48: =COUNTIFS('SSG Attendance Log'!A:A,A48,'SSG Attendance Log'!H:H,"Yes") | AB48: =COUNTIF('Crisis Log'!A:A,A48) | AC48: =IFERROR(INDEX('Crisis Log'!D:D,MATCH(1,('Crisis Log'!A:A=A48)*('Crisis Log'!H:H<>"Yes"),0)),"")
A49: B-100566 | B49: Salman | C49: Male | D49: 2024 | E49: 8287619390 | F49: salmanhussain8810@gmail.com | G49: Studying | H49: B.A. Year 2 | L49: No Income | M49: Continue studying | N49: 10000 | O49: 54000 | P49: 36000 | R49: =IFERROR(N49+O49+P49,0) | Y49: =COUNTIF('Interaction Log'!A:A,A49) | Z49: =IFERROR(TEXT(MAXIFS('Interaction Log'!D:D,'Interaction Log'!A:A,A49),"dd-mmm-yy"),"") | AA49: =COUNTIFS('SSG Attendance Log'!A:A,A49,'SSG Attendance Log'!H:H,"Yes") | AB49: =COUNTIF('Crisis Log'!A:A,A49) | AC49: =IFERROR(INDEX('Crisis Log'!D:D,MATCH(1,('Crisis Log'!A:A=A49)*('Crisis Log'!H:H<>"Yes"),0)),"")
A50: B-100563 | B50: Aakash | C50: Male | D50: 2023 | E50: 8799790785 | F50: aakashrolex891@gmail.com | G50: Studying | M50: Continue studying | N50: 60000 | O50: 54000 | P50: 18000 | R50: =IFERROR(N50+O50+P50,0) | Y50: =COUNTIF('Interaction Log'!A:A,A50) | Z50: =IFERROR(TEXT(MAXIFS('Interaction Log'!D:D,'Interaction Log'!A:A,A50),"dd-mmm-yy"),"") | AA50: =COUNTIFS('SSG Attendance Log'!A:A,A50,'SSG Attendance Log'!H:H,"Yes") | AB50: =COUNTIF('Crisis Log'!A:A,A50) | AC50: =IFERROR(INDEX('Crisis Log'!D:D,MATCH(1,('Crisis Log'!A:A=A50)*('Crisis Log'!H:H<>"Yes"),0)),"")
A51: B-100600 | B51: Suraj | C51: Male | D51: 2024 | E51: 7295868097 | F51: surajyadav23247@gmail.com | G51: Studying | H51: BF political honours semester 4 | K51: Education or Training | L51: No Income | M51: Continue studying | N51: 25000 | O51: 72000 | P51: 30000 | R51: =IFERROR(N51+O51+P51,0) | Y51: =COUNTIF('Interaction Log'!A:A,A51) | Z51: =IFERROR(TEXT(MAXIFS('Interaction Log'!D:D,'Interaction Log'!A:A,A51),"dd-mmm-yy"),"") | AA51: =COUNTIFS('SSG Attendance Log'!A:A,A51,'SSG Attendance Log'!H:H,"Yes") | AB51: =COUNTIF('Crisis Log'!A:A,A51) | AC51: =IFERROR(INDEX('Crisis Log'!D:D,MATCH(1,('Crisis Log'!A:A=A51)*('Crisis Log'!H:H<>"Yes"),0)),"")
A52: B-100506 | B52: Darshan | C52: Male | D52: 2021 | E52: 8920913124 | F52: rathordarshan10@gmail.com | G52: Studying | H52: BA(H) | L52: No Income | M52: Continue studying | N52: 5000 | O52: 54000 | P52: 18000 | R52: =IFERROR(N52+O52+P52,0) | Y52: =COUNTIF('Interaction Log'!A:A,A52) | Z52: =IFERROR(TEXT(MAXIFS('Interaction Log'!D:D,'Interaction Log'!A:A,A52),"dd-mmm-yy"),"") | AA52: =COUNTIFS('SSG Attendance Log'!A:A,A52,'SSG Attendance Log'!H:H,"Yes") | AB52: =COUNTIF('Crisis Log'!A:A,A52) | AC52: =IFERROR(INDEX('Crisis Log'!D:D,MATCH(1,('Crisis Log'!A:A=A52)*('Crisis Log'!H:H<>"Yes"),0)),"")
A53: B-100534 | B53: Deepanshu | C53: Male | D53: 2024 | E53: 9205965476 | F53: Deepanshukumar9205965476@gmail.com | G53: Studying | H53: Sociology honours | K53: Other | L53: No Income | M53: Continue studying | N53: 5000 | O53: 54000 | P53: 18000 | R53: =IFERROR(N53+O53+P53,0) | Y53: =COUNTIF('Interaction Log'!A:A,A53) | Z53: =IFERROR(TEXT(MAXIFS('Interaction Log'!D:D,'Interaction Log'!A:A,A53),"dd-mmm-yy"),"") | AA53: =COUNTIFS('SSG Attendance Log'!A:A,A53,'SSG Attendance Log'!H:H,"Yes") | AB53: =COUNTIF('Crisis Log'!A:A,A53) | AC53: =IFERROR(INDEX('Crisis Log'!D:D,MATCH(1,('Crisis Log'!A:A=A53)*('Crisis Log'!H:H<>"Yes"),0)),"")
A54: B-100491 | B54: Himanshu Rana | C54: Male | D54: 2015 | E54: 9311291802 | F54: rhimanshu2002@gmail.com | G54: Working | K54: Healthcare or Care work | L54: ₹10,000 – ₹20,000 | M54: Continue working | N54: 0 | O54: 45000 | P54: 13500 | R54: =IFERROR(N54+O54+P54,0) | Y54: =COUNTIF('Interaction Log'!A:A,A54) | Z54: =IFERROR(TEXT(MAXIFS('Interaction Log'!D:D,'Interaction Log'!A:A,A54),"dd-mmm-yy"),"") | AA54: =COUNTIFS('SSG Attendance Log'!A:A,A54,'SSG Attendance Log'!H:H,"Yes") | AB54: =COUNTIF('Crisis Log'!A:A,A54) | AC54: =IFERROR(INDEX('Crisis Log'!D:D,MATCH(1,('Crisis Log'!A:A=A54)*('Crisis Log'!H:H<>"Yes"),0)),"")
A55: B-100493 | B55: Rahul Kumar jha | C55: Male | D55: 2021 | E55: 9625853944 | F55: rj5564511@gmail.com | G55: Looking for a job | K55: Hospitality (hotel, restaurant, catering) | L55: Less than ₹10,000 | M55: Complete course and transition to work | N55: 0 | O55: 0 | P55: 0 | R55: =IFERROR(N55+O55+P55,0) | Y55: =COUNTIF('Interaction Log'!A:A,A55) | Z55: =IFERROR(TEXT(MAXIFS('Interaction Log'!D:D,'Interaction Log'!A:A,A55),"dd-mmm-yy"),"") | AA55: =COUNTIFS('SSG Attendance Log'!A:A,A55,'SSG Attendance Log'!H:H,"Yes") | AB55: =COUNTIF('Crisis Log'!A:A,A55) | AC55: =IFERROR(INDEX('Crisis Log'!D:D,MATCH(1,('Crisis Log'!A:A=A55)*('Crisis Log'!H:H<>"Yes"),0)),"")
A56: B-100449 | B56: Ashra | C56: Female | D56: 2021 | E56: 8929273999 | F56: ashrakhan7834@gmail.com | G56: Studying | H56: B.A. honours (3rd year), and Beauty and wellness (2nd year) | I56: 3rd year | L56: No Income | M56: Complete course and transition to work | N56: 15000 | O56: 96000 | P56: 12000 | R56: =IFERROR(N56+O56+P56,0) | Y56: =COUNTIF('Interaction Log'!A:A,A56) | Z56: =IFERROR(TEXT(MAXIFS('Interaction Log'!D:D,'Interaction Log'!A:A,A56),"dd-mmm-yy"),"") | AA56: =COUNTIFS('SSG Attendance Log'!A:A,A56,'SSG Attendance Log'!H:H,"Yes") | AB56: =COUNTIF('Crisis Log'!A:A,A56) | AC56: =IFERROR(INDEX('Crisis Log'!D:D,MATCH(1,('Crisis Log'!A:A=A56)*('Crisis Log'!H:H<>"Yes"),0)),"")
A57: B-100480 | B57: Vinay kumar | G57: Working | K57: Hospitality (hotel, restaurant, catering) | L57: ₹10,000 – ₹20,000 | M57: Start working | N57: 0 | O57: 9000 | P57: 8250 | R57: =IFERROR(N57+O57+P57,0) | Y57: =COUNTIF('Interaction Log'!A:A,A57) | Z57: =IFERROR(TEXT(MAXIFS('Interaction Log'!D:D,'Interaction Log'!A:A,A57),"dd-mmm-yy"),"") | AA57: =COUNTIFS('SSG Attendance Log'!A:A,A57,'SSG Attendance Log'!H:H,"Yes") | AB57: =COUNTIF('Crisis Log'!A:A,A57) | AC57: =IFERROR(INDEX('Crisis Log'!D:D,MATCH(1,('Crisis Log'!A:A=A57)*('Crisis Log'!H:H<>"Yes"),0)),"")
A58: B-100562 | B58: PANKAJ | C58: Male | D58: 2022 | E58: 9354642112 | F58: Veerpankaj49@gmail.com a | G58: Studying | H58: 12th open | L58: No Income | M58: Continue studying | N58: 8000 | O58: 0 | P58: 0 | R58: =IFERROR(N58+O58+P58,0) | Y58: =COUNTIF('Interaction Log'!A:A,A58) | Z58: =IFERROR(TEXT(MAXIFS('Interaction Log'!D:D,'Interaction Log'!A:A,A58),"dd-mmm-yy"),"") | AA58: =COUNTIFS('SSG Attendance Log'!A:A,A58,'SSG Attendance Log'!H:H,"Yes") | AB58: =COUNTIF('Crisis Log'!A:A,A58) | AC58: =IFERROR(INDEX('Crisis Log'!D:D,MATCH(1,('Crisis Log'!A:A=A58)*('Crisis Log'!H:H<>"Yes"),0)),"")
A59: B-100460 | B59: Mohd Nurul | C59: Male | D59: 2011 | E59: 9870278576 | F59: bmdnurul@gmail.com | G59: Studying and working | K59: Education or Training | M59: Continue working | N59: 0 | O59: 0 | P59: 0 | R59: =IFERROR(N59+O59+P59,0) | Y59: =COUNTIF('Interaction Log'!A:A,A59) | Z59: =IFERROR(TEXT(MAXIFS('Interaction Log'!D:D,'Interaction Log'!A:A,A59),"dd-mmm-yy"),"") | AA59: =COUNTIFS('SSG Attendance Log'!A:A,A59,'SSG Attendance Log'!H:H,"Yes") | AB59: =COUNTIF('Crisis Log'!A:A,A59) | AC59: =IFERROR(INDEX('Crisis Log'!D:D,MATCH(1,('Crisis Log'!A:A=A59)*('Crisis Log'!H:H<>"Yes"),0)),"")
A60: B-100572 | B60: Zuby khan | C60: Female | D60: 2023 | E60: 9310307915 | F60: zubyk572@gmail.com | G60: Studying | L60: Less than ₹10,000 | M60: Complete course and transition to work | N60: 60000 | O60: 84000 | P60: 24000 | R60: =IFERROR(N60+O60+P60,0) | Y60: =COUNTIF('Interaction Log'!A:A,A60) | Z60: =IFERROR(TEXT(MAXIFS('Interaction Log'!D:D,'Interaction Log'!A:A,A60),"dd-mmm-yy"),"") | AA60: =COUNTIFS('SSG Attendance Log'!A:A,A60,'SSG Attendance Log'!H:H,"Yes") | AB60: =COUNTIF('Crisis Log'!A:A,A60) | AC60: =IFERROR(INDEX('Crisis Log'!D:D,MATCH(1,('Crisis Log'!A:A=A60)*('Crisis Log'!H:H<>"Yes"),0)),"")
A61: B-100571 | B61: Ruby khan | C61: Female | D61: 2023 | E61: 8384011105 | F61: rubykhana45@gmail.com | G61: Studying | M61: Still exploring | N61: 60000 | O61: 84000 | P61: 24000 | R61: =IFERROR(N61+O61+P61,0) | Y61: =COUNTIF('Interaction Log'!A:A,A61) | Z61: =IFERROR(TEXT(MAXIFS('Interaction Log'!D:D,'Interaction Log'!A:A,A61),"dd-mmm-yy"),"") | AA61: =COUNTIFS('SSG Attendance Log'!A:A,A61,'SSG Attendance Log'!H:H,"Yes") | AB61: =COUNTIF('Crisis Log'!A:A,A61) | AC61: =IFERROR(INDEX('Crisis Log'!D:D,MATCH(1,('Crisis Log'!A:A=A61)*('Crisis Log'!H:H<>"Yes"),0)),"")
A62: B-100479 | B62: Ajay | C62: Male | D62: 2018 | E62: 8586990191 | F62: mr.ajaychandeliya@gmail.com | G62: Working | K62: Hospitality (hotel, restaurant, catering) | L62: ₹20,000 – ₹35,000 | M62: Job change or transition | N62: 10000 | O62: 0 | P62: 72000 | R62: =IFERROR(N62+O62+P62,0) | Y62: =COUNTIF('Interaction Log'!A:A,A62) | Z62: =IFERROR(TEXT(MAXIFS('Interaction Log'!D:D,'Interaction Log'!A:A,A62),"dd-mmm-yy"),"") | AA62: =COUNTIFS('SSG Attendance Log'!A:A,A62,'SSG Attendance Log'!H:H,"Yes") | AB62: =COUNTIF('Crisis Log'!A:A,A62) | AC62: =IFERROR(INDEX('Crisis Log'!D:D,MATCH(1,('Crisis Log'!A:A=A62)*('Crisis Log'!H:H<>"Yes"),0)),"")
A63: B-100504 | B63: Lala | C63: Male | D63: 2023 | E63: 9310524110 | F63: lalastokes828@gmail.com | G63: Studying | M63: Continue studying | N63: 7000 | O63: 0 | P63: 0 | R63: =IFERROR(N63+O63+P63,0) | Y63: =COUNTIF('Interaction Log'!A:A,A63) | Z63: =IFERROR(TEXT(MAXIFS('Interaction Log'!D:D,'Interaction Log'!A:A,A63),"dd-mmm-yy"),"") | AA63: =COUNTIFS('SSG Attendance Log'!A:A,A63,'SSG Attendance Log'!H:H,"Yes") | AB63: =COUNTIF('Crisis Log'!A:A,A63) | AC63: =IFERROR(INDEX('Crisis Log'!D:D,MATCH(1,('Crisis Log'!A:A=A63)*('Crisis Log'!H:H<>"Yes"),0)),"")
A64: B-100476 | B64: Arvind | C64: Male | D64: 2016 | E64: 9315462351 | F64: arvindyuv@gmail.com | G64: Working | K64: Government or Public services | L64: ₹20,000 – ₹35,000 | M64: Continue working | N64: 0 | O64: 0 | P64: 0 | R64: =IFERROR(N64+O64+P64,0) | Y64: =COUNTIF('Interaction Log'!A:A,A64) | Z64: =IFERROR(TEXT(MAXIFS('Interaction Log'!D:D,'Interaction Log'!A:A,A64),"dd-mmm-yy"),"") | AA64: =COUNTIFS('SSG Attendance Log'!A:A,A64,'SSG Attendance Log'!H:H,"Yes") | AB64: =COUNTIF('Crisis Log'!A:A,A64) | AC64: =IFERROR(INDEX('Crisis Log'!D:D,MATCH(1,('Crisis Log'!A:A=A64)*('Crisis Log'!H:H<>"Yes"),0)),"")
A65: B-100458 | B65: Gulam Rasool (Arzoo) | C65: Male | D65: 2013 | E65: 8745852363 | F65: gulamrasool007860@gmail.com | G65: Working | K65: Retail or Sales | L65: ₹20,000 – ₹35,000 | M65: Continue working | N65: 0 | O65: 0 | P65: 0 | R65: =IFERROR(N65+O65+P65,0) | Y65: =COUNTIF('Interaction Log'!A:A,A65) | Z65: =IFERROR(TEXT(MAXIFS('Interaction Log'!D:D,'Interaction Log'!A:A,A65),"dd-mmm-yy"),"") | AA65: =COUNTIFS('SSG Attendance Log'!A:A,A65,'SSG Attendance Log'!H:H,"Yes") | AB65: =COUNTIF('Crisis Log'!A:A,A65) | AC65: =IFERROR(INDEX('Crisis Log'!D:D,MATCH(1,('Crisis Log'!A:A=A65)*('Crisis Log'!H:H<>"Yes"),0)),"")
A66: B-100015 | B66: Ayaan Khan | G66: Working | K66: Hospitality (hotel, restaurant, catering) | L66: ₹10,000 – ₹20,000 | M66: Continue working | N66: 0 | O66: 33000 | P66: 12000 | R66: =IFERROR(N66+O66+P66,0) | Y66: =COUNTIF('Interaction Log'!A:A,A66) | Z66: =IFERROR(TEXT(MAXIFS('Interaction Log'!D:D,'Interaction Log'!A:A,A66),"dd-mmm-yy"),"") | AA66: =COUNTIFS('SSG Attendance Log'!A:A,A66,'SSG Attendance Log'!H:H,"Yes") | AB66: =COUNTIF('Crisis Log'!A:A,A66) | AC66: =IFERROR(INDEX('Crisis Log'!D:D,MATCH(1,('Crisis Log'!A:A=A66)*('Crisis Log'!H:H<>"Yes"),0)),"")
A67: CHAPTER NOTES
A68: [ Notes ]

Sheet Hyderabad
A1: HYDERABAD · 5 youth · 5M 0F · Budget: Rs 208,000
A2: Studying: 3 Working: 1 · Sch: Rs 52,000 Hous: Rs 120,000 Stip: Rs 36,000 · Col C = Gender (Male/Female) — update here → dashboard auto-updates
A3: GREEN = pre-filled from Pulse 2026 · YELLOW = chapter YPC fills · Edit Gender (col C) or Status (col G) here — Overview Dashboard updates automatically
A4: IDENTITY | E4: CONTACT | G4: CURRENT STATUS | M4: PLAN 2026-27 | N4: FINANCIAL SUPPORT | S4: WINGMAN & SSG | U4: PROGRAMME | Y4: INTERACTIONS | AA4: SSG ATTENDANCE | AB4: CRISIS
A5: MAD Code | B5: Full Name | C5: Gender | D5: Year Joined | E5: Phone | F5: Email | G5: Current Status | H5: Course | I5: Year / Stage | J5: Role / Employer | K5: Industry | L5: Current Income | M5: Plan for 2026-27 | N5: Scholarship (Rs) | O5: Housing (Rs) | P5: Stipend/mo (Rs) | Q5: Support Until | R5: Total Support (Rs) | S5: Wingman Name | T5: SSG Name | U5: Plan 2026-27 (YPC) | V5: Current Activity | W5: Next Review Date | X5: Flag / Action | Y5: Interactions (auto) | Z5: Last Interaction | AA5: SSG Sessions (auto) | AB5: Crisis Count (auto) | AC5: Last Crisis Level
A6: B-100308 | B6: A.Hari Krishna | C6: Male | D6: 2015 | E6: 8121512039 | F6: harikrishna10122003@gmail.com | G6: Studying | H6: BCA 3rd year | I6: 3rd year | L6: No Income | M6: Start working | N6: 10000 | O6: 60000 | P6: 18000 | R6: =IFERROR(N6+O6+P6,0) | Y6: =COUNTIF('Interaction Log'!A:A,A6) | Z6: =IFERROR(TEXT(MAXIFS('Interaction Log'!D:D,'Interaction Log'!A:A,A6),"dd-mmm-yy"),"") | AA6: =COUNTIFS('SSG Attendance Log'!A:A,A6,'SSG Attendance Log'!H:H,"Yes") | AB6: =COUNTIF('Crisis Log'!A:A,A6) | AC6: =IFERROR(INDEX('Crisis Log'!D:D,MATCH(1,('Crisis Log'!A:A=A6)*('Crisis Log'!H:H<>"Yes"),0)),"")
A7: B-100033 | B7: Sai Krishna J | C7: Male | D7: 2017 | E7: 7731005771 | F7: ravitejainsvnit@gmail.com | G7: Studying | L7: No Income | M7: Continue studying | N7: 0 | O7: 60000 | P7: 18000 | R7: =IFERROR(N7+O7+P7,0) | Y7: =COUNTIF('Interaction Log'!A:A,A7) | Z7: =IFERROR(TEXT(MAXIFS('Interaction Log'!D:D,'Interaction Log'!A:A,A7),"dd-mmm-yy"),"") | AA7: =COUNTIFS('SSG Attendance Log'!A:A,A7,'SSG Attendance Log'!H:H,"Yes") | AB7: =COUNTIF('Crisis Log'!A:A,A7) | AC7: =IFERROR(INDEX('Crisis Log'!D:D,MATCH(1,('Crisis Log'!A:A=A7)*('Crisis Log'!H:H<>"Yes"),0)),"")
A8: B-100315 | B8: Ponakanti shivaji | C8: Male | D8: 2018 | E8: 9951989613 | F8: shivajigadu3@gmail.com | G8: Studying | H8: BBA | L8: No Income | M8: Continue studying | N8: 42000 | O8: 0 | P8: 0 | R8: =IFERROR(N8+O8+P8,0) | Y8: =COUNTIF('Interaction Log'!A:A,A8) | Z8: =IFERROR(TEXT(MAXIFS('Interaction Log'!D:D,'Interaction Log'!A:A,A8),"dd-mmm-yy"),"") | AA8: =COUNTIFS('SSG Attendance Log'!A:A,A8,'SSG Attendance Log'!H:H,"Yes") | AB8: =COUNTIF('Crisis Log'!A:A,A8) | AC8: =IFERROR(INDEX('Crisis Log'!D:D,MATCH(1,('Crisis Log'!A:A=A8)*('Crisis Log'!H:H<>"Yes"),0)),"")
A9: B-100305 | B9: Vedalal Isaac | C9: Male | D9: 2017 | E9: 7416480154 | F9: hellboyisaaq@gmail.com | G9: Studying and working | K9: Hospitality (hotel, restaurant, catering) | L9: Less than ₹10,000 | M9: Continue studying | N9: 0 | O9: 0 | P9: 0 | R9: =IFERROR(N9+O9+P9,0) | Y9: =COUNTIF('Interaction Log'!A:A,A9) | Z9: =IFERROR(TEXT(MAXIFS('Interaction Log'!D:D,'Interaction Log'!A:A,A9),"dd-mmm-yy"),"") | AA9: =COUNTIFS('SSG Attendance Log'!A:A,A9,'SSG Attendance Log'!H:H,"Yes") | AB9: =COUNTIF('Crisis Log'!A:A,A9) | AC9: =IFERROR(INDEX('Crisis Log'!D:D,MATCH(1,('Crisis Log'!A:A=A9)*('Crisis Log'!H:H<>"Yes"),0)),"")
A10: B-100309 | B10: Bhopally Praveen Kumar | C10: Male | D10: 2016 | E10: 9177776959 | F10: nil | G10: Working | K10: Logistics or Delivery | L10: Less than ₹10,000 | M10: Continue working | N10: 0 | O10: 0 | P10: 0 | R10: =IFERROR(N10+O10+P10,0) | Y10: =COUNTIF('Interaction Log'!A:A,A10) | Z10: =IFERROR(TEXT(MAXIFS('Interaction Log'!D:D,'Interaction Log'!A:A,A10),"dd-mmm-yy"),"") | AA10: =COUNTIFS('SSG Attendance Log'!A:A,A10,'SSG Attendance Log'!H:H,"Yes") | AB10: =COUNTIF('Crisis Log'!A:A,A10) | AC10: =IFERROR(INDEX('Crisis Log'!D:D,MATCH(1,('Crisis Log'!A:A=A10)*('Crisis Log'!H:H<>"Yes"),0)),"")
A11: CHAPTER NOTES
A12: [ Notes ]

Sheet Lucknow
A1: LUCKNOW · 29 youth · 8M 21F · Budget: Rs 2,619,500
A2: Studying: 14 Working: 4 · Sch: Rs 519,500 Hous: Rs 1,500,000 Stip: Rs 600,000 · Col C = Gender (Male/Female) — update here → dashboard auto-updates
A3: GREEN = pre-filled from Pulse 2026 · YELLOW = chapter YPC fills · Edit Gender (col C) or Status (col G) here — Overview Dashboard updates automatically
A4: IDENTITY | E4: CONTACT | G4: CURRENT STATUS | M4: PLAN 2026-27 | N4: FINANCIAL SUPPORT | S4: WINGMAN & SSG | U4: PROGRAMME | Y4: INTERACTIONS | AA4: SSG ATTENDANCE | AB4: CRISIS
A5: MAD Code | B5: Full Name | C5: Gender | D5: Year Joined | E5: Phone | F5: Email | G5: Current Status | H5: Course | I5: Year / Stage | J5: Role / Employer | K5: Industry | L5: Current Income | M5: Plan for 2026-27 | N5: Scholarship (Rs) | O5: Housing (Rs) | P5: Stipend/mo (Rs) | Q5: Support Until | R5: Total Support (Rs) | S5: Wingman Name | T5: SSG Name | U5: Plan 2026-27 (YPC) | V5: Current Activity | W5: Next Review Date | X5: Flag / Action | Y5: Interactions (auto) | Z5: Last Interaction | AA5: SSG Sessions (auto) | AB5: Crisis Count (auto) | AC5: Last Crisis Level
A6: B-100333 | B6: Ayan Ahmad | C6: Male | D6: 2022 | E6: 7459937388 | F6: ahmedannu419@gmail.com | G6: Studying | L6: No Income | M6: Continue studying | N6: 18000 | O6: 81000 | P6: 13500 | R6: =IFERROR(N6+O6+P6,0) | Y6: =COUNTIF('Interaction Log'!A:A,A6) | Z6: =IFERROR(TEXT(MAXIFS('Interaction Log'!D:D,'Interaction Log'!A:A,A6),"dd-mmm-yy"),"") | AA6: =COUNTIFS('SSG Attendance Log'!A:A,A6,'SSG Attendance Log'!H:H,"Yes") | AB6: =COUNTIF('Crisis Log'!A:A,A6) | AC6: =IFERROR(INDEX('Crisis Log'!D:D,MATCH(1,('Crisis Log'!A:A=A6)*('Crisis Log'!H:H<>"Yes"),0)),"")
A7: B-100334 | B7: Mohd Rizwan | C7: Male | D7: 2022 | E7: 7317043806 | F7: mr9117626@gmail.com | G7: Studying | K7: Healthcare or Care work | L7: No Income | M7: Continue studying | N7: 1500 | O7: 0 | P7: 54000 | R7: =IFERROR(N7+O7+P7,0) | Y7: =COUNTIF('Interaction Log'!A:A,A7) | Z7: =IFERROR(TEXT(MAXIFS('Interaction Log'!D:D,'Interaction Log'!A:A,A7),"dd-mmm-yy"),"") | AA7: =COUNTIFS('SSG Attendance Log'!A:A,A7,'SSG Attendance Log'!H:H,"Yes") | AB7: =COUNTIF('Crisis Log'!A:A,A7) | AC7: =IFERROR(INDEX('Crisis Log'!D:D,MATCH(1,('Crisis Log'!A:A=A7)*('Crisis Log'!H:H<>"Yes"),0)),"")
A8: B-100336 | B8: Mohd waqar | C8: Male | D8: 2022 | E8: 7499062212 | F8: mohdwaqar7268@gmail.com | G8: Studying and working | K8: Healthcare or Care work | L8: No Income | M8: Complete course and transition to work | N8: 0 | O8: 72000 | P8: 18000 | R8: =IFERROR(N8+O8+P8,0) | Y8: =COUNTIF('Interaction Log'!A:A,A8) | Z8: =IFERROR(TEXT(MAXIFS('Interaction Log'!D:D,'Interaction Log'!A:A,A8),"dd-mmm-yy"),"") | AA8: =COUNTIFS('SSG Attendance Log'!A:A,A8,'SSG Attendance Log'!H:H,"Yes") | AB8: =COUNTIF('Crisis Log'!A:A,A8) | AC8: =IFERROR(INDEX('Crisis Log'!D:D,MATCH(1,('Crisis Log'!A:A=A8)*('Crisis Log'!H:H<>"Yes"),0)),"")
A9: B-100337 | B9: Kishan | C9: Male | D9: 2021 | E9: 7814786425 | F9: kishan2000k11@gmail.com | G9: Studying and working | K9: Other | L9: Less than ₹10,000 | M9: Complete course and transition to work | N9: 40000 | O9: 72000 | P9: 12000 | R9: =IFERROR(N9+O9+P9,0) | Y9: =COUNTIF('Interaction Log'!A:A,A9) | Z9: =IFERROR(TEXT(MAXIFS('Interaction Log'!D:D,'Interaction Log'!A:A,A9),"dd-mmm-yy"),"") | AA9: =COUNTIFS('SSG Attendance Log'!A:A,A9,'SSG Attendance Log'!H:H,"Yes") | AB9: =COUNTIF('Crisis Log'!A:A,A9) | AC9: =IFERROR(INDEX('Crisis Log'!D:D,MATCH(1,('Crisis Log'!A:A=A9)*('Crisis Log'!H:H<>"Yes"),0)),"")
A10: B-100341 | B10: Faizan Khan | C10: Male | D10: 2020 | E10: 6392626886 | F10: faizankhan6117@gmail.com | G10: Studying | H10: B.Pharma | K10: Healthcare or Care work | L10: No Income | M10: Continue studying | N10: 50000 | O10: 0 | P10: 66000 | R10: =IFERROR(N10+O10+P10,0) | Y10: =COUNTIF('Interaction Log'!A:A,A10) | Z10: =IFERROR(TEXT(MAXIFS('Interaction Log'!D:D,'Interaction Log'!A:A,A10),"dd-mmm-yy"),"") | AA10: =COUNTIFS('SSG Attendance Log'!A:A,A10,'SSG Attendance Log'!H:H,"Yes") | AB10: =COUNTIF('Crisis Log'!A:A,A10) | AC10: =IFERROR(INDEX('Crisis Log'!D:D,MATCH(1,('Crisis Log'!A:A=A10)*('Crisis Log'!H:H<>"Yes"),0)),"")
A11: B-100329 | B11: Shadma Khatoon | C11: Female | D11: 2022 | E11: 9140906511 | F11: shadmakhatoon7@gmail.com | G11: Studying and working | K11: Healthcare or Care work | L11: Less than ₹10,000 | M11: Continue working | N11: 0 | O11: 45000 | P11: 9000 | R11: =IFERROR(N11+O11+P11,0) | Y11: =COUNTIF('Interaction Log'!A:A,A11) | Z11: =IFERROR(TEXT(MAXIFS('Interaction Log'!D:D,'Interaction Log'!A:A,A11),"dd-mmm-yy"),"") | AA11: =COUNTIFS('SSG Attendance Log'!A:A,A11,'SSG Attendance Log'!H:H,"Yes") | AB11: =COUNTIF('Crisis Log'!A:A,A11) | AC11: =IFERROR(INDEX('Crisis Log'!D:D,MATCH(1,('Crisis Log'!A:A=A11)*('Crisis Log'!H:H<>"Yes"),0)),"")
A12: B-100330 | B12: Reshmi | C12: Female | D12: 2022 | E12: 6386576387 | F12: ra5914220@gmail.com | G12: Studying | K12: Education or Training | L12: No Income | M12: Start working | N12: 0 | O12: 45000 | P12: 9000 | R12: =IFERROR(N12+O12+P12,0) | Y12: =COUNTIF('Interaction Log'!A:A,A12) | Z12: =IFERROR(TEXT(MAXIFS('Interaction Log'!D:D,'Interaction Log'!A:A,A12),"dd-mmm-yy"),"") | AA12: =COUNTIFS('SSG Attendance Log'!A:A,A12,'SSG Attendance Log'!H:H,"Yes") | AB12: =COUNTIF('Crisis Log'!A:A,A12) | AC12: =IFERROR(INDEX('Crisis Log'!D:D,MATCH(1,('Crisis Log'!A:A=A12)*('Crisis Log'!H:H<>"Yes"),0)),"")
A13: B-100036 | B13: Mohd Faisal | C13: Male | D13: 2018 | E13: 7860050480 | F13: qidwaifaisal84@gmail.com | G13: Studying | K13: Education or Training | L13: No Income | M13: Continue studying | N13: 50000 | O13: 60000 | P13: 24000 | R13: =IFERROR(N13+O13+P13,0) | Y13: =COUNTIF('Interaction Log'!A:A,A13) | Z13: =IFERROR(TEXT(MAXIFS('Interaction Log'!D:D,'Interaction Log'!A:A,A13),"dd-mmm-yy"),"") | AA13: =COUNTIFS('SSG Attendance Log'!A:A,A13,'SSG Attendance Log'!H:H,"Yes") | AB13: =COUNTIF('Crisis Log'!A:A,A13) | AC13: =IFERROR(INDEX('Crisis Log'!D:D,MATCH(1,('Crisis Log'!A:A=A13)*('Crisis Log'!H:H<>"Yes"),0)),"")
A14: B-100035 | B14: Mohd Shadab | C14: Male | D14: 2018 | E14: 7860050616 | F14: shadabsid680@gmail.com | G14: Studying | K14: Education or Training | L14: No Income | M14: Continue studying | N14: 50000 | O14: 45000 | P14: 18000 | R14: =IFERROR(N14+O14+P14,0) | Y14: =COUNTIF('Interaction Log'!A:A,A14) | Z14: =IFERROR(TEXT(MAXIFS('Interaction Log'!D:D,'Interaction Log'!A:A,A14),"dd-mmm-yy"),"") | AA14: =COUNTIFS('SSG Attendance Log'!A:A,A14,'SSG Attendance Log'!H:H,"Yes") | AB14: =COUNTIF('Crisis Log'!A:A,A14) | AC14: =IFERROR(INDEX('Crisis Log'!D:D,MATCH(1,('Crisis Log'!A:A=A14)*('Crisis Log'!H:H<>"Yes"),0)),"")
A15: B-100321 | B15: Deepanjali | C15: Female | D15: 2019 | E15: 6388033303 | F15: deepanjalirawat05@gmail.com | G15: Looking for a job | K15: Government or Public services | L15: No Income | M15: Start working | N15: 0 | O15: 6000 | P15: 1500 | R15: =IFERROR(N15+O15+P15,0) | Y15: =COUNTIF('Interaction Log'!A:A,A15) | Z15: =IFERROR(TEXT(MAXIFS('Interaction Log'!D:D,'Interaction Log'!A:A,A15),"dd-mmm-yy"),"") | AA15: =COUNTIFS('SSG Attendance Log'!A:A,A15,'SSG Attendance Log'!H:H,"Yes") | AB15: =COUNTIF('Crisis Log'!A:A,A15) | AC15: =IFERROR(INDEX('Crisis Log'!D:D,MATCH(1,('Crisis Log'!A:A=A15)*('Crisis Log'!H:H<>"Yes"),0)),"")
A16: B-100326 | B16: Kahkashan naaz | C16: Female | D16: 2020 | E16: 8577836881 | F16: knaazsid8577@gmail.com | G16: Looking for a job | K16: Healthcare or Care work | L16: No Income | M16: Start working | N16: 0 | O16: 0 | P16: 1500 | R16: =IFERROR(N16+O16+P16,0) | Y16: =COUNTIF('Interaction Log'!A:A,A16) | Z16: =IFERROR(TEXT(MAXIFS('Interaction Log'!D:D,'Interaction Log'!A:A,A16),"dd-mmm-yy"),"") | AA16: =COUNTIFS('SSG Attendance Log'!A:A,A16,'SSG Attendance Log'!H:H,"Yes") | AB16: =COUNTIF('Crisis Log'!A:A,A16) | AC16: =IFERROR(INDEX('Crisis Log'!D:D,MATCH(1,('Crisis Log'!A:A=A16)*('Crisis Log'!H:H<>"Yes"),0)),"")
A17: B-100320 | B17: Kajal Kaushal | C17: Female | D17: 2017 | E17: 63882 34245 | F17: Kaushalkajal956@gmail.com | G17: Working | K17: Healthcare or Care work | L17: ₹10,000 – ₹20,000 | M17: Job change or transition | N17: 0 | O17: 12000 | P17: 0 | R17: =IFERROR(N17+O17+P17,0) | Y17: =COUNTIF('Interaction Log'!A:A,A17) | Z17: =IFERROR(TEXT(MAXIFS('Interaction Log'!D:D,'Interaction Log'!A:A,A17),"dd-mmm-yy"),"") | AA17: =COUNTIFS('SSG Attendance Log'!A:A,A17,'SSG Attendance Log'!H:H,"Yes") | AB17: =COUNTIF('Crisis Log'!A:A,A17) | AC17: =IFERROR(INDEX('Crisis Log'!D:D,MATCH(1,('Crisis Log'!A:A=A17)*('Crisis Log'!H:H<>"Yes"),0)),"")
A18: B-100340 | B18: Khushboo Verma | C18: Female | D18: 2022 | E18: 9305602912 | F18: kv1954510@gmail.com | G18: Studying | H18: BA 3rd Year | I18: 3rd Year | L18: No Income | M18: Continue studying | N18: 0 | O18: 0 | P18: 31500 | R18: =IFERROR(N18+O18+P18,0) | Y18: =COUNTIF('Interaction Log'!A:A,A18) | Z18: =IFERROR(TEXT(MAXIFS('Interaction Log'!D:D,'Interaction Log'!A:A,A18),"dd-mmm-yy"),"") | AA18: =COUNTIFS('SSG Attendance Log'!A:A,A18,'SSG Attendance Log'!H:H,"Yes") | AB18: =COUNTIF('Crisis Log'!A:A,A18) | AC18: =IFERROR(INDEX('Crisis Log'!D:D,MATCH(1,('Crisis Log'!A:A=A18)*('Crisis Log'!H:H<>"Yes"),0)),"")
A19: B-100038 | B19: Lakshmi Verma | C19: Female | D19: 2022 | E19: 8858338861 | F19: laxmi.verma.motinagar@gamil.com | G19: Studying | L19: No Income | M19: Continue studying | N19: 50000 | O19: 96000 | P19: 24000 | R19: =IFERROR(N19+O19+P19,0) | Y19: =COUNTIF('Interaction Log'!A:A,A19) | Z19: =IFERROR(TEXT(MAXIFS('Interaction Log'!D:D,'Interaction Log'!A:A,A19),"dd-mmm-yy"),"") | AA19: =COUNTIFS('SSG Attendance Log'!A:A,A19,'SSG Attendance Log'!H:H,"Yes") | AB19: =COUNTIF('Crisis Log'!A:A,A19) | AC19: =IFERROR(INDEX('Crisis Log'!D:D,MATCH(1,('Crisis Log'!A:A=A19)*('Crisis Log'!H:H<>"Yes"),0)),"")
A20: B-100039 | B20: Kalpana Devi | C20: Female | D20: 2022 | E20: 9569788255 | F20: +91 95697 88255 | G20: Studying | L20: No Income | M20: Continue studying | N20: 50000 | O20: 96000 | P20: 24000 | R20: =IFERROR(N20+O20+P20,0) | Y20: =COUNTIF('Interaction Log'!A:A,A20) | Z20: =IFERROR(TEXT(MAXIFS('Interaction Log'!D:D,'Interaction Log'!A:A,A20),"dd-mmm-yy"),"") | AA20: =COUNTIFS('SSG Attendance Log'!A:A,A20,'SSG Attendance Log'!H:H,"Yes") | AB20: =COUNTIF('Crisis Log'!A:A,A20) | AC20: =IFERROR(INDEX('Crisis Log'!D:D,MATCH(1,('Crisis Log'!A:A=A20)*('Crisis Log'!H:H<>"Yes"),0)),"")
A21: B-100342 | B21: Khushboo Verma | C21: Female | D21: 2022 | E21: 9305602912 | F21: kv1954510@gmail.com | G21: Studying | L21: No Income | M21: Complete course and transition to work | N21: 10000 | O21: 72000 | P21: 12000 | R21: =IFERROR(N21+O21+P21,0) | Y21: =COUNTIF('Interaction Log'!A:A,A21) | Z21: =IFERROR(TEXT(MAXIFS('Interaction Log'!D:D,'Interaction Log'!A:A,A21),"dd-mmm-yy"),"") | AA21: =COUNTIFS('SSG Attendance Log'!A:A,A21,'SSG Attendance Log'!H:H,"Yes") | AB21: =COUNTIF('Crisis Log'!A:A,A21) | AC21: =IFERROR(INDEX('Crisis Log'!D:D,MATCH(1,('Crisis Log'!A:A=A21)*('Crisis Log'!H:H<>"Yes"),0)),"")
A22: B-100318 | B22: Manju Sharma | C22: Female | D22: 2015 | E22: 9076518353 | F22: manjusharma89898@gmail.com | G22: Studying and working | K22: Other | L22: Less than ₹10,000 | M22: Complete course and transition to work | N22: 0 | O22: 48000 | P22: 12000 | R22: =IFERROR(N22+O22+P22,0) | Y22: =COUNTIF('Interaction Log'!A:A,A22) | Z22: =IFERROR(TEXT(MAXIFS('Interaction Log'!D:D,'Interaction Log'!A:A,A22),"dd-mmm-yy"),"") | AA22: =COUNTIFS('SSG Attendance Log'!A:A,A22,'SSG Attendance Log'!H:H,"Yes") | AB22: =COUNTIF('Crisis Log'!A:A,A22) | AC22: =IFERROR(INDEX('Crisis Log'!D:D,MATCH(1,('Crisis Log'!A:A=A22)*('Crisis Log'!H:H<>"Yes"),0)),"")
A23: B-100324 | B23: Neetu Devi | C23: Female | D23: 2020 | E23: 8545008856 | F23: neetukumari8999@gmail.com | G23: Working | K23: Hospitality (hotel, restaurant, catering) | L23: ₹10,000 – ₹20,000 | M23: Continue working | N23: 0 | O23: 60000 | P23: 24000 | R23: =IFERROR(N23+O23+P23,0) | Y23: =COUNTIF('Interaction Log'!A:A,A23) | Z23: =IFERROR(TEXT(MAXIFS('Interaction Log'!D:D,'Interaction Log'!A:A,A23),"dd-mmm-yy"),"") | AA23: =COUNTIFS('SSG Attendance Log'!A:A,A23,'SSG Attendance Log'!H:H,"Yes") | AB23: =COUNTIF('Crisis Log'!A:A,A23) | AC23: =IFERROR(INDEX('Crisis Log'!D:D,MATCH(1,('Crisis Log'!A:A=A23)*('Crisis Log'!H:H<>"Yes"),0)),"")
A24: B-100332 | B24: Neha Verma | C24: Female | D24: 2022 | E24: 9058761589 | F24: - | G24: Studying | K24: Education or Training | L24: No Income | M24: Continue studying | N24: 0 | O24: 54000 | P24: 24000 | R24: =IFERROR(N24+O24+P24,0) | Y24: =COUNTIF('Interaction Log'!A:A,A24) | Z24: =IFERROR(TEXT(MAXIFS('Interaction Log'!D:D,'Interaction Log'!A:A,A24),"dd-mmm-yy"),"") | AA24: =COUNTIFS('SSG Attendance Log'!A:A,A24,'SSG Attendance Log'!H:H,"Yes") | AB24: =COUNTIF('Crisis Log'!A:A,A24) | AC24: =IFERROR(INDEX('Crisis Log'!D:D,MATCH(1,('Crisis Log'!A:A=A24)*('Crisis Log'!H:H<>"Yes"),0)),"")
A25: B-100037 | B25: Priya Jaiswal | C25: Female | D25: 2023 | E25: 7052696083 | F25: jaiswal.priya.lucknow@gmail.com | G25: Studying | L25: No Income | M25: Continue studying | N25: 30000 | O25: 96000 | P25: 24000 | R25: =IFERROR(N25+O25+P25,0) | Y25: =COUNTIF('Interaction Log'!A:A,A25) | Z25: =IFERROR(TEXT(MAXIFS('Interaction Log'!D:D,'Interaction Log'!A:A,A25),"dd-mmm-yy"),"") | AA25: =COUNTIFS('SSG Attendance Log'!A:A,A25,'SSG Attendance Log'!H:H,"Yes") | AB25: =COUNTIF('Crisis Log'!A:A,A25) | AC25: =IFERROR(INDEX('Crisis Log'!D:D,MATCH(1,('Crisis Log'!A:A=A25)*('Crisis Log'!H:H<>"Yes"),0)),"")
A26: B-100331 | B26: Rakhi Tiwari | C26: Female | D26: 2022 | E26: 9076518353 | F26: no | G26: Looking for a job | K26: Hospitality (hotel, restaurant, catering) | L26: No Income | M26: Complete course and transition to work | N26: 0 | O26: 96000 | P26: 18000 | R26: =IFERROR(N26+O26+P26,0) | Y26: =COUNTIF('Interaction Log'!A:A,A26) | Z26: =IFERROR(TEXT(MAXIFS('Interaction Log'!D:D,'Interaction Log'!A:A,A26),"dd-mmm-yy"),"") | AA26: =COUNTIFS('SSG Attendance Log'!A:A,A26,'SSG Attendance Log'!H:H,"Yes") | AB26: =COUNTIF('Crisis Log'!A:A,A26) | AC26: =IFERROR(INDEX('Crisis Log'!D:D,MATCH(1,('Crisis Log'!A:A=A26)*('Crisis Log'!H:H<>"Yes"),0)),"")
A27: B-100322 | B27: Roli Bhartiya | C27: Female | D27: 2020 | E27: 7398908668 | F27: bhartiyaroli535@gmail.com | G27: Studying | H27: MA | L27: No Income | M27: Complete course and transition to work | N27: 0 | O27: 48000 | P27: 24000 | R27: =IFERROR(N27+O27+P27,0) | Y27: =COUNTIF('Interaction Log'!A:A,A27) | Z27: =IFERROR(TEXT(MAXIFS('Interaction Log'!D:D,'Interaction Log'!A:A,A27),"dd-mmm-yy"),"") | AA27: =COUNTIFS('SSG Attendance Log'!A:A,A27,'SSG Attendance Log'!H:H,"Yes") | AB27: =COUNTIF('Crisis Log'!A:A,A27) | AC27: =IFERROR(INDEX('Crisis Log'!D:D,MATCH(1,('Crisis Log'!A:A=A27)*('Crisis Log'!H:H<>"Yes"),0)),"")
A28: B-100325 | B28: Saiba | C28: Female | D28: 2021 | E28: 8756593858 | F28: naazmakeup99@gmail.com | G28: Working | K28: Freelance or Gig work | L28: Less than ₹10,000 | M28: Job change or transition | N28: 0 | O28: 36000 | P28: 24000 | R28: =IFERROR(N28+O28+P28,0) | Y28: =COUNTIF('Interaction Log'!A:A,A28) | Z28: =IFERROR(TEXT(MAXIFS('Interaction Log'!D:D,'Interaction Log'!A:A,A28),"dd-mmm-yy"),"") | AA28: =COUNTIFS('SSG Attendance Log'!A:A,A28,'SSG Attendance Log'!H:H,"Yes") | AB28: =COUNTIF('Crisis Log'!A:A,A28) | AC28: =IFERROR(INDEX('Crisis Log'!D:D,MATCH(1,('Crisis Log'!A:A=A28)*('Crisis Log'!H:H<>"Yes"),0)),"")
A29: B-100327 | B29: Shivangi Pal | C29: Female | D29: 2020 | E29: 8604406588 | F29: palshivang710@gmail.com | G29: Studying and working | H29: BSC | K29: Healthcare or Care work | L29: ₹10,000 – ₹20,000 | M29: Continue working | N29: 20000 | O29: 60000 | P29: 24000 | R29: =IFERROR(N29+O29+P29,0) | Y29: =COUNTIF('Interaction Log'!A:A,A29) | Z29: =IFERROR(TEXT(MAXIFS('Interaction Log'!D:D,'Interaction Log'!A:A,A29),"dd-mmm-yy"),"") | AA29: =COUNTIFS('SSG Attendance Log'!A:A,A29,'SSG Attendance Log'!H:H,"Yes") | AB29: =COUNTIF('Crisis Log'!A:A,A29) | AC29: =IFERROR(INDEX('Crisis Log'!D:D,MATCH(1,('Crisis Log'!A:A=A29)*('Crisis Log'!H:H<>"Yes"),0)),"")
A30: B-100323 | B30: Shubhi Verma | C30: Female | D30: 2020 | E30: 8115565763 | F30: vermashubhi6o7@gmail.com | G30: Studying and working | K30: Hospitality (hotel, restaurant, catering) | L30: Less than ₹10,000 | M30: Complete course and transition to work | N30: 30000 | O30: 84000 | P30: 12000 | R30: =IFERROR(N30+O30+P30,0) | Y30: =COUNTIF('Interaction Log'!A:A,A30) | Z30: =IFERROR(TEXT(MAXIFS('Interaction Log'!D:D,'Interaction Log'!A:A,A30),"dd-mmm-yy"),"") | AA30: =COUNTIFS('SSG Attendance Log'!A:A,A30,'SSG Attendance Log'!H:H,"Yes") | AB30: =COUNTIF('Crisis Log'!A:A,A30) | AC30: =IFERROR(INDEX('Crisis Log'!D:D,MATCH(1,('Crisis Log'!A:A=A30)*('Crisis Log'!H:H<>"Yes"),0)),"")
A31: B-100034 | B31: Sneha yadav | C31: Female | D31: 2023 | E31: 8874878830 | F31: senha999yadav@gmail.com | G31: Studying | H31: BJMC | K31: Other | L31: No Income | M31: Complete course and transition to work | N31: 50000 | O31: 60000 | P31: 24000 | R31: =IFERROR(N31+O31+P31,0) | Y31: =COUNTIF('Interaction Log'!A:A,A31) | Z31: =IFERROR(TEXT(MAXIFS('Interaction Log'!D:D,'Interaction Log'!A:A,A31),"dd-mmm-yy"),"") | AA31: =COUNTIFS('SSG Attendance Log'!A:A,A31,'SSG Attendance Log'!H:H,"Yes") | AB31: =COUNTIF('Crisis Log'!A:A,A31) | AC31: =IFERROR(INDEX('Crisis Log'!D:D,MATCH(1,('Crisis Log'!A:A=A31)*('Crisis Log'!H:H<>"Yes"),0)),"")
